Workbook
Name _ftn1: podatki!$H$11
Name _ftn2: podatki!$H$12
Name _ftnref1: podatki!$H$6
Name _ftnref2: podatki!$H$7
Name _Hlk142562060: podatki!$H$6
Name IQ_CH: 110000
Name IQ_CQ: 5000
Name IQ_CY: 10000
Name IQ_DAILY: 500000
Name IQ_FH: 100000
Name IQ_FQ: 500
Name IQ_FY: 1000
Name IQ_LTM: 2000
Name IQ_MONTH: 15000
Name IQ_NTM: 6000
Name IQ_WEEK: 50000
Name IQ_YTD: 3000
Name Izbiradane: '1_Opis operacije'!#REF!
Name Izbiradane: #REF!
Name Izbiradane: #REF!
Name Izbiradane: '[1]Parkirišča za kolesa'!$A$63:$A$64
Name podatkisamoCPSobčine: '[2]PODATKI2-cps občine-aopara'!$A$2:$M$63

Sheet 1_Opis operacije
G11: Obrazec 1: Opis operacije in podatki o ukrepih
A36: Javni razpis za sofinanciranje ukrepov trajnostne mobilnosti
A37: v obdobju 2023–2029
A38: (oznaka: JR EKP UTM 2025)
A41: v okviru Programa evropske kohezijske politike v obdobju 2021–2027 v Sloveniji,
A42: prednostne naloge 5 »Trajnostna (čez)regionalna mobilnost in povezljivost«,
A43: specifičnega cilja RSO 3.2 »Razvoj in krepitev trajnostne, pametne in intermodalne nacionalne,
A44: regionalne in lokalne mobilnosti, odporne proti podnebnim spremembam,
A45: vključno z boljšim dostopom do omrežja TEN-T in čezmejno mobilnostjo«
B59: Vlagatelj: | C59: =B81 -> 0
B61: Naziv načrtovane operacije: | C61: =C93 -> 0
A65: Datum: | B65: =TODAY() -> 45901 | E65: Odgovorna oseba vlagatelja:
E66: =B87 -> 0
A79: 1.1 PODATKI O VLAGATELJU
A81: Polni naziv vlagatelja:
A82: Naslov vlagatelja:
A83: Matična številka vlagatelja:
A84: Davčna številka vlagatelja:
A85: BIC koda:
A86: IBAN:
A87: Ime in priimek zakonitega zastopnika vlagatelja:
A88: Ime in priimek kontaktne osebe vlagatelja:
A89: Elektronska pošta kontaktne osebe vlagatelja: | E89: Telefon kontaktne osebe vlagatelja:
A91: 1.2 PODATKI O OPERACIJI
A93: Naziv operacije:
A94: Ali pri izvedbi operacije sodelujejo konzorcijski partnerji - več občin*? | C94: izberi iz seznama
A95: Lokacija izvedbe operacije (občina, naselje, ulica/cesta):
A96: *V kolikor je odgovor DA, izpolnite tudi zavihek "2_Partnerji"
A98: Skladnost operacije s sprejeto Celostno prometno strategijo (CPS):
A99: Vrsta CPS: | C99: izberi iz seznama
A100: Datum sprejema CPS:
A101: Spletna povezava do sprejete CPS:
A103: Predviden začetek in zaključek izvajanja operacije:
A104: Datum začetka izvajanja operacije:
A105: Datum zaključka izvajanja operacije:
A107: Datum potrditve investicijske dokumentacije:
A108: Vrsta potrjene investicijske dokumentacije**: | C108: izberi iz seznama
A109: Št. sklepa potrditve investicijske dokumentacije:
A110: Datum potrditve investicijske dokumentacije:
A111: **zadnja stopnja investicijske dokumentacije, predpisana z UEM
A113: Namen in cilji operacije:
M114: NAMEN - navedite, zakaj ste se odločili za naložbo (motiv) oz. dolgoročni cilj/učinek, ki ga v občini želite doseči na predmetnem področju. Običajno izhaja iz vizije CPS. Npr. povečanje deleža kolesarjenja za 10 %, uporabe JPP za 5 % do leta 2030, itd. CILJI - navedite, kaj želite na tej lokaciji z naložbo doseči (merljivi, časovno opredeljivi kratkoročni učinki projekta, lahko izražen tudi s specifičnimi kazalniki učinka). Kateri rezultati bodo z naložbo doseženi? Kako boste to dosegli? Komu bodo rezultati namenjeni?
A118: Trenutno stanje:
A122: Opis operacije in posameznih ukrepov operacije***
A125: ***Vsi ukrepi operacije morajo imeti podlago v veljavni CPS.
A127: 1.3 KAZALNIKI OPERACIJE
A128: Specifični kazalniki učinka | E128: Okvir smotrnosti | F128: Izhodiščna vrednost | H128: Načrtovana vrednost | J128: Programska vrstica
F129: Vrednost | G129: Leto | H129: Vrednost | I129: Leto
A130: izberi iz seznama | E130: NE | F130: 0 | G130: 2025 | J130: 5/RSO3.2/KS/SLO
A131: izberi iz seznama | E131: NE | F131: 0 | G131: 2025 | J131: 5/RSO3.2/KS/SLO
A132: izberi iz seznama | E132: NE | F132: 0 | G132: 2025 | J132: 5/RSO3.2/KS/SLO
A133: izberi iz seznama | E133: NE | F133: 0 | G133: 2025 | J133: 5/RSO3.2/KS/SLO
A134: izberi iz seznama | E134: NE | F134: 0 | G134: 2025 | J134: 5/RSO3.2/KS/SLO
A135: izberi iz seznama | E135: NE | F135: 0 | G135: 2025 | J135: 5/RSO3.2/KS/SLO
A136: izberi iz seznama | E136: NE | F136: 0 | G136: 2025 | J136: 5/RSO3.2/KS/SLO
A137: izberi iz seznama | E137: NE | F137: 0 | G137: 2025 | J137: 5/RSO3.2/KS/SLO
A138: izberi iz seznama | E138: NE | F138: 0 | G138: 2025 | J138: 5/RSO3.2/KS/SLO
A139: izberi iz seznama | E139: NE | F139: 0 | G139: 2025 | J139: 5/RSO3.2/KS/SLO
A142: 1.4 FINANČNA KONSTRUKCIJA OPERACIJE PO VRSTAH STROŠKOV IN LETIH
A144: Predstavi se seštevek stroškov vseh posameznih ukrepov v okviru operacije iz zavihka "3_Ukrepi", in sicer po upravičenih in neupravičenih stroških glede na omejitve javnega razpisa ter razdeljenih po letih. Dodatno se prišteje še ostale stroške operacije (stroški informiranja in komuniciranja, stroški storitev zunanjih izvajalcev, DDV). Pri planiranju stroškov upoštevajte dinamiko nastanka stroškov po letih na občini oz. občinah, v primeru konzorcija občin.
A146: Vrsta stroška | C146: SKUPAJ | D146: 2023 | E146: 2024 | F146: 2025 | G146: 2026 | H146: 2027 | I146: 2028 | J146: 2029 | K146: Kontrola1 | L146: FALSE
A147: 1.1.2 Gradnja nepremičnin | B147: Upravičeni | C147: ='3_Ukrepi'!D30+'3_Ukrepi'!D57+'3_Ukrepi'!D83+'3_Ukrepi'!D113+'3_Ukrepi'!D139+'3_Ukrepi'!D165 -> 0 | K147: =SUM(D147:J147)-C147 -> 0 | L147: FALSE
B148: Neupravičeni | C148: ='3_Ukrepi'!E30+'3_Ukrepi'!E57+'3_Ukrepi'!E83+'3_Ukrepi'!E113+'3_Ukrepi'!E139+'3_Ukrepi'!E165 -> 0 | K148: =SUM(D148:J148)-C148 -> 0 | L148: FALSE
A149: 1.3 Oprema in druga opredmetena osnovna sredstva (oprema) | B149: Upravičeni | C149: ='3_Ukrepi'!D31+'3_Ukrepi'!D58+'3_Ukrepi'!D84+'3_Ukrepi'!D114+'3_Ukrepi'!D140+'3_Ukrepi'!D166 -> 0 | K149: =SUM(D149:J149)-C149 -> 0 | L149: FALSE
B150: Neupravičeni | C150: ='3_Ukrepi'!E31+'3_Ukrepi'!E58+'3_Ukrepi'!E84+'3_Ukrepi'!E114+'3_Ukrepi'!E140+'3_Ukrepi'!E166 -> 0 | K150: =SUM(D150:J150)-C150 -> 0
A151: 1.4 Investicije v neopredmetena sredstva | B151: Upravičeni | C151: ='3_Ukrepi'!D32+'3_Ukrepi'!D59+'3_Ukrepi'!D85+'3_Ukrepi'!D115+'3_Ukrepi'!D141+'3_Ukrepi'!D167 -> 0 | K151: =SUM(D151:J151)-C151 -> 0
B152: Neupravičeni | C152: ='3_Ukrepi'!E32+'3_Ukrepi'!E59+'3_Ukrepi'!E85+'3_Ukrepi'!E115+'3_Ukrepi'!E141+'3_Ukrepi'!E167 -> 0 | K152: =SUM(D152:J152)-C152 -> 0
A153: 5. Stroški informiranja in komuniciranja | B153: Upravičeni | C153: =SUM(D153:J153) -> 0 | K153: =SUM(D153:J153)-C153 -> 0
B154: Neupravičeni | C154: =SUM(D154:J154) -> 0 | K154: =SUM(D154:J154)-C154 -> 0
A155: 7. Stroški storitev zunanjih izvajalcev | B155: Upravičeni | C155: =SUM(D155:J155) -> 0 | K155: =SUM(D155:J155)-C155 -> 0
B156: Neupravičeni | C156: =SUM(D156:J156) -> 0 | K156: =SUM(D156:J156)-C156 -> 0
A157: 6.1 DDV | B157: Upravičeni | C157: =SUM(D157:J157) -> 0 | K157: =SUM(D157:J157)-C157 -> 0 | L157: FALSE
B158: Neupravičeni | C158: =SUM(D158:J158) -> 0 | K158: =SUM(D158:J158)-C158 -> 0
A159: SKUPAJ UPRAVIČENI STROŠKI | C159: =C147+C149+C151+C157+C153+C155 -> 0 | D159: =D147+D149+D151+D157+D153+D155 -> 0 | E159: =E147+E149+E151+E157+E153+E155 -> 0 | F159: =F147+F149+F151+F157+F153+F155 -> 0 | G159: =G147+G149+G151+G157+G153+G155 -> 0 | H159: =H147+H149+H151+H157+H153+H155 -> 0 | I159: =I147+I149+I151+I157+I153+I155 -> 0 | J159: =J147+J149+J151+J157+J153+J155 -> 0 | K159: =SUM(D159:J159)-C159 -> 0
A160: SKUPAJ NEUPRAVIČENI STROŠKI3 | C160: =C148+C150+C152+C158+C154+C156 -> 0 | D160: =D148+D150+D152+D158+D154+D156 -> 0 | E160: =E148+E150+E152+E158+E154+E156 -> 0 | F160: =F148+F150+F152+F158+F154+F156 -> 0 | G160: =G148+G150+G152+G158+G154+G156 -> 0 | H160: =H148+H150+H152+H158+H154+H156 -> 0 | I160: =I148+I150+I152+I158+I154+I156 -> 0 | J160: =J148+J150+J152+J158+J154+J156 -> 0 | K160: =SUM(D160:J160)-C160 -> 0
A161: SKUPAJ CELOTNA VREDNOST OPERACIJE2 | C161: =SUM(C159:C160) -> 0 | D161: =D159+D160 -> 0 | E161: =E159+E160 -> 0 | F161: =F159+F160 -> 0 | G161: =G159+G160 -> 0 | H161: =H159+H160 -> 0 | I161: =I159+I160 -> 0 | J161: =J159+J160 -> 0 | K161: =C161-SUM(D161:J161) -> 0
A162: Predvidena višina sofinanciranja operacije iz Kohezijskega sklada | C162: =C159*0.8 -> 0 | K162: =IF(K161=0,"OK","NAPAKA") -> OK
A163: EU podpora - KS (85 %) | C163: =C162*0.85 -> 0
A164: RS prispevek - KS (15 %) | C164: =C162*0.15 -> 0
A166: KONTROLA omejitev priznanih upravičenih stroškov:
A167: Priznani upravičeni stroški operacije, ki se upoštevajo za izračun števila točk po merilih za ocenjevanje vlog (1.1.2 Gradnja nepremičnin + 1.3 Oprema in druga opredmetena sredstva): | C167: =J168+J169 -> 0 | E167: Vrsta stroška po šifrantu OU | J167: Višina priznanih upravičenih stroškov | K167: Višina sofinanciranja iz Kohezijskega sklada
A168: Ali znašajo priznani upravičeni stroški za vrsto stroška 1.4 Investicije v neopredmetena sredstva največ 20 % priznanih stroškov operacije in ne več kot 50.000,00 EUR? | C168: =IF(OR(J170>0.2*J174,J170>50000),"NE","DA") -> DA | E168: =A147 -> 1.1.2 Gradnja nepremičnin | J168: =C147 -> 0 | K168: =J168*0.8 -> 0
E169: =A149 -> 1.3 Oprema in druga opredmetena osnovna sredstva (oprema) | J169: =C149 -> 0 | K169: =J169*0.8 -> 0
E170: =A151 -> 1.4 Investicije v neopredmetena sredstva | J170: =C151 -> 0 | K170: =J170*0.8 -> 0
A171: Ali znašajo priznani upravičeni stroški za vrsto stroška 5. Stroški informiranja in komuniciranja največ 10 % priznanih stroškov operacij? | C171: =IF(J171>0.1*J174,"NE","DA") -> DA | E171: 5. Stroški informiranja in komuniciranja | J171: =C153 -> 0 | K171: =J171*0.8 -> 0
E172: =A155 -> 7. Stroški storitev zunanjih izvajalcev | J172: =C155 -> 0 | K172: =J172*0.8 -> 0
E173: 6.1. DDV | J173: =C157 -> 0 | K173: =J173*0.8 -> 0
E174: SKUPAJ | J174: =SUM(J168:J173) -> 0 | K174: =SUM(K168:K173) -> 0
A176: 1.5 FINANČNA KONSTRUKCIJA OPERACIJE
A177: Za črpanje sredstev EU v tekočem proračunskem letu mora biti ZZI na MOPE posredovan najkasneje do 15. novembra tekočega leta. Za leto 2025 se tako sešteje vse nastale izdatke do leta 2025 in izdatke, ki bodo nastali v letu 2025, in bodo vključeni v ZZI, ki bo oddan do 15. oktobra 2025. Izdatki operacije, nastali po tem datumu, se vključijo v naslednji ZZI v letu 2026. Enak princip velja za vsa ostala leta, razen za leto 2029, saj se obdobje upravičenosti stroškov in izdatkov zaključi 31. 3. 2029. Zadnji ZZI mora biti izstavljen najkasneje do 30. 6. 2029, da bi bilo izplačilo sredstev sofinanciranja izvedeno do 30. 9. 2029.
A178: ZzI po letih | B178: Razdelitev stroškov | F178: Skupaj | G178: Predvidena višina sofinanciranja z EU sredstvi | H178: Lastna udeležba - občina | I178: Drugi viri
B179: Priznani upravičeni stroški4 | C179: Neupravičeni stroški - občina5 | D179: Neupravičeni stroški - drugi viri6
A180: 2025 | F180: =SUM(B180:E180) -> 0 | G180: =B180*0.8 -> 0 | H180: =B180*0.2+C180 -> 0 | I180: =D180 -> 0
A181: 2026 | F181: =SUM(B181:E181) -> 0 | G181: =B181*0.8 -> 0 | H181: =B181*0.2+C181 -> 0 | I181: =D181 -> 0
A182: 2027 | F182: =SUM(B182:E182) -> 0 | G182: =B182*0.8 -> 0 | H182: =B182*0.2+C182 -> 0 | I182: =D182 -> 0
A183: 2028 | F183: =SUM(B183:E183) -> 0 | G183: =B183*0.8 -> 0 | H183: =B183*0.2+C183 -> 0 | I183: =D183 -> 0
A184: 2029 | F184: =SUM(B184:E184) -> 0 | G184: =B184*0.8 -> 0 | H184: =B184*0.2+C184 -> 0 | I184: =D184 -> 0
A185: SKUPAJ | B185: =SUM(B180:B184) -> 0 | C185: =SUM(C180:C184) -> 0 | D185: =SUM(D180:D184) -> 0 | F185: =SUM(F180:F184) -> 0 | G185: =SUM(G180:G184) -> 0 | H185: =SUM(H180:H184) -> 0 | I185: =SUM(I180:J184) -> 0
A186: Kontrola1 | B186: =B185-C159 -> 0 | C186: =C185-C160+D185 -> 0 | D186: =D185-C160+C185 -> 0 | F186: =F185-C161 -> 0 | G186: =G185-C159*0.8 -> 0 | H186: =H185-(C159*0.2+C160-D185) -> 0 | I186: =I185-(C160-C185) -> 0
A188: Razdelitev po virih in letih | B188: 2025 | C188: 2026 | D188: 2027 | E188: 2028 | F188: 2029 | G188: Skupaj | J188: Kontrola1
...

Sheet 2_Partnerji
A2: 2. PODATKI O PARTNERJIH
A4: PARTNER 1
A6: Polni naziv subjekta
A7: Naslov sedeža subjekta
A8: Davčna številka/ID številka za DDV
A9: Matična številka
A10: Zakoniti zastopnik subjekta (ime, priimek, položaj/funkcija)
A11: Kontaktna oseba subjekta (ime, priimek, položaj/funkcija)
A12: Elektronski naslov kontaktne osebe
A13: Telefonska številka kontaktne osebe
A14: Datum sklepa o potrditvi izdelane OCPS na občinskem oz. mestnem svetu (DD.MM.LLLL)
A15: Spletna povezava do sprejete CPS
... A54: Spletna povezava do sprejete CPS

Sheet 3_Ukrepi
C1: 3. OPIS UKREPOV IN IZRAČUN PRIZNANIH UPRAVIČENIH STROŠKOV PO UKREPIH
A2: 3B
A3: pešci | C3: 3.1 CELOVITA PREUREDITEV ULIC IN CEST
A4: pločniki | C4: Naziv ukrepa:
C6: Opis ukrepa:
C9: Posebni pogoji za vse vrste podukrepov znotraj ukrepa | D9: Utemeljitev z referenco na dokument, poglavje in stran, ki dokazuje izpolnjevanje pogoja
C10: Oblikovanje ulice kot javnega prostora
C11: Izboljševanje pogojev za pešce in kolesarje ter JPP
C12: Odmiki ovir od površin za pešce (in/ali kolesarje)
C13: Omejitev hitrosti
C14: Umirjanje prometa
C15: Parkiranje
C17: Posebni pogoji za podukrep "vzpostavitev kolesarske ulice/ceste" | D17: Utemeljitev z referenco na dokument, poglavje in stran, ki dokazuje izpolnjevanje pogoja
C18: Zagotovljena zveznost kolesarske ulice/ceste
C19: Zagotovljene ločene površine za pešce
C20: Omejitev tranzita motornega prometa
C21: Minimalna širina povezave
C23: Posebni pogoji za podukrep "območje skupnega prometnega prostora" | D23: Utemeljitev z referenco na dokument, poglavje in stran, ki dokazuje izpolnjevanje pogoja
C24: Omejitev hitrosti
C25: Prometna signalizacija
C26: Lokacija
C27: Parkiranje
C29: Vrste stroškov | D29: Upravičeni stroški | E29: Neupravičeni stroški | F29: Skupaj
C30: Gradnja nepremičnin | F30: =D30+E30 -> 0
C31: Oprema in druga opredmetena osnovna sredstva | F31: =D31+E31 -> 0
C32: Investicije v neopredmetena sredstva | F32: =D32+E32 -> 0
C33: SKUPAJ CELOTNA VREDNOST UKREPA | F33: =F30+F31+F32 -> 0
C34: Skupaj priznani upravičeni stroški | F34: =D30+D31+D32 -> 0
C35: Gradnja nepremičnin - brez komunalne infrastrukture | F35: =D35+E35 -> 0
C36: Gradnja nepremičnin - samo komunalna infrastruktura | F36: =D36+E36 -> 0
C37: Delež priznanih upravičenih stroškov komunalne infrastrukture znotraj ukrepa | F37: =D36/(D35+D31+D32) -> #DIV/0!
C38: Ustreznost deleža | F38: =IF(F37>50%,"NE","DA") -> #DIV/0!
C43: 3.2 UREDITEV NAMENSKIH POVRŠIN ZA JAVNI POTNIŠKI PROMET
C44: Naziv ukrepa:
B45: 1
B46: 2 | C46: Opis ukrepa:
B47: 3
B48: 4
B49: 5 | C49: Posebni pogoji za ukrep »ureditev namenskih površin za javni potniški promet (JPP)« | D49: Utemeljitev z referenco na dokument, poglavje in stran, ki dokazuje izpolnjevanje pogoja
C50: Oprema avtobusne postaje
C51: Dostop do avtobusne postaje/postajališča
B52: 1 | C52: Avtobusno postajališče na vozišču
C53: Oprema avtobusnega postajališča
B54: 2 | C54: Prehodnost ceste do avtobusne postaje/postajališča
B55: 4
B56: 5 | C56: Vrste stroškov | D56: Upravičeni stroški | E56: Neupravičeni stroški | F56: Skupaj
C57: Gradnja nepremičnin | F57: =D57+E57 -> 0
C58: Oprema in druga opredmetena osnovna sredstva | F58: =D58+E58 -> 0
C59: Investicije v neopredmetena sredstva | F59: =D59+E59 -> 0
C60: SKUPAJ CELOTNA VREDNOST UKREPA | F60: =F57+F58+F59 -> 0
C61: Skupaj priznani upravičeni stroški | F61: =D57+D58+D59 -> 0
C62: Gradnja nepremičnin - brez komunalne infrastrukture | F62: =D62+E62 -> 0
C63: Gradnja nepremičnin - samo komunalna infrastruktura | F63: =D63+E63 -> 0
C64: Delež komunalne infrastrukture znotraj ukrepa | F64: =D63/(D62+D58+D59) -> #DIV/0!
C65: Ustreznost deleža | F65: =IF(F64>50%,"NE","DA") -> #DIV/0!
C68: 3.3 INFRASTRUKTURA ZA PEŠCE
C69: Naziv ukrepa:
C71: Opis ukrepa:
C74: Posebni pogoji za ukrep »infrastruktura za pešce« | D74: Utemeljitev z referenco na dokument, poglavje in stran, ki dokazuje izpolnjevanje pogoja
C75: Kakovost in smiselnost povezave
C76: Minimalna širina
C77: Univerzalno oblikovanje
C78: Prehodnost cest
C79: Odmiki ovir od površin za pešce (in/ali kolesarje)
C80: Obojestranska povezava in dostop do infrastrukture
C82: Vrste stroškov | D82: Upravičeni stroški | E82: Neupravičeni stroški | F82: Skupaj
C83: Gradnja nepremičnin | F83: =D83+E83 -> 0
C84: Oprema in druga opredmetena osnovna sredstva | F84: =D84+E84 -> 0
C85: Investicije v neopredmetena sredstva | F85: =D85+E85 -> 0
C86: SKUPAJ CELOTNA VREDNOST UKREPA | F86: =F83+F84+F85 -> 0
C87: Skupaj priznani upravičeni stroški | F87: =D83+D84+D85 -> 0
C88: Gradnja nepremičnin - brez komunalne infrastrukture | F88: =D88+E88 -> 0
C89: Gradnja nepremičnin - samo komunalna infrastruktura | F89: =D89+E89 -> 0
C90: Delež komunalne infrastrukture znotraj ukrepa | F90: =D89/(D88+D84+D85) -> #DIV/0!
C91: Ustreznost deleža | F91: =IF(F90>50%,"NE","DA") -> #DIV/0!
C95: 3.4 INFRASTRUKTURA ZA KOLESARJE - KOLESARSKE POVEZAVE
C96: Naziv ukrepa:
C98: Opis ukrepa:
C101: Posebni pogoji za ukrep »infrastruktura za kolesarje - kolesarske povezave« | D101: Utemeljitev z referenco na dokument, poglavje in stran, ki dokazuje izpolnjevanje pogoja
C102: Izdelan koncept kolesarske povezave in dostop do infrastrukture
C103: Neposrednost kolesarske povezave
C104: Udobnost kolesarske povezave (križanja)
C105: Udobnost kolesarske povezave (uvozi)
C106: Odmiki ovir od površin za kolesarje (ali pešce)
C107: Najmanjši dopustni polmeri krožnih lokov v križiščih
C108: Števec kolesarjev
C109: Širina kolesarskih površin
C112: Vrste stroškov | D112: Upravičeni stroški | E112: Neupravičeni stroški | F112: Skupaj
C113: Gradnja nepremičnin | F113: =D113+E113 -> 0
C114: Oprema in druga opredmetena osnovna sredstva | F114: =D114+E114 -> 0
C115: Investicije v neopredmetena sredstva | F115: =D115+E115 -> 0
C116: SKUPAJ CELOTNA VREDNOST UKREPA | F116: =F113+F114+F115 -> 0
C117: Skupaj priznani upravičeni stroški | F117: =D113+D114+D115 -> 0
C118: Gradnja nepremičnin - brez komunalne infrastrukture | F118: =D118+E118 -> 0
C119: Gradnja nepremičnin - samo komunalna infrastruktura | F119: =D119+E119 -> 0
C120: Delež komunalne infrastrukture znotraj ukrepa | F120: =D119/(D118+D114+D115) -> #DIV/0!
C121: Ustreznost deleža | F121: =IF(F120>50%,"NE","DA") -> #DIV/0!
C124: 3.5 INFRASTRUKTURA ZA KOLESARJE - PARKIRIŠČA ZA KOLESA
C125: Naziv ukrepa:
C127: Opis ukrepa:
...

Sheet 4_Finančna_vrzel
A1: 4. IZRAČUN FINANČNE VRZELI
A2: Javni razpis za sofinanciranje ukrepov trajnostne mobilnosti v obdobju 2023–2029 - Kohezijski sklad
A3: Naziv operacije:
A4: VREDNOSTI V STALNIH CENAH (v EUR) | H4: DISKONTIRANE VREDNOSTI (v EUR) | N4: 0.04
A5: Leto (zap.št.) | B5: Leto (letnica) | C5: Investicijski stroški v stalnih cenah | D5: Operativni stroški | E5: Prihodki | F5: Ostanek vrednosti | G5: Neto denarni tok | H5: Leto (zap.št.) | I5: Leto (letnica) | J5: Investicijski stroški | K5: Operativni stroški | L5: Prihodki | M5: Ostanek vrednosti | N5: Neto denarni tok
A6: 0 | B6: 2024 | G6: =-C6-D6+E6+F6 -> 0 | H6: =A6 -> 0 | I6: =B6 -> 2024 | J6: =C6/POWER(1+$N$4,A6) -> 0 | K6: =D6/POWER(1+$N$4,A6) -> 0 | L6: =E6/POWER(1+$N$4,A6) -> 0 | M6: =F6/POWER(1+$N$4,A6) -> 0 | N6: =-J6-K6+L6+M6 -> 0
A7: 1 | B7: 2025 | G7: =-C7-D7+E7+F7 -> 0 | H7: =A7 -> 1 | I7: =B7 -> 2025 | J7: =C7/POWER(1+$N$4,A7) -> 0 | K7: =D7/POWER(1+$N$4,A7) -> 0 | L7: =E7/POWER(1+$N$4,A7) -> 0 | M7: =F7/POWER(1+$N$4,A7) -> 0 | N7: =-J7-K7+L7+M7 -> 0
A8: 2 | B8: 2026 | G8: =-C8-D8+E8+F8 -> 0 | H8: =A8 -> 2 | I8: =B8 -> 2026 | J8: =C8/POWER(1+$N$4,A8) -> 0 | K8: =D8/POWER(1+$N$4,A8) -> 0 | L8: =E8/POWER(1+$N$4,A8) -> 0 | M8: =F8/POWER(1+$N$4,A8) -> 0 | N8: =-J8-K8+L8+M8 -> 0
A9: 3 | B9: 2027 | G9: =-C9-D9+E9+F9 -> 0 | H9: =A9 -> 3 | I9: =B9 -> 2027 | J9: =C9/POWER(1+$N$4,A9) -> 0 | K9: =D9/POWER(1+$N$4,A9) -> 0 | L9: =E9/POWER(1+$N$4,A9) -> 0 | M9: =F9/POWER(1+$N$4,A9) -> 0 | N9: =-J9-K9+L9+M9 -> 0
A10: 4 | B10: 2028 | G10: =-C10-D10+E10+F10 -> 0 | H10: =A10 -> 4 | I10: =B10 -> 2028 | J10: =C10/POWER(1+$N$4,A10) -> 0 | K10: =D10/POWER(1+$N$4,A10) -> 0 | L10: =E10/POWER(1+$N$4,A10) -> 0 | M10: =F10/POWER(1+$N$4,A10) -> 0 | N10: =-J10-K10+L10+M10 -> 0
A11: 5 | B11: 2029 | G11: =-C11-D11+E11+F11 -> 0 | H11: =A11 -> 5 | I11: =B11 -> 2029 | J11: =C11/POWER(1+$N$4,A11) -> 0 | K11: =D11/POWER(1+$N$4,A11) -> 0 | L11: =E11/POWER(1+$N$4,A11) -> 0 | M11: =F11/POWER(1+$N$4,A11) -> 0 | N11: =-J11-K11+L11+M11 -> 0
A12: 6 | B12: 2030 | G12: =-C12-D12+E12+F12 -> 0 | H12: =A12 -> 6 | I12: =B12 -> 2030 | J12: =C12/POWER(1+$N$4,A12) -> 0 | K12: =D12/POWER(1+$N$4,A12) -> 0 | L12: =E12/POWER(1+$N$4,A12) -> 0 | M12: =F12/POWER(1+$N$4,A12) -> 0 | N12: =-J12-K12+L12+M12 -> 0
A13: 7 | B13: 2031 | G13: =-C13-D13+E13+F13 -> 0 | H13: =A13 -> 7 | I13: =B13 -> 2031 | J13: =C13/POWER(1+$N$4,A13) -> 0 | K13: =D13/POWER(1+$N$4,A13) -> 0 | L13: =E13/POWER(1+$N$4,A13) -> 0 | M13: =F13/POWER(1+$N$4,A13) -> 0 | N13: =-J13-K13+L13+M13 -> 0
A14: 8 | B14: 2032 | G14: =-C14-D14+E14+F14 -> 0 | H14: =A14 -> 8 | I14: =B14 -> 2032 | J14: =C14/POWER(1+$N$4,A14) -> 0 | K14: =D14/POWER(1+$N$4,A14) -> 0 | L14: =E14/POWER(1+$N$4,A14) -> 0 | M14: =F14/POWER(1+$N$4,A14) -> 0 | N14: =-J14-K14+L14+M14 -> 0
A15: 9 | B15: 2033 | G15: =-C15-D15+E15+F15 -> 0 | H15: =A15 -> 9 | I15: =B15 -> 2033 | J15: =C15/POWER(1+$N$4,A15) -> 0 | K15: =D15/POWER(1+$N$4,A15) -> 0 | L15: =E15/POWER(1+$N$4,A15) -> 0 | M15: =F15/POWER(1+$N$4,A15) -> 0 | N15: =-J15-K15+L15+M15 -> 0
A16: 10 | B16: 2034 | G16: =-C16-D16+E16+F16 -> 0 | H16: =A16 -> 10 | I16: =B16 -> 2034 | J16: =C16/POWER(1+$N$4,A16) -> 0 | K16: =D16/POWER(1+$N$4,A16) -> 0 | L16: =E16/POWER(1+$N$4,A16) -> 0 | M16: =F16/POWER(1+$N$4,A16) -> 0 | N16: =-J16-K16+L16+M16 -> 0
A17: 11 | B17: 2035 | G17: =-C17-D17+E17+F17 -> 0 | H17: =A17 -> 11 | I17: =B17 -> 2035 | J17: =C17/POWER(1+$N$4,A17) -> 0 | K17: =D17/POWER(1+$N$4,A17) -> 0 | L17: =E17/POWER(1+$N$4,A17) -> 0 | M17: =F17/POWER(1+$N$4,A17) -> 0 | N17: =-J17-K17+L17+M17 -> 0
... A38: 32 | B38: 2056 | G38: =-C38-D38+E38+F38 -> 0 | H38: =A38 -> 32 | I38: =B38 -> 2056 | J38: =C38/POWER(1+$N$4,A38) -> 0 | K38: =D38/POWER(1+$N$4,A38) -> 0 | L38: =E38/POWER(1+$N$4,A38) -> 0 | M38: =F38/POWER(1+$N$4,A38) -> 0 | N38: =-J38-K38+L38+M38 -> 0
B39: Skupaj | C39: =SUM(C6:C38) -> 0 | D39: =SUM(D6:D38) -> 0 | E39: =SUM(E6:E38) -> 0 | F39: =SUM(F6:F38) -> 0 | G39: =SUM(G6:G38) -> 0 | I39: Skupaj | J39: =SUM(J6:J38) -> 0 | K39: =SUM(K6:K38) -> 0 | L39: =SUM(L6:L38) -> 0 | M39: =SUM(M6:M38) -> 0 | N39: =SUM(N6:N38) -> 0
K41: če je DNR>0: | L41: če je DNR=<0:
E42: v EUR | I42: 1a) Najvišji upravičeni izdatki (EE=DIC-DNR): | K42: =ROUND(E45-E46,2) -> 0 | L42: =E45-E46 -> 0
A43: Skupni investicijski stroški (nediskontirani) | E43: =C39 -> 0 | I43: 1b) Finančna vrzel (R=EE/DIC): | K43: =ROUND(K42/E45,4) -> #DIV/0! | L43: 1
A44: Od tega upravičeni stroški skupaj - v TEKOČIH cenah* | I44: 2) Izračun pripadajočega zneska (DA=EC*R): | K44: =ROUND(E44*K43*0.8,2) -> #DIV/0! | L44: =ROUND(L43*E44*0.8,2) -> 0
A45: Diskontirani investicijski stroški (DIC) | E45: =J39 -> 0 | I45: 3a) Najvišja stopnja sofinanciranja EU (CRpa): | K45: 1 | L45: 1
A46: Diskontirani neto prihodki (DNR) | E46: =L39+M39-K39 -> 0 | I46: 3b) Izračun najvišjega zneska EU (DA*Crpa): | K46: =ROUNDDOWN(K44*K45,2) -> #DIV/0! | L46: =L44*L45 -> 0
A48: *vpišejo se priznani upravičeni stroški na ravni celotne investicije

Sheet Navodila
A3: NAVODILA ZA IZPOLNJEVANJE OBRAZCA 1
A5: Zavihek 1: Opis operacije
A6: Izpolnite podatke, ki se nanašajo na vlagatelja in načrtovano operacijo, ki je predmet vloge. Določene celice so zaklenjene in oblikovane tako, da se nekateri podatki samodejno prenesejo oz. izračunajo. Izpolnjujete le celice, ki so obarvane z zeleno barvo. Na koncu zavihka je podana tudi izjava, katero z lastnoročnim podpisom in žigom oziroma z elektronskim podpisom potrdi in podpiše zakoniti zastopnik vlagatelja.
A8: Zavihek 2: Partnerji
A9: Navedite podatke vseh partnerjev, ki skupaj z vodilno občino sodelujejo v konzorciju. Obrazec omogoča vnos do 4 partnerjev, po potrebi dodajte dodatne vrstice. Izpolnjujete le celice, ki so obarvane z zeleno barvo. V primeru, da občina na javnem razpisu nastopa samostojno, zavihka ni treba izpolnjevati.
A11: Zavihek 3: Ukrepi
A12: Poimenujte in opišite posamezen ukrep, ki je predmet operacije. Za vsak ukrep utemeljite izpolnjevanje posebnih pogojev ter izpolnite podatke o stroških po posameznih vrstah stroškov. Izpolnjujete le celice, ki so obarvane z zeleno barvo.
A14: Zavihek 4: Finančna vrzel
A15: V primeru, da se na ravni operacije po njenem zaključku pričakuje ustvarjanje prihodkov in jih je mogoče objektivno oceniti, je potrebno izračunati stopnjo finančne vrzeli operacije. Pri tem se smiselno uporabljajo smernice Evropske komisije »Economic Appraisal Vademecum 2021-2027 - General Principles and Sector Applications«*. Operacija, ki ustvarja prihodek, je vsaka operacija, ki ustvarja »neto prihodek« po njenem zaključku. »Neto prihodek« pomeni prilive denarnih sredstev, ki jih neposredno plačajo uporabniki za blago ali storitve, ki jih zagotavlja operacija, kot so pristojbine, ki jih neposredno krijejo uporabniki za uporabo infrastrukture, prodajo ali najem zemljišč ali stavb, ali izplačila za storitve, brez obratovalnih stroškov in stroškov nadomestila za kratkotrajne naprave, nastalih v referenčnem obdobju operacije. Za izračun finančne vrzeli in določitev najvišjega zneska sofinanciranja so relevantni neto prihodki, ki se določijo kot razlika med prihodki in stroški, pri čemer se upošteva referenčno obdobje, ustrezno za sektor ali podsektor, ki se nanaša na operacijo. V primeru, da finančna vrzel izkazuje upravičenost do nižje ravni pomoči EU, kot to določa javni razpis, se za določitev zneska sofinanciranja upošteva stopnja sofinanciranja iz izračuna finančne vrzeli. Izpolnjujete le celice, ki so obarvane z rumeno barvo.
A16: *»Economic Appraisal Vademecum 2021-2027 - General Principles and Sector Applications«
A18: V primeru morebitnih vprašanj v zvezi z izpolnjevanjem obrazca se obrnite na kontaktni elektronski naslov za javni razpis: jr-utm.mope@gov.si

Sheet Vrste stroškov OU
A2: VRSTE STROŠKOV - ŠIFRANT OU
A4: Šifra | B4: Naziv
A5: 1 | B5: Investicije
A6: 1.1 | B6: Nakup in gradnja nepremičnin
A7: 1.1.1 | B7: Nakup zgradb
A8: 1.1.1.1 | B8: Nakup poslovnih stavb
A9: 1.1.2 | B9: Gradnja nepremičnin
A10: 1.1.2.1 | B10: Investicijsko vzdrževanje in adaptacije
A11: 1.1.2.2 | B11: Obnove
A12: 1.1.2.3 | B12: Študija o izvedljivosti projekta
A13: 1.1.2.4 | B13: Investicijski nadzor
A14: 1.1.2.5 | B14: Investicijski inženiring
A15: 1.1.2.6 | B15: Načrt in druga projektna dokumentacija
A16: 1.1.2.7 | B16: Plačilo nadomestila za spremembo namembnosti zemljišč
A17: 1.1.2.8 | B17: Analize, študije in načrti z informacijskega področja
... A46: 1.PS | B46: Pavšalna stopnja
A48: 2 | B48: Stroški uporabe osnovnih sredstev
A49: 2.1 | B49: Amortizacija nepremičnin in opreme
A50: 2.PS | B50: Pavšalna stopnja
A52: 3 | B52: Stroški plač in povračil v zvezi z delom
A53: 3.1 | B53: Stroški plač
A54: 3.1.1 | B54: Stroški plač-prispevki
A55: 3.2 | B55: Stroški za službena potovanja
A56: 3.2.1 | B56: Hotelske in restavracijske storitve v državi
A57: 3.2.2 | B57: Stroški prevoza v državi
A58: 3.2.3 | B58: Hotelske in restavracijske storitve v tujini
A59: 3.2.4 | B59: Stroški prevoza v tujini
A60: 3.2.5 | B60: Drugi izdatki za službena potovanja
A61: 3.3 | B61: Prispevki delodajalcev za socialno varnost
A62: 3.PS | B62: Pavšalna stopnja
A64: 4 | B64: Posredni stroški
A65: 4.1 | B65: Stroški električne energije
A66: 4.2 | B66: Stroški porabe kuriv in stroški ogrevanja
A67: 4.3 | B67: Stroški vode in komunalnih storitev
A68: 4.4 | B68: Stroški odvoza smeti
A69: 4.5 | B69: Stroški telefona, faksa in elektronske pošte
A70: 4.6 | B70: Stroški poštnin in kurirskih storitev
A71: 4.7 | B71: Amortizacija osnovnih sredstev
A72: 4.8 | B72: Stroški potrošnega materiala
A73: 4.9 | B73: Stroški režije in administracije
A74: 4.10 | B74: Stroški tekočega vzdrževanja
A75: 4.11 | B75: Stroški najema nepremičnine in opreme
A76: 4.12 | B76: Zavarovalne premije za objekte in opremo
A77: 4.PS | B77: Posredni stroški
A79: 5 | B79: Stroški informiranja in komuniciranja
A80: 5.1 | B80: Stroški organizacije in izvedbe konferenc, seminarjev in simpozijev
A81: 5.2 | B81: Stroški izdelave ali nadgradnje spletnih strani
A82: 5.3 | B82: Stroški oglaševalskih storitev in stroški objav
A83: 5.4 | B83: Stroški svetovanja na področju informiranja in komuniciranja
A84: 5.5 | B84: Stroški oblikovanja, priprave na tisk, tiska in dostave gradiv
A85: 5.6 | B85: Stroški nastopov na sejmih in razstavah
A86: 5.7 | B86: Stroški založniških storitev
A87: 5.8 | B87: Stroški zaračunljive tiskovine
A88: 5.9 | B88: Drugi stroški informiranja in komuniciranja
A89: 5.PS | B89: Pavšalna stopnja
A91: 6 | B91: Davek na dodano vrednost
A92: 6.1 | B92: Davek na dodano vrednost
A93: 6.2 | B93: Davek na dodano vrednost za študentsko delo
A94: 6.PS | B94: Pavšalna stopnja
A96: 7 | B96: Stroški storitev zunanjih izvajalcev
A97: 7.1 | B97: Delo po pogodbi o opravljanju storitev
A98: 7.2 | B98: Delo po podjemni pogodbi
A99: 7.3 | B99: Delo preko študentskega servisa
A100: 7.4 | B100: Delo po avtorski pogodbi
A101: 7.5 | B101: Drugi stroški storitev zunanjih izvajalcev
A102: 7.PS | B102: Pavšalna stopnja
A104: 9 | B104: Druge specifične vrste stroškov
A105: 9.1 | B105: Dodatek za aktivnost
A106: 9.2 | B106: Dodatek za prevoz
A107: 9.3 | B107: Strošek prostovoljnega dela
A108: 9.4 | B108: Šolnine
A109: 9.5 | B109: Štipendije
A110: 9.6 | B110: Stroški animacije lokalnega razvoja
A111: 9.7 | B111: Denarna nagrada
A112: 9.8 | B112: Strošek za prevoz
A113: 9.9 | B113: Strošek za prehrano
A114: 9.10 | B114: Spodbude delodajalcem
A115: 9.11 | B115: Akontacija dohodnine
A116: 9.12 | B116: Davek na promet nepremičnin
... A123: PZ | B123: Pavšalni znesek

Sheet SK_učinka
A2: SPECIFIČNI KAZALNIKI UČINKA NA RAVNI OPERACIJE
A4: RSO 3.2 Razvoj in krepitev trajnostne, pametne in intermodalne nacionalne, regionalne in lokalne mobilnosti, odporne proti podnebnim spremembam, vključno z boljšim dostopom do omrežja TEN-T in čezmejno mobilnostjo
A5: ID kazalnika | B5: Specifični kazalniki učinka na ravni posamezne operacije | C5: Merska enota
A6: SK127 | B6: Število celovito rekonstruiranih ulic ali cest skladno z načeli trajnostne mobilnosti | C6: število
A7: SK128 | B7: Površina celovito rekonstruiranih ulic ali cest skladno z načeli trajnostne mobilnosti | C7: m2
A8: SK129 | B8: Število novih območij skupnega prometnega prostora | C8: število
A9: SK130 | B9: Površina novih območij skupnega prometnega prostora | C9: m2
A10: SK131 | B10: Število novih kolesarskih ulic ali cest | C10: število
A11: SK132 | B11: Dolžina novih kolesarskih ulic ali cest | C11: m
A12: SK133 | B12: Dolžina uvedenih rumenih pasov za JPP | C12: m
A13: SK134 | B13: Število novih postaj za JPP | C13: število
A14: SK135 | B14: Število rekonstruiranih postaj za JPP | C14: število
A15: SK136 | B15: Število novih postajališč za JPP | C15: število
A16: SK137 | B16: Število rekonstruiranih postajališč za JPP | C16: število
... A33: SK178 | B33: Dolžina rekonstruiranih kolesarskih povezav | C33: m

Sheet podatki
A3: ID kazalnika | B3: Specifični kazalniki učinka na ravni posamezne operacije | C3: Merska enota
B4: izberi iz seznama
A5: SK127 | B5: SK127 - Število celovito rekonstruiranih ulic ali cest skladno z načeli trajnostne mobilnosti | C5: število
A6: SK128 | B6: SK128 - Površina celovito rekonstruiranih ulic ali cest skladno z načeli trajnostne | C6: m2 | F6: dokumentacija | H6: CPS | J6: DA/NE
A7: SK129 | B7: SK129 - Število novih območij skupnega prometnega prostora | C7: število | F7: izberi iz seznama | H7: izberi iz seznama | J7: izberi iz seznama
A8: SK130 | B8: SK130 - Površina novih območij skupnega prometnega prostora | C8: m2 | F8: DIIP | H8: CPS, sprejeta pred veljavnostjo ZCPN | J8: DA
A9: SK131 | B9: SK131 - Število novih kolesarskih ulic ali cest | C9: število | F9: IP | H9: RCPS, sprejeta pred veljavnostjo ZCPN | J9: NE
A10: SK132 | B10: SK132 - Dolžina novih kolesarskih ulic ali cest | C10: m | F10: novelacija IP | H10: OCPS, izdelana in sprejeta v skladu z ZCPN
A11: SK133 | B11: SK133 - Dolžina uvedenih rumenih pasov za JPP | C11: m
A12: SK134 | B12: SK134 - Število novih postaj za JPP | C12: število
A13: SK135 | B13: SK135 - Število rekonstruiranih postaj za JPP | C13: število
A14: SK136 | B14: SK136 - Število novih postajališč za JPP | C14: število
A15: SK137 | B15: SK137 - Število rekonstruiranih postajališč za JPP | C15: število
A16: SK138 | B16: SK138 - Dolžina novih povezav za pešce | C16: m
A17: SK139 | B17: SK139 - Dolžina rekonstruiranih povezav za pešce | C17: m
A18: SK140 | B18: SK140 - Število novih con za pešce | C18: število
A19: SK141 | B19: SK141 - Število rekonstruiranih con za pešce | C19: število
A20: SK142 | B20: SK142 - Površina novih con za pešce | C20: m2
A21: SK143 | B21: SK143 - Površina rekonstruiranih con za pešce | C21: m2
A22: SK144 | B22: SK144 - Število postavljenih kolesarnic | C22: število
... A32: SK178 | B32: SK178 - Dolžina rekonstruiranih kolesarskih povezav | C32: m
