{"text_format":"1","workbook":"xlsx","n_sheets":2,"sheets":["Obrazec preveritev in poročanje","Kode"],"not_rendered":{"charts":0,"images":0,"macros":1,"external_links":0,"defined_names":2,"comments":1,"pivot_tables":0},"unopened":[],"bounds":{"document_bytes":16777216,"sheet_cells":100000,"rows_first":2000,"rows_last":500,"rows_between":2000,"halvings":0,"cell_chars":16384,"cell_head_chars":4096},"cells_cut":0,"cells_raw":0,"read":"whole","date_system":"1900"}

{"sheet":"Obrazec preveritev in poročanje","index":0,"n_rows":1000,"n_cols":20,"rows_kept":1000,"cut":false,"hidden":false,"merged":[]}
["Naziv dajalca pomoči","Matična številka dajalca pomoči","Številka priglasitve","Naziv sheme pomoči de minimis ali individualne ad hoc pomoči de minimis","Matična številka upravičenca","Ime in priimek upravičenca ali naziv pravne osebe, ki je upravičenec","Davčna št.  upravičenca","KMG-MID-številka upravičenca","Naslov upravičenca (ime ulice in hišna številka, poštna številka in naziv pošte)","Šifra občine upravičenca","Datum odobritve pomoči","Datum nakazila pomoči upravičencu","Šifra instrumenta pomoči","Pravna podlaga za odobritev pomoči","Naziv, številka in datum pravnega akta, s katerim je upravičencu pomoč dodeljena","Znesek upravičenih stroškov (EUR)","Bruto znesek pomoči \n(EUR)","Neto znesek \npomoči (EUR)","Število udeležencev","Stopnja intenzivnosti pomoči (%)"]
[{"$f":"VLOOKUP(C2,Kode!A2:C1008,2,FALSE)","v":{"$error":"#N/A"}},{"$f":"VLOOKUP(C2,Kode!A2:C1008,3,FALSE)","v":{"$error":"#N/A"}},null,{"$f":"VLOOKUP(C2,Kode!A2:D1008,4,FALSE)","v":{"$error":"#N/A"}},null,null,null,null,null,null,null,null,null,{"$f":"VLOOKUP(C2,Kode!A2:E1008,5,FALSE)","v":{"$error":"#N/A"}},null,null,null,null,null,{"$f":"R2/P2*100","v":{"$error":"#DIV/0!"}}]
[{"$f":"VLOOKUP(C3,Kode!A2:C1008,2,FALSE)","v":{"$error":"#N/A"}},{"$f":"VLOOKUP(C3,Kode!A2:C1008,3,FALSE)","v":{"$error":"#N/A"}},null,{"$f":"VLOOKUP(C3,Kode!A2:D1008,4,FALSE)","v":{"$error":"#N/A"}},null,null,null,null,null,null,null,null,null,{"$f":"VLOOKUP(C3,Kode!A2:E1008,5,FALSE)","v":{"$error":"#N/A"}},null,null,null,null,null,{"$error":"#DIV/0!"}]
[{"$f":"VLOOKUP(C4,Kode!A2:C1008,2,FALSE)","v":{"$error":"#N/A"}},{"$f":"VLOOKUP(C4,Kode!A2:C1008,3,FALSE)","v":{"$error":"#N/A"}},null,{"$f":"VLOOKUP(C4,Kode!A2:D1008,4,FALSE)","v":{"$error":"#N/A"}},null,null,null,null,null,null,null,null,null,{"$f":"VLOOKUP(C4,Kode!A2:E1008,5,FALSE)","v":{"$error":"#N/A"}},null,null,null,null,null,{"$error":"#DIV/0!"}]
[{"$f":"VLOOKUP(C5,Kode!A2:C1008,2,FALSE)","v":{"$error":"#N/A"}},{"$f":"VLOOKUP(C5,Kode!A2:C1008,3,FALSE)","v":{"$error":"#N/A"}},null,{"$f":"VLOOKUP(C5,Kode!A2:D1008,4,FALSE)","v":{"$error":"#N/A"}},null,null,null,null,null,null,null,null,null,{"$f":"VLOOKUP(C5,Kode!A2:E1008,5,FALSE)","v":{"$error":"#N/A"}},null,null,null,null,null,{"$error":"#DIV/0!"}]
[{"$f":"VLOOKUP(C6,Kode!A2:C1008,2,FALSE)","v":{"$error":"#N/A"}},{"$f":"VLOOKUP(C6,Kode!A2:C1008,3,FALSE)","v":{"$error":"#N/A"}},null,{"$f":"VLOOKUP(C6,Kode!A2:D1008,4,FALSE)","v":{"$error":"#N/A"}},null,null,null,null,null,null,null,null,null,{"$f":"VLOOKUP(C6,Kode!A2:E1008,5,FALSE)","v":{"$error":"#N/A"}},null,null,null,null,null,{"$error":"#DIV/0!"}]
[{"$f":"VLOOKUP(C7,Kode!A2:C1008,2,FALSE)","v":{"$error":"#N/A"}},{"$f":"VLOOKUP(C7,Kode!A2:C1008,3,FALSE)","v":{"$error":"#N/A"}},null,{"$f":"VLOOKUP(C7,Kode!A2:D1008,4,FALSE)","v":{"$error":"#N/A"}},null,null,null,null,null,null,null,null,null,{"$f":"VLOOKUP(C7,Kode!A2:E1008,5,FALSE)","v":{"$error":"#N/A"}},null,null,null,null,null,{"$error":"#DIV/0!"}]
[{"$f":"VLOOKUP(C8,Kode!A2:C1008,2,FALSE)","v":{"$error":"#N/A"}},{"$f":"VLOOKUP(C8,Kode!A2:C1008,3,FALSE)","v":{"$error":"#N/A"}},null,{"$f":"VLOOKUP(C8,Kode!A2:D1008,4,FALSE)","v":{"$error":"#N/A"}},null,null,null,null,null,null,null,null,null,{"$f":"VLOOKUP(C8,Kode!A2:E1008,5,FALSE)","v":{"$error":"#N/A"}},null,null,null,null,null,{"$error":"#DIV/0!"}]
[{"$f":"VLOOKUP(C9,Kode!A2:C1008,2,FALSE)","v":{"$error":"#N/A"}},{"$f":"VLOOKUP(C9,Kode!A2:C1008,3,FALSE)","v":{"$error":"#N/A"}},null,{"$f":"VLOOKUP(C9,Kode!A2:D1008,4,FALSE)","v":{"$error":"#N/A"}},null,null,null,null,null,null,null,null,null,{"$f":"VLOOKUP(C9,Kode!A2:E1008,5,FALSE)","v":{"$error":"#N/A"}},null,null,null,null,null,{"$error":"#DIV/0!"}]
[{"$f":"VLOOKUP(C10,Kode!A2:C1008,2,FALSE)","v":{"$error":"#N/A"}},{"$f":"VLOOKUP(C10,Kode!A2:C1008,3,FALSE)","v":{"$error":"#N/A"}},null,{"$f":"VLOOKUP(C10,Kode!A2:D1008,4,FALSE)","v":{"$error":"#N/A"}},null,null,null,null,null,null,null,null,null,{"$f":"VLOOKUP(C10,Kode!A2:E1008,5,FALSE)","v":{"$error":"#N/A"}},null,null,null,null,null,{"$error":"#DIV/0!"}]
[{"$f":"VLOOKUP(C11,Kode!A2:C1008,2,FALSE)","v":{"$error":"#N/A"}},{"$f":"VLOOKUP(C11,Kode!A2:C1008,3,FALSE)","v":{"$error":"#N/A"}},null,{"$f":"VLOOKUP(C11,Kode!A2:D1008,4,FALSE)","v":{"$error":"#N/A"}},null,null,null,null,null,null,null,null,null,{"$f":"VLOOKUP(C11,Kode!A2:E1008,5,FALSE)","v":{"$error":"#N/A"}},null,null,null,null,null,{"$error":"#DIV/0!"}]
[{"$f":"VLOOKUP(C12,Kode!A2:C1008,2,FALSE)","v":{"$error":"#N/A"}},{"$f":"VLOOKUP(C12,Kode!A2:C1008,3,FALSE)","v":{"$error":"#N/A"}},null,{"$f":"VLOOKUP(C12,Kode!A2:D1008,4,FALSE)","v":{"$error":"#N/A"}},null,null,null,null,null,null,null,null,null,{"$f":"VLOOKUP(C12,Kode!A2:E1008,5,FALSE)","v":{"$error":"#N/A"}},null,null,null,null,null,{"$error":"#DIV/0!"}]
[{"$f":"VLOOKUP(C13,Kode!A2:C1008,2,FALSE)","v":{"$error":"#N/A"}},{"$f":"VLOOKUP(C13,Kode!A2:C1008,3,FALSE)","v":{"$error":"#N/A"}},null,{"$f":"VLOOKUP(C13,Kode!A2:D1008,4,FALSE)","v":{"$error":"#N/A"}},null,null,null,null,null,null,null,null,null,{"$f":"VLOOKUP(C13,Kode!A2:E1008,5,FALSE)","v":{"$error":"#N/A"}},null,null,null,null,null,{"$error":"#DIV/0!"}]
[{"$f":"VLOOKUP(C14,Kode!A2:C1008,2,FALSE)","v":{"$error":"#N/A"}},{"$f":"VLOOKUP(C14,Kode!A2:C1008,3,FALSE)","v":{"$error":"#N/A"}},null,{"$f":"VLOOKUP(C14,Kode!A2:D1008,4,FALSE)","v":{"$error":"#N/A"}},null,null,null,null,null,null,null,null,null,{"$f":"VLOOKUP(C14,Kode!A2:E1008,5,FALSE)","v":{"$error":"#N/A"}},null,null,null,null,null,{"$error":"#DIV/0!"}]
[{"$f":"VLOOKUP(C15,Kode!A2:C1008,2,FALSE)","v":{"$error":"#N/A"}},{"$f":"VLOOKUP(C15,Kode!A2:C1008,3,FALSE)","v":{"$error":"#N/A"}},null,{"$f":"VLOOKUP(C15,Kode!A2:D1008,4,FALSE)","v":{"$error":"#N/A"}},null,null,null,null,null,null,null,null,null,{"$f":"VLOOKUP(C15,Kode!A2:E1008,5,FALSE)","v":{"$error":"#N/A"}},null,null,null,null,null,{"$error":"#DIV/0!"}]
[{"$f":"VLOOKUP(C16,Kode!A2:C1008,2,FALSE)","v":{"$error":"#N/A"}},{"$f":"VLOOKUP(C16,Kode!A2:C1008,3,FALSE)","v":{"$error":"#N/A"}},null,{"$f":"VLOOKUP(C16,Kode!A2:D1008,4,FALSE)","v":{"$error":"#N/A"}},null,null,null,null,null,null,null,null,null,{"$f":"VLOOKUP(C16,Kode!A2:E1008,5,FALSE)","v":{"$error":"#N/A"}},null,null,null,null,null,{"$error":"#DIV/0!"}]
[{"$f":"VLOOKUP(C17,Kode!A2:C1008,2,FALSE)","v":{"$error":"#N/A"}},{"$f":"VLOOKUP(C17,Kode!A2:C1008,3,FALSE)","v":{"$error":"#N/A"}},null,{"$f":"VLOOKUP(C17,Kode!A2:D1008,4,FALSE)","v":{"$error":"#N/A"}},null,null,null,null,null,null,null,null,null,{"$f":"VLOOKUP(C17,Kode!A2:E1008,5,FALSE)","v":{"$error":"#N/A"}},null,null,null,null,null,{"$error":"#DIV/0!"}]
[{"$f":"VLOOKUP(C18,Kode!A2:C1008,2,FALSE)","v":{"$error":"#N/A"}},{"$f":"VLOOKUP(C18,Kode!A2:C1008,3,FALSE)","v":{"$error":"#N/A"}},null,{"$f":"VLOOKUP(C18,Kode!A2:D1008,4,FALSE)","v":{"$error":"#N/A"}},null,null,null,null,null,null,null,null,null,{"$f":"VLOOKUP(C18,Kode!A2:E1008,5,FALSE)","v":{"$error":"#N/A"}},null,null,null,null,null,{"$error":"#DIV/0!"}]
[{"$f":"VLOOKUP(C19,Kode!A2:C1008,2,FALSE)","v":{"$error":"#N/A"}},{"$f":"VLOOKUP(C19,Kode!A2:C1008,3,FALSE)","v":{"$error":"#N/A"}},null,{"$f":"VLOOKUP(C19,Kode!A2:D1008,4,FALSE)","v":{"$error":"#N/A"}},null,null,null,null,null,null,null,null,null,{"$f":"VLOOKUP(C19,Kode!A2:E1008,5,FALSE)","v":{"$error":"#N/A"}},null,null,null,null,null,{"$error":"#DIV/0!"}]
[{"$f":"VLOOKUP(C20,Kode!A2:C1008,2,FALSE)","v":{"$error":"#N/A"}},{"$f":"VLOOKUP(C20,Kode!A2:C1008,3,FALSE)","v":{"$error":"#N/A"}},null,{"$f":"VLOOKUP(C20,Kode!A2:D1008,4,FALSE)","v":{"$error":"#N/A"}},null,null,null,null,null,null,null,null,null,{"$f":"VLOOKUP(C20,Kode!A2:E1008,5,FALSE)","v":{"$error":"#N/A"}},null,null,null,null,null,{"$error":"#DIV/0!"}]
[{"$f":"VLOOKUP(C21,Kode!A2:C1008,2,FALSE)","v":{"$error":"#N/A"}},{"$f":"VLOOKUP(C21,Kode!A2:C1008,3,FALSE)","v":{"$error":"#N/A"}},null,{"$f":"VLOOKUP(C21,Kode!A2:D1008,4,FALSE)","v":{"$error":"#N/A"}},null,null,null,null,null,null,null,null,null,{"$f":"VLOOKUP(C21,Kode!A2:E1008,5,FALSE)","v":{"$error":"#N/A"}},null,null,null,null,null,{"$error":"#DIV/0!"}]
[{"$f":"VLOOKUP(C22,Kode!A2:C1008,2,FALSE)","v":{"$error":"#N/A"}},{"$f":"VLOOKUP(C22,Kode!A2:C1008,3,FALSE)","v":{"$error":"#N/A"}},null,{"$f":"VLOOKUP(C22,Kode!A2:D1008,4,FALSE)","v":{"$error":"#N/A"}},null,null,null,null,null,null,null,null,null,{"$f":"VLOOKUP(C22,Kode!A2:E1008,5,FALSE)","v":{"$error":"#N/A"}},null,null,null,null,null,{"$error":"#DIV/0!"}]
[{"$f":"VLOOKUP(C23,Kode!A2:C1008,2,FALSE)","v":{"$error":"#N/A"}},{"$f":"VLOOKUP(C23,Kode!A2:C1008,3,FALSE)","v":{"$error":"#N/A"}},null,{"$f":"VLOOKUP(C23,Kode!A2:D1008,4,FALSE)","v":{"$error":"#N/A"}},null,null,null,null,null,null,null,null,null,{"$f":"VLOOKUP(C23,Kode!A2:E1008,5,FALSE)","v":{"$error":"#N/A"}},null,null,null,null,null,{"$error":"#DIV/0!"}]
[{"$f":"VLOOKUP(C24,Kode!A2:C1008,2,FALSE)","v":{"$error":"#N/A"}},{"$f":"VLOOKUP(C24,Kode!A2:C1008,3,FALSE)","v":{"$error":"#N/A"}},null,{"$f":"VLOOKUP(C24,Kode!A2:D1008,4,FALSE)","v":{"$error":"#N/A"}},null,null,null,null,null,null,null,null,null,{"$f":"VLOOKUP(C24,Kode!A2:E1008,5,FALSE)","v":{"$error":"#N/A"}},null,null,null,null,null,{"$error":"#DIV/0!"}]
[{"$f":"VLOOKUP(C25,Kode!A2:C1008,2,FALSE)","v":{"$error":"#N/A"}},{"$f":"VLOOKUP(C25,Kode!A2:C1008,3,FALSE)","v":{"$error":"#N/A"}},null,{"$f":"VLOOKUP(C25,Kode!A2:D1008,4,FALSE)","v":{"$error":"#N/A"}},null,null,null,null,null,null,null,null,null,{"$f":"VLOOKUP(C25,Kode!A2:E1008,5,FALSE)","v":{"$error":"#N/A"}},null,null,null,null,null,{"$error":"#DIV/0!"}]
[{"$f":"VLOOKUP(C26,Kode!A2:C1008,2,FALSE)","v":{"$error":"#N/A"}},{"$f":"VLOOKUP(C26,Kode!A2:C1008,3,FALSE)","v":{"$error":"#N/A"}},null,{"$f":"VLOOKUP(C26,Kode!A2:D1008,4,FALSE)","v":{"$error":"#N/A"}},null,null,null,null,null,null,null,null,null,{"$f":"VLOOKUP(C26,Kode!A2:E1008,5,FALSE)","v":{"$error":"#N/A"}},null,null,null,null,null,{"$error":"#DIV/0!"}]
[{"$f":"VLOOKUP(C27,Kode!A2:C1008,2,FALSE)","v":{"$error":"#N/A"}},{"$f":"VLOOKUP(C27,Kode!A2:C1008,3,FALSE)","v":{"$error":"#N/A"}},null,{"$f":"VLOOKUP(C27,Kode!A2:D1008,4,FALSE)","v":{"$error":"#N/A"}},null,null,null,null,null,null,null,null,null,{"$f":"VLOOKUP(C27,Kode!A2:E1008,5,FALSE)","v":{"$error":"#N/A"}},null,null,null,null,null,{"$error":"#DIV/0!"}]
[{"$f":"VLOOKUP(C28,Kode!A2:C1008,2,FALSE)","v":{"$error":"#N/A"}},{"$f":"VLOOKUP(C28,Kode!A2:C1008,3,FALSE)","v":{"$error":"#N/A"}},null,{"$f":"VLOOKUP(C28,Kode!A2:D1008,4,FALSE)","v":{"$error":"#N/A"}},null,null,null,null,null,null,null,null,null,{"$f":"VLOOKUP(C28,Kode!A2:E1008,5,FALSE)","v":{"$error":"#N/A"}},null,null,null,null,null,{"$error":"#DIV/0!"}]
[{"$f":"VLOOKUP(C29,Kode!A2:C1008,2,FALSE)","v":{"$error":"#N/A"}},{"$f":"VLOOKUP(C29,Kode!A2:C1008,3,FALSE)","v":{"$error":"#N/A"}},null,{"$f":"VLOOKUP(C29,Kode!A2:D1008,4,FALSE)","v":{"$error":"#N/A"}},null,null,null,null,null,null,null,null,null,{"$f":"VLOOKUP(C29,Kode!A2:E1008,5,FALSE)","v":{"$error":"#N/A"}},null,null,null,null,null,{"$error":"#DIV/0!"}]
[{"$f":"VLOOKUP(C30,Kode!A2:C1008,2,FALSE)","v":{"$error":"#N/A"}},{"$f":"VLOOKUP(C30,Kode!A2:C1008,3,FALSE)","v":{"$error":"#N/A"}},null,{"$f":"VLOOKUP(C30,Kode!A2:D1008,4,FALSE)","v":{"$error":"#N/A"}},null,null,null,null,null,null,null,null,null,{"$f":"VLOOKUP(C30,Kode!A2:E1008,5,FALSE)","v":{"$error":"#N/A"}},null,null,null,null,null,{"$error":"#DIV/0!"}]
[{"$f":"VLOOKUP(C31,Kode!A2:C1008,2,FALSE)","v":{"$error":"#N/A"}},{"$f":"VLOOKUP(C31,Kode!A2:C1008,3,FALSE)","v":{"$error":"#N/A"}},null,{"$f":"VLOOKUP(C31,Kode!A2:D1008,4,FALSE)","v":{"$error":"#N/A"}},null,null,null,null,null,null,null,null,null,{"$f":"VLOOKUP(C31,Kode!A2:E1008,5,FALSE)","v":{"$error":"#N/A"}},null,null,null,null,null,{"$error":"#DIV/0!"}]
[{"$f":"VLOOKUP(C32,Kode!A2:C1008,2,FALSE)","v":{"$error":"#N/A"}},{"$f":"VLOOKUP(C32,Kode!A2:C1008,3,FALSE)","v":{"$error":"#N/A"}},null,{"$f":"VLOOKUP(C32,Kode!A2:D1008,4,FALSE)","v":{"$error":"#N/A"}},null,null,null,null,null,null,null,null,null,{"$f":"VLOOKUP(C32,Kode!A2:E1008,5,FALSE)","v":{"$error":"#N/A"}},null,null,null,null,null,{"$error":"#DIV/0!"}]
[{"$f":"VLOOKUP(C33,Kode!A2:C1008,2,FALSE)","v":{"$error":"#N/A"}},{"$f":"VLOOKUP(C33,Kode!A2:C1008,3,FALSE)","v":{"$error":"#N/A"}},null,{"$f":"VLOOKUP(C33,Kode!A2:D1008,4,FALSE)","v":{"$error":"#N/A"}},null,null,null,null,null,null,null,null,null,{"$f":"VLOOKUP(C33,Kode!A2:E1008,5,FALSE)","v":{"$error":"#N/A"}},null,null,null,null,null,{"$error":"#DIV/0!"}]
[{"$f":"VLOOKUP(C34,Kode!A2:C1008,2,FALSE)","v":{"$error":"#N/A"}},{"$f":"VLOOKUP(C34,Kode!A2:C1008,3,FALSE)","v":{"$error":"#N/A"}},null,{"$f":"VLOOKUP(C34,Kode!A2:D1008,4,FALSE)","v":{"$error":"#N/A"}},null,null,null,null,null,null,null,null,null,{"$f":"VLOOKUP(C34,Kode!A2:E1008,5,FALSE)","v":{"$error":"#N/A"}},null,null,null,null,null,{"$error":"#DIV/0!"}]
[{"$f":"VLOOKUP(C35,Kode!A2:C1008,2,FALSE)","v":{"$error":"#N/A"}},{"$f":"VLOOKUP(C35,Kode!A2:C1008,3,FALSE)","v":{"$error":"#N/A"}},null,{"$f":"VLOOKUP(C35,Kode!A2:D1008,4,FALSE)","v":{"$error":"#N/A"}},null,null,null,null,null,null,null,null,null,{"$f":"VLOOKUP(C35,Kode!A2:E1008,5,FALSE)","v":{"$error":"#N/A"}},null,null,null,null,null,{"$error":"#DIV/0!"}]
[{"$f":"VLOOKUP(C36,Kode!A2:C1008,2,FALSE)","v":{"$error":"#N/A"}},{"$f":"VLOOKUP(C36,Kode!A2:C1008,3,FALSE)","v":{"$error":"#N/A"}},null,{"$f":"VLOOKUP(C36,Kode!A2:D1008,4,FALSE)","v":{"$error":"#N/A"}},null,null,null,null,null,null,null,null,null,{"$f":"VLOOKUP(C36,Kode!A2:E1008,5,FALSE)","v":{"$error":"#N/A"}},null,null,null,null,null,{"$error":"#DIV/0!"}]
[{"$f":"VLOOKUP(C37,Kode!A2:C1008,2,FALSE)","v":{"$error":"#N/A"}},{"$f":"VLOOKUP(C37,Kode!A2:C1008,3,FALSE)","v":{"$error":"#N/A"}},null,{"$f":"VLOOKUP(C37,Kode!A2:D1008,4,FALSE)","v":{"$error":"#N/A"}},null,null,null,null,null,null,null,null,null,{"$f":"VLOOKUP(C37,Kode!A2:E1008,5,FALSE)","v":{"$error":"#N/A"}},null,null,null,null,null,{"$error":"#DIV/0!"}]
[{"$f":"VLOOKUP(C38,Kode!A2:C1008,2,FALSE)","v":{"$error":"#N/A"}},{"$f":"VLOOKUP(C38,Kode!A2:C1008,3,FALSE)","v":{"$error":"#N/A"}},null,{"$f":"VLOOKUP(C38,Kode!A2:D1008,4,FALSE)","v":{"$error":"#N/A"}},null,null,null,null,null,null,null,null,null,{"$f":"VLOOKUP(C38,Kode!A2:E1008,5,FALSE)","v":{"$error":"#N/A"}},null,null,null,null,null,{"$error":"#DIV/0!"}]
[{"$f":"VLOOKUP(C39,Kode!A2:C1008,2,FALSE)","v":{"$error":"#N/A"}},{"$f":"VLOOKUP(C39,Kode!A2:C1008,3,FALSE)","v":{"$error":"#N/A"}},null,{"$f":"VLOOKUP(C39,Kode!A2:D1008,4,FALSE)","v":{"$error":"#N/A"}},null,null,null,null,null,null,null,null,null,{"$f":"VLOOKUP(C39,Kode!A2:E1008,5,FALSE)","v":{"$error":"#N/A"}},null,null,null,null,null,{"$error":"#DIV/0!"}]
[{"$f":"VLOOKUP(C40,Kode!A2:C1008,2,FALSE)","v":{"$error":"#N/A"}},{"$f":"VLOOKUP(C40,Kode!A2:C1008,3,FALSE)","v":{"$error":"#N/A"}},null,{"$f":"VLOOKUP(C40,Kode!A2:D1008,4,FALSE)","v":{"$error":"#N/A"}},null,null,null,null,null,null,null,null,null,{"$f":"VLOOKUP(C40,Kode!A2:E1008,5,FALSE)","v":{"$error":"#N/A"}},null,null,null,null,null,{"$error":"#DIV/0!"}]
[{"$f":"VLOOKUP(C41,Kode!A2:C1008,2,FALSE)","v":{"$error":"#N/A"}},{"$f":"VLOOKUP(C41,Kode!A2:C1008,3,FALSE)","v":{"$error":"#N/A"}},null,{"$f":"VLOOKUP(C41,Kode!A2:D1008,4,FALSE)","v":{"$error":"#N/A"}},null,null,null,null,null,null,null,null,null,{"$f":"VLOOKUP(C41,Kode!A2:E1008,5,FALSE)","v":{"$error":"#N/A"}},null,null,null,null,null,{"$error":"#DIV/0!"}]
[{"$f":"VLOOKUP(C42,Kode!A2:C1008,2,FALSE)","v":{"$error":"#N/A"}},{"$f":"VLOOKUP(C42,Kode!A2:C1008,3,FALSE)","v":{"$error":"#N/A"}},null,{"$f":"VLOOKUP(C42,Kode!A2:D1008,4,FALSE)","v":{"$error":"#N/A"}},null,null,null,null,null,null,null,null,null,{"$f":"VLOOKUP(C42,Kode!A2:E1008,5,FALSE)","v":{"$error":"#N/A"}},null,null,null,null,null,{"$error":"#DIV/0!"}]
[{"$f":"VLOOKUP(C43,Kode!A2:C1008,2,FALSE)","v":{"$error":"#N/A"}},{"$f":"VLOOKUP(C43,Kode!A2:C1008,3,FALSE)","v":{"$error":"#N/A"}},null,{"$f":"VLOOKUP(C43,Kode!A2:D1008,4,FALSE)","v":{"$error":"#N/A"}},null,null,null,null,null,null,null,null,null,{"$f":"VLOOKUP(C43,Kode!A2:E1008,5,FALSE)","v":{"$error":"#N/A"}},null,null,null,null,null,{"$error":"#DIV/0!"}]
[{"$f":"VLOOKUP(C44,Kode!A2:C1008,2,FALSE)","v":{"$error":"#N/A"}},{"$f":"VLOOKUP(C44,Kode!A2:C1008,3,FALSE)","v":{"$error":"#N/A"}},null,{"$f":"VLOOKUP(C44,Kode!A2:D1008,4,FALSE)","v":{"$error":"#N/A"}},null,null,null,null,null,null,null,null,null,{"$f":"VLOOKUP(C44,Kode!A2:E1008,5,FALSE)","v":{"$error":"#N/A"}},null,null,null,null,null,{"$error":"#DIV/0!"}]
[{"$f":"VLOOKUP(C45,Kode!A2:C1008,2,FALSE)","v":{"$error":"#N/A"}},{"$f":"VLOOKUP(C45,Kode!A2:C1008,3,FALSE)","v":{"$error":"#N/A"}},null,{"$f":"VLOOKUP(C45,Kode!A2:D1008,4,FALSE)","v":{"$error":"#N/A"}},null,null,null,null,null,null,null,null,null,{"$f":"VLOOKUP(C45,Kode!A2:E1008,5,FALSE)","v":{"$error":"#N/A"}},null,null,null,null,null,{"$error":"#DIV/0!"}]
[{"$f":"VLOOKUP(C46,Kode!A2:C1008,2,FALSE)","v":{"$error":"#N/A"}},{"$f":"VLOOKUP(C46,Kode!A2:C1008,3,FALSE)","v":{"$error":"#N/A"}},null,{"$f":"VLOOKUP(C46,Kode!A2:D1008,4,FALSE)","v":{"$error":"#N/A"}},null,null,null,null,null,null,null,null,null,{"$f":"VLOOKUP(C46,Kode!A2:E1008,5,FALSE)","v":{"$error":"#N/A"}},null,null,null,null,null,{"$error":"#DIV/0!"}]
[{"$f":"VLOOKUP(C47,Kode!A2:C1008,2,FALSE)","v":{"$error":"#N/A"}},{"$f":"VLOOKUP(C47,Kode!A2:C1008,3,FALSE)","v":{"$error":"#N/A"}},null,{"$f":"VLOOKUP(C47,Kode!A2:D1008,4,FALSE)","v":{"$error":"#N/A"}},null,null,null,null,null,null,null,null,null,{"$f":"VLOOKUP(C47,Kode!A2:E1008,5,FALSE)","v":{"$error":"#N/A"}},null,null,null,null,null,{"$error":"#DIV/0!"}]
[{"$f":"VLOOKUP(C48,Kode!A2:C1008,2,FALSE)","v":{"$error":"#N/A"}},{"$f":"VLOOKUP(C48,Kode!A2:C1008,3,FALSE)","v":{"$error":"#N/A"}},null,{"$f":"VLOOKUP(C48,Kode!A2:D1008,4,FALSE)","v":{"$error":"#N/A"}},null,null,null,null,null,null,null,null,null,{"$f":"VLOOKUP(C48,Kode!A2:E1008,5,FALSE)","v":{"$error":"#N/A"}},null,null,null,null,null,{"$error":"#DIV/0!"}]
[{"$f":"VLOOKUP(C49,Kode!A2:C1008,2,FALSE)","v":{"$error":"#N/A"}},{"$f":"VLOOKUP(C49,Kode!A2:C1008,3,FALSE)","v":{"$error":"#N/A"}},null,{"$f":"VLOOKUP(C49,Kode!A2:D1008,4,FALSE)","v":{"$error":"#N/A"}},null,null,null,null,null,null,null,null,null,{"$f":"VLOOKUP(C49,Kode!A2:E1008,5,FALSE)","v":{"$error":"#N/A"}},null,null,null,null,null,{"$error":"#DIV/0!"}]
[{"$f":"VLOOKUP(C50,Kode!A2:C1008,2,FALSE)","v":{"$error":"#N/A"}},{"$f":"VLOOKUP(C50,Kode!A2:C1008,3,FALSE)","v":{"$error":"#N/A"}},null,{"$f":"VLOOKUP(C50,Kode!A2:D1008,4,FALSE)","v":{"$error":"#N/A"}},null,null,null,null,null,null,null,null,null,{"$f":"VLOOKUP(C50,Kode!A2:E1008,5,FALSE)","v":{"$error":"#N/A"}},null,null,null,null,null,{"$error":"#DIV/0!"}]
[{"$f":"VLOOKUP(C51,Kode!A2:C1008,2,FALSE)","v":{"$error":"#N/A"}},{"$f":"VLOOKUP(C51,Kode!A2:C1008,3,FALSE)","v":{"$error":"#N/A"}},null,{"$f":"VLOOKUP(C51,Kode!A2:D1008,4,FALSE)","v":{"$error":"#N/A"}},null,null,null,null,null,null,null,null,null,{"$f":"VLOOKUP(C51,Kode!A2:E1008,5,FALSE)","v":{"$error":"#N/A"}},null,null,null,null,null,{"$error":"#DIV/0!"}]
[{"$f":"VLOOKUP(C52,Kode!A2:C1008,2,FALSE)","v":{"$error":"#N/A"}},{"$f":"VLOOKUP(C52,Kode!A2:C1008,3,FALSE)","v":{"$error":"#N/A"}},null,{"$f":"VLOOKUP(C52,Kode!A2:D1008,4,FALSE)","v":{"$error":"#N/A"}},null,null,null,null,null,null,null,null,null,{"$f":"VLOOKUP(C52,Kode!A2:E1008,5,FALSE)","v":{"$error":"#N/A"}},null,null,null,null,null,{"$error":"#DIV/0!"}]
[{"$f":"VLOOKUP(C53,Kode!A2:C1008,2,FALSE)","v":{"$error":"#N/A"}},{"$f":"VLOOKUP(C53,Kode!A2:C1008,3,FALSE)","v":{"$error":"#N/A"}},null,{"$f":"VLOOKUP(C53,Kode!A2:D1008,4,FALSE)","v":{"$error":"#N/A"}},null,null,null,null,null,null,null,null,null,{"$f":"VLOOKUP(C53,Kode!A2:E1008,5,FALSE)","v":{"$error":"#N/A"}},null,null,null,null,null,{"$error":"#DIV/0!"}]
[{"$f":"VLOOKUP(C54,Kode!A2:C1008,2,FALSE)","v":{"$error":"#N/A"}},{"$f":"VLOOKUP(C54,Kode!A2:C1008,3,FALSE)","v":{"$error":"#N/A"}},null,{"$f":"VLOOKUP(C54,Kode!A2:D1008,4,FALSE)","v":{"$error":"#N/A"}},null,null,null,null,null,null,null,null,null,{"$f":"VLOOKUP(C54,Kode!A2:E1008,5,FALSE)","v":{"$error":"#N/A"}},null,null,null,null,null,{"$error":"#DIV/0!"}]
[{"$f":"VLOOKUP(C55,Kode!A2:C1008,2,FALSE)","v":{"$error":"#N/A"}},{"$f":"VLOOKUP(C55,Kode!A2:C1008,3,FALSE)","v":{"$error":"#N/A"}},null,{"$f":"VLOOKUP(C55,Kode!A2:D1008,4,FALSE)","v":{"$error":"#N/A"}},null,null,null,null,null,null,null,null,null,{"$f":"VLOOKUP(C55,Kode!A2:E1008,5,FALSE)","v":{"$error":"#N/A"}},null,null,null,null,null,{"$error":"#DIV/0!"}]
[{"$f":"VLOOKUP(C56,Kode!A2:C1008,2,FALSE)","v":{"$error":"#N/A"}},{"$f":"VLOOKUP(C56,Kode!A2:C1008,3,FALSE)","v":{"$error":"#N/A"}},null,{"$f":"VLOOKUP(C56,Kode!A2:D1008,4,FALSE)","v":{"$error":"#N/A"}},null,null,null,null,null,null,null,null,null,{"$f":"VLOOKUP(C56,Kode!A2:E1008,5,FALSE)","v":{"$error":"#N/A"}},null,null,null,null,null,{"$error":"#DIV/0!"}]
[{"$f":"VLOOKUP(C57,Kode!A2:C1008,2,FALSE)","v":{"$error":"#N/A"}},{"$f":"VLOOKUP(C57,Kode!A2:C1008,3,FALSE)","v":{"$error":"#N/A"}},null,{"$f":"VLOOKUP(C57,Kode!A2:D1008,4,FALSE)","v":{"$error":"#N/A"}},null,null,null,null,null,null,null,null,null,{"$f":"VLOOKUP(C57,Kode!A2:E1008,5,FALSE)","v":{"$error":"#N/A"}},null,null,null,null,null,{"$error":"#DIV/0!"}]
[{"$f":"VLOOKUP(C58,Kode!A2:C1008,2,FALSE)","v":{"$error":"#N/A"}},{"$f":"VLOOKUP(C58,Kode!A2:C1008,3,FALSE)","v":{"$error":"#N/A"}},null,{"$f":"VLOOKUP(C58,Kode!A2:D1008,4,FALSE)","v":{"$error":"#N/A"}},null,null,null,null,null,null,null,null,null,{"$f":"VLOOKUP(C58,Kode!A2:E1008,5,FALSE)","v":{"$error":"#N/A"}},null,null,null,null,null,{"$error":"#DIV/0!"}]
[{"$f":"VLOOKUP(C59,Kode!A2:C1008,2,FALSE)","v":{"$error":"#N/A"}},{"$f":"VLOOKUP(C59,Kode!A2:C1008,3,FALSE)","v":{"$error":"#N/A"}},null,{"$f":"VLOOKUP(C59,Kode!A2:D1008,4,FALSE)","v":{"$error":"#N/A"}},null,null,null,null,null,null,null,null,null,{"$f":"VLOOKUP(C59,Kode!A2:E1008,5,FALSE)","v":{"$error":"#N/A"}},null,null,null,null,null,{"$error":"#DIV/0!"}]
[{"$f":"VLOOKUP(C60,Kode!A2:C1008,2,FALSE)","v":{"$error":"#N/A"}},{"$f":"VLOOKUP(C60,Kode!A2:C1008,3,FALSE)","v":{"$error":"#N/A"}},null,{"$f":"VLOOKUP(C60,Kode!A2:D1008,4,FALSE)","v":{"$error":"#N/A"}},null,null,null,null,null,null,null,null,null,{"$f":"VLOOKUP(C60,Kode!A2:E1008,5,FALSE)","v":{"$error":"#N/A"}},null,null,null,null,null,{"$error":"#DIV/0!"}]
[{"$f":"VLOOKUP(C61,Kode!A2:C1008,2,FALSE)","v":{"$error":"#N/A"}},{"$f":"VLOOKUP(C61,Kode!A2:C1008,3,FALSE)","v":{"$error":"#N/A"}},null,{"$f":"VLOOKUP(C61,Kode!A2:D1008,4,FALSE)","v":{"$error":"#N/A"}},null,null,null,null,null,null,null,null,null,{"$f":"VLOOKUP(C61,Kode!A2:E1008,5,FALSE)","v":{"$error":"#N/A"}},null,null,null,null,null,{"$error":"#DIV/0!"}]
[{"$f":"VLOOKUP(C62,Kode!A2:C1008,2,FALSE)","v":{"$error":"#N/A"}},{"$f":"VLOOKUP(C62,Kode!A2:C1008,3,FALSE)","v":{"$error":"#N/A"}},null,{"$f":"VLOOKUP(C62,Kode!A2:D1008,4,FALSE)","v":{"$error":"#N/A"}},null,null,null,null,null,null,null,null,null,{"$f":"VLOOKUP(C62,Kode!A2:E1008,5,FALSE)","v":{"$error":"#N/A"}},null,null,null,null,null,{"$error":"#DIV/0!"}]
[{"$f":"VLOOKUP(C63,Kode!A2:C1008,2,FALSE)","v":{"$error":"#N/A"}},{"$f":"VLOOKUP(C63,Kode!A2:C1008,3,FALSE)","v":{"$error":"#N/A"}},null,{"$f":"VLOOKUP(C63,Kode!A2:D1008,4,FALSE)","v":{"$error":"#N/A"}},null,null,null,null,null,null,null,null,null,{"$f":"VLOOKUP(C63,Kode!A2:E1008,5,FALSE)","v":{"$error":"#N/A"}},null,null,null,null,null,{"$error":"#DIV/0!"}]
[{"$f":"VLOOKUP(C64,Kode!A2:C1008,2,FALSE)","v":{"$error":"#N/A"}},{"$f":"VLOOKUP(C64,Kode!A2:C1008,3,FALSE)","v":{"$error":"#N/A"}},null,{"$f":"VLOOKUP(C64,Kode!A2:D1008,4,FALSE)","v":{"$error":"#N/A"}},null,null,null,null,null,null,null,null,null,{"$f":"VLOOKUP(C64,Kode!A2:E1008,5,FALSE)","v":{"$error":"#N/A"}},null,null,null,null,null,{"$error":"#DIV/0!"}]
[{"$f":"VLOOKUP(C65,Kode!A2:C1008,2,FALSE)","v":{"$error":"#N/A"}},{"$f":"VLOOKUP(C65,Kode!A2:C1008,3,FALSE)","v":{"$error":"#N/A"}},null,{"$f":"VLOOKUP(C65,Kode!A2:D1008,4,FALSE)","v":{"$error":"#N/A"}},null,null,null,null,null,null,null,null,null,{"$f":"VLOOKUP(C65,Kode!A2:E1008,5,FALSE)","v":{"$error":"#N/A"}},null,null,null,null,null,{"$error":"#DIV/0!"}]
[{"$f":"VLOOKUP(C66,Kode!A2:C1008,2,FALSE)","v":{"$error":"#N/A"}},{"$f":"VLOOKUP(C66,Kode!A2:C1008,3,FALSE)","v":{"$error":"#N/A"}},null,{"$f":"VLOOKUP(C66,Kode!A2:D1008,4,FALSE)","v":{"$error":"#N/A"}},null,null,null,null,null,null,null,null,null,{"$f":"VLOOKUP(C66,Kode!A2:E1008,5,FALSE)","v":{"$error":"#N/A"}},null,null,null,null,null,{"$f":"R66/P66*100","v":{"$error":"#DIV/0!"}}]
[{"$f":"VLOOKUP(C67,Kode!A2:C1008,2,FALSE)","v":{"$error":"#N/A"}},{"$f":"VLOOKUP(C67,Kode!A2:C1008,3,FALSE)","v":{"$error":"#N/A"}},null,{"$f":"VLOOKUP(C67,Kode!A2:D1008,4,FALSE)","v":{"$error":"#N/A"}},null,null,null,null,null,null,null,null,null,{"$f":"VLOOKUP(C67,Kode!A2:E1008,5,FALSE)","v":{"$error":"#N/A"}},null,null,null,null,null,{"$error":"#DIV/0!"}]
[{"$f":"VLOOKUP(C68,Kode!A2:C1008,2,FALSE)","v":{"$error":"#N/A"}},{"$f":"VLOOKUP(C68,Kode!A2:C1008,3,FALSE)","v":{"$error":"#N/A"}},null,{"$f":"VLOOKUP(C68,Kode!A2:D1008,4,FALSE)","v":{"$error":"#N/A"}},null,null,null,null,null,null,null,null,null,{"$f":"VLOOKUP(C68,Kode!A2:E1008,5,FALSE)","v":{"$error":"#N/A"}},null,null,null,null,null,{"$error":"#DIV/0!"}]
[{"$f":"VLOOKUP(C69,Kode!A2:C1008,2,FALSE)","v":{"$error":"#N/A"}},{"$f":"VLOOKUP(C69,Kode!A2:C1008,3,FALSE)","v":{"$error":"#N/A"}},null,{"$f":"VLOOKUP(C69,Kode!A2:D1008,4,FALSE)","v":{"$error":"#N/A"}},null,null,null,null,null,null,null,null,null,{"$f":"VLOOKUP(C69,Kode!A2:E1008,5,FALSE)","v":{"$error":"#N/A"}},null,null,null,null,null,{"$error":"#DIV/0!"}]
[{"$f":"VLOOKUP(C70,Kode!A2:C1008,2,FALSE)","v":{"$error":"#N/A"}},{"$f":"VLOOKUP(C70,Kode!A2:C1008,3,FALSE)","v":{"$error":"#N/A"}},null,{"$f":"VLOOKUP(C70,Kode!A2:D1008,4,FALSE)","v":{"$error":"#N/A"}},null,null,null,null,null,null,null,null,null,{"$f":"VLOOKUP(C70,Kode!A2:E1008,5,FALSE)","v":{"$error":"#N/A"}},null,null,null,null,null,{"$error":"#DIV/0!"}]
[{"$f":"VLOOKUP(C71,Kode!A2:C1008,2,FALSE)","v":{"$error":"#N/A"}},{"$f":"VLOOKUP(C71,Kode!A2:C1008,3,FALSE)","v":{"$error":"#N/A"}},null,{"$f":"VLOOKUP(C71,Kode!A2:D1008,4,FALSE)","v":{"$error":"#N/A"}},null,null,null,null,null,null,null,null,null,{"$f":"VLOOKUP(C71,Kode!A2:E1008,5,FALSE)","v":{"$error":"#N/A"}},null,null,null,null,null,{"$error":"#DIV/0!"}]
[{"$f":"VLOOKUP(C72,Kode!A2:C1008,2,FALSE)","v":{"$error":"#N/A"}},{"$f":"VLOOKUP(C72,Kode!A2:C1008,3,FALSE)","v":{"$error":"#N/A"}},null,{"$f":"VLOOKUP(C72,Kode!A2:D1008,4,FALSE)","v":{"$error":"#N/A"}},null,null,null,null,null,null,null,null,null,{"$f":"VLOOKUP(C72,Kode!A2:E1008,5,FALSE)","v":{"$error":"#N/A"}},null,null,null,null,null,{"$error":"#DIV/0!"}]
[{"$f":"VLOOKUP(C73,Kode!A2:C1008,2,FALSE)","v":{"$error":"#N/A"}},{"$f":"VLOOKUP(C73,Kode!A2:C1008,3,FALSE)","v":{"$error":"#N/A"}},null,{"$f":"VLOOKUP(C73,Kode!A2:D1008,4,FALSE)","v":{"$error":"#N/A"}},null,null,null,null,null,null,null,null,null,{"$f":"VLOOKUP(C73,Kode!A2:E1008,5,FALSE)","v":{"$error":"#N/A"}},null,null,null,null,null,{"$error":"#DIV/0!"}]
[{"$f":"VLOOKUP(C74,Kode!A2:C1008,2,FALSE)","v":{"$error":"#N/A"}},{"$f":"VLOOKUP(C74,Kode!A2:C1008,3,FALSE)","v":{"$error":"#N/A"}},null,{"$f":"VLOOKUP(C74,Kode!A2:D1008,4,FALSE)","v":{"$error":"#N/A"}},null,null,null,null,null,null,null,null,null,{"$f":"VLOOKUP(C74,Kode!A2:E1008,5,FALSE)","v":{"$error":"#N/A"}},null,null,null,null,null,{"$error":"#DIV/0!"}]
[{"$f":"VLOOKUP(C75,Kode!A2:C1008,2,FALSE)","v":{"$error":"#N/A"}},{"$f":"VLOOKUP(C75,Kode!A2:C1008,3,FALSE)","v":{"$error":"#N/A"}},null,{"$f":"VLOOKUP(C75,Kode!A2:D1008,4,FALSE)","v":{"$error":"#N/A"}},null,null,null,null,null,null,null,null,null,{"$f":"VLOOKUP(C75,Kode!A2:E1008,5,FALSE)","v":{"$error":"#N/A"}},null,null,null,null,null,{"$error":"#DIV/0!"}]
[{"$f":"VLOOKUP(C76,Kode!A2:C1008,2,FALSE)","v":{"$error":"#N/A"}},{"$f":"VLOOKUP(C76,Kode!A2:C1008,3,FALSE)","v":{"$error":"#N/A"}},null,{"$f":"VLOOKUP(C76,Kode!A2:D1008,4,FALSE)","v":{"$error":"#N/A"}},null,null,null,null,null,null,null,null,null,{"$f":"VLOOKUP(C76,Kode!A2:E1008,5,FALSE)","v":{"$error":"#N/A"}},null,null,null,null,null,{"$error":"#DIV/0!"}]
[{"$f":"VLOOKUP(C77,Kode!A2:C1008,2,FALSE)","v":{"$error":"#N/A"}},{"$f":"VLOOKUP(C77,Kode!A2:C1008,3,FALSE)","v":{"$error":"#N/A"}},null,{"$f":"VLOOKUP(C77,Kode!A2:D1008,4,FALSE)","v":{"$error":"#N/A"}},null,null,null,null,null,null,null,null,null,{"$f":"VLOOKUP(C77,Kode!A2:E1008,5,FALSE)","v":{"$error":"#N/A"}},null,null,null,null,null,{"$error":"#DIV/0!"}]
[{"$f":"VLOOKUP(C78,Kode!A2:C1008,2,FALSE)","v":{"$error":"#N/A"}},{"$f":"VLOOKUP(C78,Kode!A2:C1008,3,FALSE)","v":{"$error":"#N/A"}},null,{"$f":"VLOOKUP(C78,Kode!A2:D1008,4,FALSE)","v":{"$error":"#N/A"}},null,null,null,null,null,null,null,null,null,{"$f":"VLOOKUP(C78,Kode!A2:E1008,5,FALSE)","v":{"$error":"#N/A"}},null,null,null,null,null,{"$error":"#DIV/0!"}]
[{"$f":"VLOOKUP(C79,Kode!A2:C1008,2,FALSE)","v":{"$error":"#N/A"}},{"$f":"VLOOKUP(C79,Kode!A2:C1008,3,FALSE)","v":{"$error":"#N/A"}},null,{"$f":"VLOOKUP(C79,Kode!A2:D1008,4,FALSE)","v":{"$error":"#N/A"}},null,null,null,null,null,null,null,null,null,{"$f":"VLOOKUP(C79,Kode!A2:E1008,5,FALSE)","v":{"$error":"#N/A"}},null,null,null,null,null,{"$error":"#DIV/0!"}]
[{"$f":"VLOOKUP(C80,Kode!A2:C1008,2,FALSE)","v":{"$error":"#N/A"}},{"$f":"VLOOKUP(C80,Kode!A2:C1008,3,FALSE)","v":{"$error":"#N/A"}},null,{"$f":"VLOOKUP(C80,Kode!A2:D1008,4,FALSE)","v":{"$error":"#N/A"}},null,null,null,null,null,null,null,null,null,{"$f":"VLOOKUP(C80,Kode!A2:E1008,5,FALSE)","v":{"$error":"#N/A"}},null,null,null,null,null,{"$error":"#DIV/0!"}]
[{"$f":"VLOOKUP(C81,Kode!A2:C1008,2,FALSE)","v":{"$error":"#N/A"}},{"$f":"VLOOKUP(C81,Kode!A2:C1008,3,FALSE)","v":{"$error":"#N/A"}},null,{"$f":"VLOOKUP(C81,Kode!A2:D1008,4,FALSE)","v":{"$error":"#N/A"}},null,null,null,null,null,null,null,null,null,{"$f":"VLOOKUP(C81,Kode!A2:E1008,5,FALSE)","v":{"$error":"#N/A"}},null,null,null,null,null,{"$error":"#DIV/0!"}]
[{"$f":"VLOOKUP(C82,Kode!A2:C1008,2,FALSE)","v":{"$error":"#N/A"}},{"$f":"VLOOKUP(C82,Kode!A2:C1008,3,FALSE)","v":{"$error":"#N/A"}},null,{"$f":"VLOOKUP(C82,Kode!A2:D1008,4,FALSE)","v":{"$error":"#N/A"}},null,null,null,null,null,null,null,null,null,{"$f":"VLOOKUP(C82,Kode!A2:E1008,5,FALSE)","v":{"$error":"#N/A"}},null,null,null,null,null,{"$error":"#DIV/0!"}]
[{"$f":"VLOOKUP(C83,Kode!A2:C1008,2,FALSE)","v":{"$error":"#N/A"}},{"$f":"VLOOKUP(C83,Kode!A2:C1008,3,FALSE)","v":{"$error":"#N/A"}},null,{"$f":"VLOOKUP(C83,Kode!A2:D1008,4,FALSE)","v":{"$error":"#N/A"}},null,null,null,null,null,null,null,null,null,{"$f":"VLOOKUP(C83,Kode!A2:E1008,5,FALSE)","v":{"$error":"#N/A"}},null,null,null,null,null,{"$error":"#DIV/0!"}]
[{"$f":"VLOOKUP(C84,Kode!A2:C1008,2,FALSE)","v":{"$error":"#N/A"}},{"$f":"VLOOKUP(C84,Kode!A2:C1008,3,FALSE)","v":{"$error":"#N/A"}},null,{"$f":"VLOOKUP(C84,Kode!A2:D1008,4,FALSE)","v":{"$error":"#N/A"}},null,null,null,null,null,null,null,null,null,{"$f":"VLOOKUP(C84,Kode!A2:E1008,5,FALSE)","v":{"$error":"#N/A"}},null,null,null,null,null,{"$error":"#DIV/0!"}]
[{"$f":"VLOOKUP(C85,Kode!A2:C1008,2,FALSE)","v":{"$error":"#N/A"}},{"$f":"VLOOKUP(C85,Kode!A2:C1008,3,FALSE)","v":{"$error":"#N/A"}},null,{"$f":"VLOOKUP(C85,Kode!A2:D1008,4,FALSE)","v":{"$error":"#N/A"}},null,null,null,null,null,null,null,null,null,{"$f":"VLOOKUP(C85,Kode!A2:E1008,5,FALSE)","v":{"$error":"#N/A"}},null,null,null,null,null,{"$error":"#DIV/0!"}]
[{"$f":"VLOOKUP(C86,Kode!A2:C1008,2,FALSE)","v":{"$error":"#N/A"}},{"$f":"VLOOKUP(C86,Kode!A2:C1008,3,FALSE)","v":{"$error":"#N/A"}},null,{"$f":"VLOOKUP(C86,Kode!A2:D1008,4,FALSE)","v":{"$error":"#N/A"}},null,null,null,null,null,null,null,null,null,{"$f":"VLOOKUP(C86,Kode!A2:E1008,5,FALSE)","v":{"$error":"#N/A"}},null,null,null,null,null,{"$error":"#DIV/0!"}]
[{"$f":"VLOOKUP(C87,Kode!A2:C1008,2,FALSE)","v":{"$error":"#N/A"}},{"$f":"VLOOKUP(C87,Kode!A2:C1008,3,FALSE)","v":{"$error":"#N/A"}},null,{"$f":"VLOOKUP(C87,Kode!A2:D1008,4,FALSE)","v":{"$error":"#N/A"}},null,null,null,null,null,null,null,null,null,{"$f":"VLOOKUP(C87,Kode!A2:E1008,5,FALSE)","v":{"$error":"#N/A"}},null,null,null,null,null,{"$error":"#DIV/0!"}]
[{"$f":"VLOOKUP(C88,Kode!A2:C1008,2,FALSE)","v":{"$error":"#N/A"}},{"$f":"VLOOKUP(C88,Kode!A2:C1008,3,FALSE)","v":{"$error":"#N/A"}},null,{"$f":"VLOOKUP(C88,Kode!A2:D1008,4,FALSE)","v":{"$error":"#N/A"}},null,null,null,null,null,null,null,null,null,{"$f":"VLOOKUP(C88,Kode!A2:E1008,5,FALSE)","v":{"$error":"#N/A"}},null,null,null,null,null,{"$error":"#DIV/0!"}]
[{"$f":"VLOOKUP(C89,Kode!A2:C1008,2,FALSE)","v":{"$error":"#N/A"}},{"$f":"VLOOKUP(C89,Kode!A2:C1008,3,FALSE)","v":{"$error":"#N/A"}},null,{"$f":"VLOOKUP(C89,Kode!A2:D1008,4,FALSE)","v":{"$error":"#N/A"}},null,null,null,null,null,null,null,null,null,{"$f":"VLOOKUP(C89,Kode!A2:E1008,5,FALSE)","v":{"$error":"#N/A"}},null,null,null,null,null,{"$error":"#DIV/0!"}]
[{"$f":"VLOOKUP(C90,Kode!A2:C1008,2,FALSE)","v":{"$error":"#N/A"}},{"$f":"VLOOKUP(C90,Kode!A2:C1008,3,FALSE)","v":{"$error":"#N/A"}},null,{"$f":"VLOOKUP(C90,Kode!A2:D1008,4,FALSE)","v":{"$error":"#N/A"}},null,null,null,null,null,null,null,null,null,{"$f":"VLOOKUP(C90,Kode!A2:E1008,5,FALSE)","v":{"$error":"#N/A"}},null,null,null,null,null,{"$error":"#DIV/0!"}]
[{"$f":"VLOOKUP(C91,Kode!A2:C1008,2,FALSE)","v":{"$error":"#N/A"}},{"$f":"VLOOKUP(C91,Kode!A2:C1008,3,FALSE)","v":{"$error":"#N/A"}},null,{"$f":"VLOOKUP(C91,Kode!A2:D1008,4,FALSE)","v":{"$error":"#N/A"}},null,null,null,null,null,null,null,null,null,{"$f":"VLOOKUP(C91,Kode!A2:E1008,5,FALSE)","v":{"$error":"#N/A"}},null,null,null,null,null,{"$error":"#DIV/0!"}]
[{"$f":"VLOOKUP(C92,Kode!A2:C1008,2,FALSE)","v":{"$error":"#N/A"}},{"$f":"VLOOKUP(C92,Kode!A2:C1008,3,FALSE)","v":{"$error":"#N/A"}},null,{"$f":"VLOOKUP(C92,Kode!A2:D1008,4,FALSE)","v":{"$error":"#N/A"}},null,null,null,null,null,null,null,null,null,{"$f":"VLOOKUP(C92,Kode!A2:E1008,5,FALSE)","v":{"$error":"#N/A"}},null,null,null,null,null,{"$error":"#DIV/0!"}]
[{"$f":"VLOOKUP(C93,Kode!A2:C1008,2,FALSE)","v":{"$error":"#N/A"}},{"$f":"VLOOKUP(C93,Kode!A2:C1008,3,FALSE)","v":{"$error":"#N/A"}},null,{"$f":"VLOOKUP(C93,Kode!A2:D1008,4,FALSE)","v":{"$error":"#N/A"}},null,null,null,null,null,null,null,null,null,{"$f":"VLOOKUP(C93,Kode!A2:E1008,5,FALSE)","v":{"$error":"#N/A"}},null,null,null,null,null,{"$error":"#DIV/0!"}]
[{"$f":"VLOOKUP(C94,Kode!A2:C1008,2,FALSE)","v":{"$error":"#N/A"}},{"$f":"VLOOKUP(C94,Kode!A2:C1008,3,FALSE)","v":{"$error":"#N/A"}},null,{"$f":"VLOOKUP(C94,Kode!A2:D1008,4,FALSE)","v":{"$error":"#N/A"}},null,null,null,null,null,null,null,null,null,{"$f":"VLOOKUP(C94,Kode!A2:E1008,5,FALSE)","v":{"$error":"#N/A"}},null,null,null,null,null,{"$error":"#DIV/0!"}]
[{"$f":"VLOOKUP(C95,Kode!A2:C1008,2,FALSE)","v":{"$error":"#N/A"}},{"$f":"VLOOKUP(C95,Kode!A2:C1008,3,FALSE)","v":{"$error":"#N/A"}},null,{"$f":"VLOOKUP(C95,Kode!A2:D1008,4,FALSE)","v":{"$error":"#N/A"}},null,null,null,null,null,null,null,null,null,{"$f":"VLOOKUP(C95,Kode!A2:E1008,5,FALSE)","v":{"$error":"#N/A"}},null,null,null,null,null,{"$error":"#DIV/0!"}]
[{"$f":"VLOOKUP(C96,Kode!A2:C1008,2,FALSE)","v":{"$error":"#N/A"}},{"$f":"VLOOKUP(C96,Kode!A2:C1008,3,FALSE)","v":{"$error":"#N/A"}},null,{"$f":"VLOOKUP(C96,Kode!A2:D1008,4,FALSE)","v":{"$error":"#N/A"}},null,null,null,null,null,null,null,null,null,{"$f":"VLOOKUP(C96,Kode!A2:E1008,5,FALSE)","v":{"$error":"#N/A"}},null,null,null,null,null,{"$error":"#DIV/0!"}]
[{"$f":"VLOOKUP(C97,Kode!C2:AA1008,2,FALSE)","v":{"$error":"#N/A"}},{"$f":"VLOOKUP(C97,Kode!A2:C1008,3,FALSE)","v":{"$error":"#N/A"}},null,{"$f":"VLOOKUP(C97,Kode!A2:D1008,4,FALSE)","v":{"$error":"#N/A"}},null,null,null,null,null,null,null,null,null,{"$f":"VLOOKUP(C97,Kode!A2:E1008,5,FALSE)","v":{"$error":"#N/A"}},null,null,null,null,null,{"$error":"#DIV/0!"}]
[{"$f":"VLOOKUP(C98,Kode!A2:C1008,2,FALSE)","v":{"$error":"#N/A"}},{"$f":"VLOOKUP(C98,Kode!A2:C1008,3,FALSE)","v":{"$error":"#N/A"}},null,{"$f":"VLOOKUP(C98,Kode!A2:D1008,4,FALSE)","v":{"$error":"#N/A"}},null,null,null,null,null,null,null,null,null,{"$f":"VLOOKUP(C98,Kode!A2:E1008,5,FALSE)","v":{"$error":"#N/A"}},null,null,null,null,null,{"$error":"#DIV/0!"}]
[{"$f":"VLOOKUP(C99,Kode!A2:C1008,2,FALSE)","v":{"$error":"#N/A"}},{"$f":"VLOOKUP(C99,Kode!A2:C1008,3,FALSE)","v":{"$error":"#N/A"}},null,{"$f":"VLOOKUP(C99,Kode!A2:D1008,4,FALSE)","v":{"$error":"#N/A"}},null,null,null,null,null,null,null,null,null,{"$f":"VLOOKUP(C99,Kode!A2:E1008,5,FALSE)","v":{"$error":"#N/A"}},null,null,null,null,null,{"$error":"#DIV/0!"}]
[{"$f":"VLOOKUP(C100,Kode!A2:C1008,2,FALSE)","v":{"$error":"#N/A"}},{"$f":"VLOOKUP(C100,Kode!A2:C1008,3,FALSE)","v":{"$error":"#N/A"}},null,{"$f":"VLOOKUP(C100,Kode!A2:D1008,4,FALSE)","v":{"$error":"#N/A"}},null,null,null,null,null,null,null,null,null,{"$f":"VLOOKUP(C100,Kode!A2:E1008,5,FALSE)","v":{"$error":"#N/A"}},null,null,null,null,null,{"$error":"#DIV/0!"}]
[{"$f":"VLOOKUP(C101,Kode!A2:C1008,2,FALSE)","v":{"$error":"#N/A"}},{"$f":"VLOOKUP(C101,Kode!A2:C1008,3,FALSE)","v":{"$error":"#N/A"}},null,{"$f":"VLOOKUP(C101,Kode!A2:D1008,4,FALSE)","v":{"$error":"#N/A"}},null,null,null,null,null,null,null,null,null,{"$f":"VLOOKUP(C101,Kode!A2:E1008,5,FALSE)","v":{"$error":"#N/A"}},null,null,null,null,null,{"$error":"#DIV/0!"}]
[{"$f":"VLOOKUP(C102,Kode!A2:C1008,2,FALSE)","v":{"$error":"#N/A"}},{"$f":"VLOOKUP(C102,Kode!A2:C1008,3,FALSE)","v":{"$error":"#N/A"}},null,{"$f":"VLOOKUP(C102,Kode!A2:D1008,4,FALSE)","v":{"$error":"#N/A"}},null,null,null,null,null,null,null,null,null,{"$f":"VLOOKUP(C102,Kode!A2:E1008,5,FALSE)","v":{"$error":"#N/A"}},null,null,null,null,null,{"$error":"#DIV/0!"}]
[{"$f":"VLOOKUP(C103,Kode!A2:C1008,2,FALSE)","v":{"$error":"#N/A"}},{"$f":"VLOOKUP(C103,Kode!A2:C1008,3,FALSE)","v":{"$error":"#N/A"}},null,{"$f":"VLOOKUP(C103,Kode!A2:D1008,4,FALSE)","v":{"$error":"#N/A"}},null,null,null,null,null,null,null,null,null,{"$f":"VLOOKUP(C103,Kode!A2:E1008,5,FALSE)","v":{"$error":"#N/A"}},null,null,null,null,null,{"$error":"#DIV/0!"}]
[{"$f":"VLOOKUP(C104,Kode!A2:C1008,2,FALSE)","v":{"$error":"#N/A"}},{"$f":"VLOOKUP(C104,Kode!A2:C1008,3,FALSE)","v":{"$error":"#N/A"}},null,{"$f":"VLOOKUP(C104,Kode!A2:D1008,4,FALSE)","v":{"$error":"#N/A"}},null,null,null,null,null,null,null,null,null,{"$f":"VLOOKUP(C104,Kode!A2:E1008,5,FALSE)","v":{"$error":"#N/A"}},null,null,null,null,null,{"$error":"#DIV/0!"}]
[{"$f":"VLOOKUP(C105,Kode!A2:C1008,2,FALSE)","v":{"$error":"#N/A"}},{"$f":"VLOOKUP(C105,Kode!A2:C1008,3,FALSE)","v":{"$error":"#N/A"}},null,{"$f":"VLOOKUP(C105,Kode!A2:D1008,4,FALSE)","v":{"$error":"#N/A"}},null,null,null,null,null,null,null,null,null,{"$f":"VLOOKUP(C105,Kode!A2:E1008,5,FALSE)","v":{"$error":"#N/A"}},null,null,null,null,null,{"$error":"#DIV/0!"}]
[{"$f":"VLOOKUP(C106,Kode!A2:C1008,2,FALSE)","v":{"$error":"#N/A"}},{"$f":"VLOOKUP(C106,Kode!A2:C1008,3,FALSE)","v":{"$error":"#N/A"}},null,{"$f":"VLOOKUP(C106,Kode!A2:D1008,4,FALSE)","v":{"$error":"#N/A"}},null,null,null,null,null,null,null,null,null,{"$f":"VLOOKUP(C106,Kode!A2:E1008,5,FALSE)","v":{"$error":"#N/A"}},null,null,null,null,null,{"$error":"#DIV/0!"}]
[{"$f":"VLOOKUP(C107,Kode!A2:C1008,2,FALSE)","v":{"$error":"#N/A"}},{"$f":"VLOOKUP(C107,Kode!A2:C1008,3,FALSE)","v":{"$error":"#N/A"}},null,{"$f":"VLOOKUP(C107,Kode!A2:D1008,4,FALSE)","v":{"$error":"#N/A"}},null,null,null,null,null,null,null,null,null,{"$f":"VLOOKUP(C107,Kode!A2:E1008,5,FALSE)","v":{"$error":"#N/A"}},null,null,null,null,null,{"$error":"#DIV/0!"}]
[{"$f":"VLOOKUP(C108,Kode!A2:C1008,2,FALSE)","v":{"$error":"#N/A"}},{"$f":"VLOOKUP(C108,Kode!A2:C1008,3,FALSE)","v":{"$error":"#N/A"}},null,{"$f":"VLOOKUP(C108,Kode!A2:D1008,4,FALSE)","v":{"$error":"#N/A"}},null,null,null,null,null,null,null,null,null,{"$f":"VLOOKUP(C108,Kode!A2:E1008,5,FALSE)","v":{"$error":"#N/A"}},null,null,null,null,null,{"$error":"#DIV/0!"}]
[{"$f":"VLOOKUP(C109,Kode!A2:C1008,2,FALSE)","v":{"$error":"#N/A"}},{"$f":"VLOOKUP(C109,Kode!A2:C1008,3,FALSE)","v":{"$error":"#N/A"}},null,{"$f":"VLOOKUP(C109,Kode!A2:D1008,4,FALSE)","v":{"$error":"#N/A"}},null,null,null,null,null,null,null,null,null,{"$f":"VLOOKUP(C109,Kode!A2:E1008,5,FALSE)","v":{"$error":"#N/A"}},null,null,null,null,null,{"$error":"#DIV/0!"}]
[{"$f":"VLOOKUP(C110,Kode!A2:C1008,2,FALSE)","v":{"$error":"#N/A"}},{"$f":"VLOOKUP(C110,Kode!A2:C1008,3,FALSE)","v":{"$error":"#N/A"}},null,{"$f":"VLOOKUP(C110,Kode!A2:D1008,4,FALSE)","v":{"$error":"#N/A"}},null,null,null,null,null,null,null,null,null,{"$f":"VLOOKUP(C110,Kode!A2:E1008,5,FALSE)","v":{"$error":"#N/A"}},null,null,null,null,null,{"$error":"#DIV/0!"}]
[{"$f":"VLOOKUP(C111,Kode!A2:C1008,2,FALSE)","v":{"$error":"#N/A"}},{"$f":"VLOOKUP(C111,Kode!A2:C1008,3,FALSE)","v":{"$error":"#N/A"}},null,{"$f":"VLOOKUP(C111,Kode!A2:D1008,4,FALSE)","v":{"$error":"#N/A"}},null,null,null,null,null,null,null,null,null,{"$f":"VLOOKUP(C111,Kode!A2:E1008,5,FALSE)","v":{"$error":"#N/A"}},null,null,null,null,null,{"$error":"#DIV/0!"}]
[{"$f":"VLOOKUP(C112,Kode!A2:C1008,2,FALSE)","v":{"$error":"#N/A"}},{"$f":"VLOOKUP(C112,Kode!A2:C1008,3,FALSE)","v":{"$error":"#N/A"}},null,{"$f":"VLOOKUP(C112,Kode!A2:D1008,4,FALSE)","v":{"$error":"#N/A"}},null,null,null,null,null,null,null,null,null,{"$f":"VLOOKUP(C112,Kode!A2:E1008,5,FALSE)","v":{"$error":"#N/A"}},null,null,null,null,null,{"$error":"#DIV/0!"}]
[{"$f":"VLOOKUP(C113,Kode!A2:C1008,2,FALSE)","v":{"$error":"#N/A"}},{"$f":"VLOOKUP(C113,Kode!A2:C1008,3,FALSE)","v":{"$error":"#N/A"}},null,{"$f":"VLOOKUP(C113,Kode!A2:D1008,4,FALSE)","v":{"$error":"#N/A"}},null,null,null,null,null,null,null,null,null,{"$f":"VLOOKUP(C113,Kode!A2:E1008,5,FALSE)","v":{"$error":"#N/A"}},null,null,null,null,null,{"$error":"#DIV/0!"}]
[{"$f":"VLOOKUP(C114,Kode!A2:C1008,2,FALSE)","v":{"$error":"#N/A"}},{"$f":"VLOOKUP(C114,Kode!A2:C1008,3,FALSE)","v":{"$error":"#N/A"}},null,{"$f":"VLOOKUP(C114,Kode!A2:D1008,4,FALSE)","v":{"$error":"#N/A"}},null,null,null,null,null,null,null,null,null,{"$f":"VLOOKUP(C114,Kode!A2:E1008,5,FALSE)","v":{"$error":"#N/A"}},null,null,null,null,null,{"$error":"#DIV/0!"}]
[{"$f":"VLOOKUP(C115,Kode!A2:C1008,2,FALSE)","v":{"$error":"#N/A"}},{"$f":"VLOOKUP(C115,Kode!A2:C1008,3,FALSE)","v":{"$error":"#N/A"}},null,{"$f":"VLOOKUP(C115,Kode!A2:D1008,4,FALSE)","v":{"$error":"#N/A"}},null,null,null,null,null,null,null,null,null,{"$f":"VLOOKUP(C115,Kode!A2:E1008,5,FALSE)","v":{"$error":"#N/A"}},null,null,null,null,null,{"$error":"#DIV/0!"}]
[{"$f":"VLOOKUP(C116,Kode!A2:C1008,2,FALSE)","v":{"$error":"#N/A"}},{"$f":"VLOOKUP(C116,Kode!A2:C1008,3,FALSE)","v":{"$error":"#N/A"}},null,{"$f":"VLOOKUP(C116,Kode!A2:D1008,4,FALSE)","v":{"$error":"#N/A"}},null,null,null,null,null,null,null,null,null,{"$f":"VLOOKUP(C116,Kode!A2:E1008,5,FALSE)","v":{"$error":"#N/A"}},null,null,null,null,null,{"$error":"#DIV/0!"}]
[{"$f":"VLOOKUP(C117,Kode!A2:C1008,2,FALSE)","v":{"$error":"#N/A"}},{"$f":"VLOOKUP(C117,Kode!A2:C1008,3,FALSE)","v":{"$error":"#N/A"}},null,{"$f":"VLOOKUP(C117,Kode!A2:D1008,4,FALSE)","v":{"$error":"#N/A"}},null,null,null,null,null,null,null,null,null,{"$f":"VLOOKUP(C117,Kode!A2:E1008,5,FALSE)","v":{"$error":"#N/A"}},null,null,null,null,null,{"$error":"#DIV/0!"}]
[{"$f":"VLOOKUP(C118,Kode!A2:C1008,2,FALSE)","v":{"$error":"#N/A"}},{"$f":"VLOOKUP(C118,Kode!A2:C1008,3,FALSE)","v":{"$error":"#N/A"}},null,{"$f":"VLOOKUP(C118,Kode!A2:D1008,4,FALSE)","v":{"$error":"#N/A"}},null,null,null,null,null,null,null,null,null,{"$f":"VLOOKUP(C118,Kode!A2:E1008,5,FALSE)","v":{"$error":"#N/A"}},null,null,null,null,null,{"$error":"#DIV/0!"}]
[{"$f":"VLOOKUP(C119,Kode!A2:C1008,2,FALSE)","v":{"$error":"#N/A"}},{"$f":"VLOOKUP(C119,Kode!A2:C1008,3,FALSE)","v":{"$error":"#N/A"}},null,{"$f":"VLOOKUP(C119,Kode!A2:D1008,4,FALSE)","v":{"$error":"#N/A"}},null,null,null,null,null,null,null,null,null,{"$f":"VLOOKUP(C119,Kode!A2:E1008,5,FALSE)","v":{"$error":"#N/A"}},null,null,null,null,null,{"$error":"#DIV/0!"}]
[{"$f":"VLOOKUP(C120,Kode!A2:C1008,2,FALSE)","v":{"$error":"#N/A"}},{"$f":"VLOOKUP(C120,Kode!A2:C1008,3,FALSE)","v":{"$error":"#N/A"}},null,{"$f":"VLOOKUP(C120,Kode!A2:D1008,4,FALSE)","v":{"$error":"#N/A"}},null,null,null,null,null,null,null,null,null,{"$f":"VLOOKUP(C120,Kode!A2:E1008,5,FALSE)","v":{"$error":"#N/A"}},null,null,null,null,null,{"$error":"#DIV/0!"}]
[{"$f":"VLOOKUP(C121,Kode!A2:C1008,2,FALSE)","v":{"$error":"#N/A"}},{"$f":"VLOOKUP(C121,Kode!A2:C1008,3,FALSE)","v":{"$error":"#N/A"}},null,{"$f":"VLOOKUP(C121,Kode!A2:D1008,4,FALSE)","v":{"$error":"#N/A"}},null,null,null,null,null,null,null,null,null,{"$f":"VLOOKUP(C121,Kode!A2:E1008,5,FALSE)","v":{"$error":"#N/A"}},null,null,null,null,null,{"$error":"#DIV/0!"}]
[{"$f":"VLOOKUP(C122,Kode!A2:C1008,2,FALSE)","v":{"$error":"#N/A"}},{"$f":"VLOOKUP(C122,Kode!A2:C1008,3,FALSE)","v":{"$error":"#N/A"}},null,{"$f":"VLOOKUP(C122,Kode!A2:D1008,4,FALSE)","v":{"$error":"#N/A"}},null,null,null,null,null,null,null,null,null,{"$f":"VLOOKUP(C122,Kode!A2:E1008,5,FALSE)","v":{"$error":"#N/A"}},null,null,null,null,null,{"$error":"#DIV/0!"}]
[{"$f":"VLOOKUP(C123,Kode!A2:C1008,2,FALSE)","v":{"$error":"#N/A"}},{"$f":"VLOOKUP(C123,Kode!A2:C1008,3,FALSE)","v":{"$error":"#N/A"}},null,{"$f":"VLOOKUP(C123,Kode!A2:D1008,4,FALSE)","v":{"$error":"#N/A"}},null,null,null,null,null,null,null,null,null,{"$f":"VLOOKUP(C123,Kode!A2:E1008,5,FALSE)","v":{"$error":"#N/A"}},null,null,null,null,null,{"$error":"#DIV/0!"}]
[{"$f":"VLOOKUP(C124,Kode!A2:C1008,2,FALSE)","v":{"$error":"#N/A"}},{"$f":"VLOOKUP(C124,Kode!A2:C1008,3,FALSE)","v":{"$error":"#N/A"}},null,{"$f":"VLOOKUP(C124,Kode!A2:D1008,4,FALSE)","v":{"$error":"#N/A"}},null,null,null,null,null,null,null,null,null,{"$f":"VLOOKUP(C124,Kode!A2:E1008,5,FALSE)","v":{"$error":"#N/A"}},null,null,null,null,null,{"$error":"#DIV/0!"}]
[{"$f":"VLOOKUP(C125,Kode!A2:C1008,2,FALSE)","v":{"$error":"#N/A"}},{"$f":"VLOOKUP(C125,Kode!A2:C1008,3,FALSE)","v":{"$error":"#N/A"}},null,{"$f":"VLOOKUP(C125,Kode!A2:D1008,4,FALSE)","v":{"$error":"#N/A"}},null,null,null,null,null,null,null,null,null,{"$f":"VLOOKUP(C125,Kode!A2:E1008,5,FALSE)","v":{"$error":"#N/A"}},null,null,null,null,null,{"$error":"#DIV/0!"}]
[{"$f":"VLOOKUP(C126,Kode!A2:C1008,2,FALSE)","v":{"$error":"#N/A"}},{"$f":"VLOOKUP(C126,Kode!A2:C1008,3,FALSE)","v":{"$error":"#N/A"}},null,{"$f":"VLOOKUP(C126,Kode!A2:D1008,4,FALSE)","v":{"$error":"#N/A"}},null,null,null,null,null,null,null,null,null,{"$f":"VLOOKUP(C126,Kode!A2:E1008,5,FALSE)","v":{"$error":"#N/A"}},null,null,null,null,null,{"$error":"#DIV/0!"}]
[{"$f":"VLOOKUP(C127,Kode!A2:C1008,2,FALSE)","v":{"$error":"#N/A"}},{"$f":"VLOOKUP(C127,Kode!A2:C1008,3,FALSE)","v":{"$error":"#N/A"}},null,{"$f":"VLOOKUP(C127,Kode!A2:D1008,4,FALSE)","v":{"$error":"#N/A"}},null,null,null,null,null,null,null,null,null,{"$f":"VLOOKUP(C127,Kode!A2:E1008,5,FALSE)","v":{"$error":"#N/A"}},null,null,null,null,null,{"$error":"#DIV/0!"}]
[{"$f":"VLOOKUP(C128,Kode!A2:C1008,2,FALSE)","v":{"$error":"#N/A"}},{"$f":"VLOOKUP(C128,Kode!A2:C1008,3,FALSE)","v":{"$error":"#N/A"}},null,{"$f":"VLOOKUP(C128,Kode!A2:D1008,4,FALSE)","v":{"$error":"#N/A"}},null,null,null,null,null,null,null,null,null,{"$f":"VLOOKUP(C128,Kode!A2:E1008,5,FALSE)","v":{"$error":"#N/A"}},null,null,null,null,null,{"$error":"#DIV/0!"}]
[{"$f":"VLOOKUP(C129,Kode!A2:C1008,2,FALSE)","v":{"$error":"#N/A"}},{"$f":"VLOOKUP(C129,Kode!A2:C1008,3,FALSE)","v":{"$error":"#N/A"}},null,{"$f":"VLOOKUP(C129,Kode!A2:D1008,4,FALSE)","v":{"$error":"#N/A"}},null,null,null,null,null,null,null,null,null,{"$f":"VLOOKUP(C129,Kode!A2:E1008,5,FALSE)","v":{"$error":"#N/A"}},null,null,null,null,null,{"$error":"#DIV/0!"}]
[{"$f":"VLOOKUP(C130,Kode!A2:C1008,2,FALSE)","v":{"$error":"#N/A"}},{"$f":"VLOOKUP(C130,Kode!A2:C1008,3,FALSE)","v":{"$error":"#N/A"}},null,{"$f":"VLOOKUP(C130,Kode!A2:D1008,4,FALSE)","v":{"$error":"#N/A"}},null,null,null,null,null,null,null,null,null,{"$f":"VLOOKUP(C130,Kode!A2:E1008,5,FALSE)","v":{"$error":"#N/A"}},null,null,null,null,null,{"$f":"R130/P130*100","v":{"$error":"#DIV/0!"}}]
[{"$f":"VLOOKUP(C131,Kode!A2:C1008,2,FALSE)","v":{"$error":"#N/A"}},{"$f":"VLOOKUP(C131,Kode!A2:C1008,3,FALSE)","v":{"$error":"#N/A"}},null,{"$f":"VLOOKUP(C131,Kode!A2:D1008,4,FALSE)","v":{"$error":"#N/A"}},null,null,null,null,null,null,null,null,null,{"$f":"VLOOKUP(C131,Kode!A2:E1008,5,FALSE)","v":{"$error":"#N/A"}},null,null,null,null,null,{"$error":"#DIV/0!"}]
[{"$f":"VLOOKUP(C132,Kode!C2:AA1008,2,FALSE)","v":{"$error":"#N/A"}},{"$f":"VLOOKUP(C132,Kode!A2:C1008,3,FALSE)","v":{"$error":"#N/A"}},null,{"$f":"VLOOKUP(C132,Kode!A2:D1008,4,FALSE)","v":{"$error":"#N/A"}},null,null,null,null,null,null,null,null,null,{"$f":"VLOOKUP(C132,Kode!A2:E1008,5,FALSE)","v":{"$error":"#N/A"}},null,null,null,null,null,{"$error":"#DIV/0!"}]
[{"$f":"VLOOKUP(C133,Kode!A2:C1008,2,FALSE)","v":{"$error":"#N/A"}},{"$f":"VLOOKUP(C133,Kode!A2:C1008,3,FALSE)","v":{"$error":"#N/A"}},null,{"$f":"VLOOKUP(C133,Kode!A2:D1008,4,FALSE)","v":{"$error":"#N/A"}},null,null,null,null,null,null,null,null,null,{"$f":"VLOOKUP(C133,Kode!A2:E1008,5,FALSE)","v":{"$error":"#N/A"}},null,null,null,null,null,{"$error":"#DIV/0!"}]
[{"$f":"VLOOKUP(C134,Kode!A2:C1008,2,FALSE)","v":{"$error":"#N/A"}},{"$f":"VLOOKUP(C134,Kode!A2:C1008,3,FALSE)","v":{"$error":"#N/A"}},null,{"$f":"VLOOKUP(C134,Kode!A2:D1008,4,FALSE)","v":{"$error":"#N/A"}},null,null,null,null,null,null,null,null,null,{"$f":"VLOOKUP(C134,Kode!A2:E1008,5,FALSE)","v":{"$error":"#N/A"}},null,null,null,null,null,{"$error":"#DIV/0!"}]
[{"$f":"VLOOKUP(C135,Kode!A2:C1008,2,FALSE)","v":{"$error":"#N/A"}},{"$f":"VLOOKUP(C135,Kode!A2:C1008,3,FALSE)","v":{"$error":"#N/A"}},null,{"$f":"VLOOKUP(C135,Kode!A2:D1008,4,FALSE)","v":{"$error":"#N/A"}},null,null,null,null,null,null,null,null,null,{"$f":"VLOOKUP(C135,Kode!A2:E1008,5,FALSE)","v":{"$error":"#N/A"}},null,null,null,null,null,{"$error":"#DIV/0!"}]
[{"$f":"VLOOKUP(C136,Kode!A2:C227,2,FALSE)","v":{"$error":"#N/A"}},{"$f":"VLOOKUP(C136,Kode!A2:C1008,3,FALSE)","v":{"$error":"#N/A"}},null,{"$f":"VLOOKUP(C136,Kode!A2:D1008,4,FALSE)","v":{"$error":"#N/A"}},null,null,null,null,null,null,null,null,null,{"$f":"VLOOKUP(C136,Kode!A2:E1008,5,FALSE)","v":{"$error":"#N/A"}},null,null,null,null,null,{"$error":"#DIV/0!"}]
[{"$f":"VLOOKUP(C137,Kode!A2:C1008,2,FALSE)","v":{"$error":"#N/A"}},{"$f":"VLOOKUP(C137,Kode!A2:C1008,3,FALSE)","v":{"$error":"#N/A"}},null,{"$f":"VLOOKUP(C137,Kode!A2:D1008,4,FALSE)","v":{"$error":"#N/A"}},null,null,null,null,null,null,null,null,null,{"$f":"VLOOKUP(C137,Kode!A2:E1008,5,FALSE)","v":{"$error":"#N/A"}},null,null,null,null,null,{"$error":"#DIV/0!"}]
[{"$f":"VLOOKUP(C138,Kode!A2:C1008,2,FALSE)","v":{"$error":"#N/A"}},{"$f":"VLOOKUP(C138,Kode!A2:C1008,3,FALSE)","v":{"$error":"#N/A"}},null,{"$f":"VLOOKUP(C138,Kode!A2:D1008,4,FALSE)","v":{"$error":"#N/A"}},null,null,null,null,null,null,null,null,null,{"$f":"VLOOKUP(C138,Kode!A2:E1008,5,FALSE)","v":{"$error":"#N/A"}},null,null,null,null,null,{"$error":"#DIV/0!"}]
[{"$f":"VLOOKUP(C139,Kode!A2:C1008,2,FALSE)","v":{"$error":"#N/A"}},{"$f":"VLOOKUP(C139,Kode!A2:C1008,3,FALSE)","v":{"$error":"#N/A"}},null,{"$f":"VLOOKUP(C139,Kode!A2:D1008,4,FALSE)","v":{"$error":"#N/A"}},null,null,null,null,null,null,null,null,null,{"$f":"VLOOKUP(C139,Kode!A2:E1008,5,FALSE)","v":{"$error":"#N/A"}},null,null,null,null,null,{"$error":"#DIV/0!"}]
[{"$f":"VLOOKUP(C140,Kode!A2:C1008,2,FALSE)","v":{"$error":"#N/A"}},{"$f":"VLOOKUP(C140,Kode!A2:C1008,3,FALSE)","v":{"$error":"#N/A"}},null,{"$f":"VLOOKUP(C140,Kode!A2:D1008,4,FALSE)","v":{"$error":"#N/A"}},null,null,null,null,null,null,null,null,null,{"$f":"VLOOKUP(C140,Kode!A2:E1008,5,FALSE)","v":{"$error":"#N/A"}},null,null,null,null,null,{"$error":"#DIV/0!"}]
[{"$f":"VLOOKUP(C141,Kode!A2:C1008,2,FALSE)","v":{"$error":"#N/A"}},{"$f":"VLOOKUP(C141,Kode!A2:C1008,3,FALSE)","v":{"$error":"#N/A"}},null,{"$f":"VLOOKUP(C141,Kode!A2:D1008,4,FALSE)","v":{"$error":"#N/A"}},null,null,null,null,null,null,null,null,null,{"$f":"VLOOKUP(C141,Kode!A2:E1008,5,FALSE)","v":{"$error":"#N/A"}},null,null,null,null,null,{"$error":"#DIV/0!"}]
[{"$f":"VLOOKUP(C142,Kode!A2:C1008,2,FALSE)","v":{"$error":"#N/A"}},{"$f":"VLOOKUP(C142,Kode!A2:C1008,3,FALSE)","v":{"$error":"#N/A"}},null,{"$f":"VLOOKUP(C142,Kode!A2:D1008,4,FALSE)","v":{"$error":"#N/A"}},null,null,null,null,null,null,null,null,null,{"$f":"VLOOKUP(C142,Kode!A2:E1008,5,FALSE)","v":{"$error":"#N/A"}},null,null,null,null,null,{"$error":"#DIV/0!"}]
[{"$f":"VLOOKUP(C143,Kode!A2:C1008,2,FALSE)","v":{"$error":"#N/A"}},{"$f":"VLOOKUP(C143,Kode!A2:C1008,3,FALSE)","v":{"$error":"#N/A"}},null,{"$f":"VLOOKUP(C143,Kode!A2:D1008,4,FALSE)","v":{"$error":"#N/A"}},null,null,null,null,null,null,null,null,null,{"$f":"VLOOKUP(C143,Kode!A2:E1008,5,FALSE)","v":{"$error":"#N/A"}},null,null,null,null,null,{"$error":"#DIV/0!"}]
[{"$f":"VLOOKUP(C144,Kode!A2:C1008,2,FALSE)","v":{"$error":"#N/A"}},{"$f":"VLOOKUP(C144,Kode!A2:C1008,3,FALSE)","v":{"$error":"#N/A"}},null,{"$f":"VLOOKUP(C144,Kode!A2:D1008,4,FALSE)","v":{"$error":"#N/A"}},null,null,null,null,null,null,null,null,null,{"$f":"VLOOKUP(C144,Kode!A2:E1008,5,FALSE)","v":{"$error":"#N/A"}},null,null,null,null,null,{"$error":"#DIV/0!"}]
[{"$f":"VLOOKUP(C145,Kode!A2:C1008,2,FALSE)","v":{"$error":"#N/A"}},{"$f":"VLOOKUP(C145,Kode!A2:C1008,3,FALSE)","v":{"$error":"#N/A"}},null,{"$f":"VLOOKUP(C145,Kode!A2:D1008,4,FALSE)","v":{"$error":"#N/A"}},null,null,null,null,null,null,null,null,null,{"$f":"VLOOKUP(C145,Kode!A2:E1008,5,FALSE)","v":{"$error":"#N/A"}},null,null,null,null,null,{"$error":"#DIV/0!"}]
[{"$f":"VLOOKUP(C146,Kode!A2:C1008,2,FALSE)","v":{"$error":"#N/A"}},{"$f":"VLOOKUP(C146,Kode!A2:C1008,3,FALSE)","v":{"$error":"#N/A"}},null,{"$f":"VLOOKUP(C146,Kode!A2:D1008,4,FALSE)","v":{"$error":"#N/A"}},null,null,null,null,null,null,null,null,null,{"$f":"VLOOKUP(C146,Kode!A2:E1008,5,FALSE)","v":{"$error":"#N/A"}},null,null,null,null,null,{"$error":"#DIV/0!"}]
[{"$f":"VLOOKUP(C147,Kode!A2:C1008,2,FALSE)","v":{"$error":"#N/A"}},{"$f":"VLOOKUP(C147,Kode!A2:C1008,3,FALSE)","v":{"$error":"#N/A"}},null,{"$f":"VLOOKUP(C147,Kode!A2:D1008,4,FALSE)","v":{"$error":"#N/A"}},null,null,null,null,null,null,null,null,null,{"$f":"VLOOKUP(C147,Kode!A2:E1008,5,FALSE)","v":{"$error":"#N/A"}},null,null,null,null,null,{"$error":"#DIV/0!"}]
[{"$f":"VLOOKUP(C148,Kode!A2:C1008,2,FALSE)","v":{"$error":"#N/A"}},{"$f":"VLOOKUP(C148,Kode!A2:C1008,3,FALSE)","v":{"$error":"#N/A"}},null,{"$f":"VLOOKUP(C148,Kode!A2:D1008,4,FALSE)","v":{"$error":"#N/A"}},null,null,null,null,null,null,null,null,null,{"$f":"VLOOKUP(C148,Kode!A2:E1008,5,FALSE)","v":{"$error":"#N/A"}},null,null,null,null,null,{"$error":"#DIV/0!"}]
[{"$f":"VLOOKUP(C149,Kode!A2:C1008,2,FALSE)","v":{"$error":"#N/A"}},{"$f":"VLOOKUP(C149,Kode!A2:C1008,3,FALSE)","v":{"$error":"#N/A"}},null,{"$f":"VLOOKUP(C149,Kode!A2:D1008,4,FALSE)","v":{"$error":"#N/A"}},null,null,null,null,null,null,null,null,null,{"$f":"VLOOKUP(C149,Kode!A2:E1008,5,FALSE)","v":{"$error":"#N/A"}},null,null,null,null,null,{"$error":"#DIV/0!"}]
[{"$f":"VLOOKUP(C150,Kode!A2:C1008,2,FALSE)","v":{"$error":"#N/A"}},{"$f":"VLOOKUP(C150,Kode!A2:C1008,3,FALSE)","v":{"$error":"#N/A"}},null,{"$f":"VLOOKUP(C150,Kode!A2:D1008,4,FALSE)","v":{"$error":"#N/A"}},null,null,null,null,null,null,null,null,null,{"$f":"VLOOKUP(C150,Kode!A2:E1008,5,FALSE)","v":{"$error":"#N/A"}},null,null,null,null,null,{"$error":"#DIV/0!"}]
[{"$f":"VLOOKUP(C151,Kode!A2:C1008,2,FALSE)","v":{"$error":"#N/A"}},{"$f":"VLOOKUP(C151,Kode!A2:C1008,3,FALSE)","v":{"$error":"#N/A"}},null,{"$f":"VLOOKUP(C151,Kode!A2:D1008,4,FALSE)","v":{"$error":"#N/A"}},null,null,null,null,null,null,null,null,null,{"$f":"VLOOKUP(C151,Kode!A2:E1008,5,FALSE)","v":{"$error":"#N/A"}},null,null,null,null,null,{"$error":"#DIV/0!"}]
[{"$f":"VLOOKUP(C152,Kode!A2:C1008,2,FALSE)","v":{"$error":"#N/A"}},{"$f":"VLOOKUP(C152,Kode!A2:C1008,3,FALSE)","v":{"$error":"#N/A"}},null,{"$f":"VLOOKUP(C152,Kode!A2:D1008,4,FALSE)","v":{"$error":"#N/A"}},null,null,null,null,null,null,null,null,null,{"$f":"VLOOKUP(C152,Kode!A2:E1008,5,FALSE)","v":{"$error":"#N/A"}},null,null,null,null,null,{"$error":"#DIV/0!"}]
[{"$f":"VLOOKUP(C153,Kode!A2:C1008,2,FALSE)","v":{"$error":"#N/A"}},{"$f":"VLOOKUP(C153,Kode!A2:C1008,3,FALSE)","v":{"$error":"#N/A"}},null,{"$f":"VLOOKUP(C153,Kode!A2:D1008,4,FALSE)","v":{"$error":"#N/A"}},null,null,null,null,null,null,null,null,null,{"$f":"VLOOKUP(C153,Kode!A2:E1008,5,FALSE)","v":{"$error":"#N/A"}},null,null,null,null,null,{"$error":"#DIV/0!"}]
[{"$f":"VLOOKUP(C154,Kode!A2:C1008,2,FALSE)","v":{"$error":"#N/A"}},{"$f":"VLOOKUP(C154,Kode!A2:C1008,3,FALSE)","v":{"$error":"#N/A"}},null,{"$f":"VLOOKUP(C154,Kode!A2:D1008,4,FALSE)","v":{"$error":"#N/A"}},null,null,null,null,null,null,null,null,null,{"$f":"VLOOKUP(C154,Kode!A2:E1008,5,FALSE)","v":{"$error":"#N/A"}},null,null,null,null,null,{"$error":"#DIV/0!"}]
[{"$f":"VLOOKUP(C155,Kode!A2:C1008,2,FALSE)","v":{"$error":"#N/A"}},{"$f":"VLOOKUP(C155,Kode!A2:C1008,3,FALSE)","v":{"$error":"#N/A"}},null,{"$f":"VLOOKUP(C155,Kode!A2:D1008,4,FALSE)","v":{"$error":"#N/A"}},null,null,null,null,null,null,null,null,null,{"$f":"VLOOKUP(C155,Kode!A2:E1008,5,FALSE)","v":{"$error":"#N/A"}},null,null,null,null,null,{"$error":"#DIV/0!"}]
[{"$f":"VLOOKUP(C156,Kode!A2:C1008,2,FALSE)","v":{"$error":"#N/A"}},{"$f":"VLOOKUP(C156,Kode!A2:C1008,3,FALSE)","v":{"$error":"#N/A"}},null,{"$f":"VLOOKUP(C156,Kode!A2:D1008,4,FALSE)","v":{"$error":"#N/A"}},null,null,null,null,null,null,null,null,null,{"$f":"VLOOKUP(C156,Kode!A2:E1008,5,FALSE)","v":{"$error":"#N/A"}},null,null,null,null,null,{"$error":"#DIV/0!"}]
[{"$f":"VLOOKUP(C157,Kode!A2:C1008,2,FALSE)","v":{"$error":"#N/A"}},{"$f":"VLOOKUP(C157,Kode!A2:C1008,3,FALSE)","v":{"$error":"#N/A"}},null,{"$f":"VLOOKUP(C157,Kode!A2:D1008,4,FALSE)","v":{"$error":"#N/A"}},null,null,null,null,null,null,null,null,null,{"$f":"VLOOKUP(C157,Kode!A2:E1008,5,FALSE)","v":{"$error":"#N/A"}},null,null,null,null,null,{"$error":"#DIV/0!"}]
[{"$f":"VLOOKUP(C158,Kode!A2:C1008,2,FALSE)","v":{"$error":"#N/A"}},{"$f":"VLOOKUP(C158,Kode!A2:C1008,3,FALSE)","v":{"$error":"#N/A"}},null,{"$f":"VLOOKUP(C158,Kode!A2:D1008,4,FALSE)","v":{"$error":"#N/A"}},null,null,null,null,null,null,null,null,null,{"$f":"VLOOKUP(C158,Kode!A2:E1008,5,FALSE)","v":{"$error":"#N/A"}},null,null,null,null,null,{"$error":"#DIV/0!"}]
[{"$f":"VLOOKUP(C159,Kode!A2:C1008,2,FALSE)","v":{"$error":"#N/A"}},{"$f":"VLOOKUP(C159,Kode!A2:C1008,3,FALSE)","v":{"$error":"#N/A"}},null,{"$f":"VLOOKUP(C159,Kode!A2:D1008,4,FALSE)","v":{"$error":"#N/A"}},null,null,null,null,null,null,null,null,null,{"$f":"VLOOKUP(C159,Kode!A2:E1008,5,FALSE)","v":{"$error":"#N/A"}},null,null,null,null,null,{"$error":"#DIV/0!"}]
[{"$f":"VLOOKUP(C160,Kode!A2:C1008,2,FALSE)","v":{"$error":"#N/A"}},{"$f":"VLOOKUP(C160,Kode!A2:C1008,3,FALSE)","v":{"$error":"#N/A"}},null,{"$f":"VLOOKUP(C160,Kode!A2:D1008,4,FALSE)","v":{"$error":"#N/A"}},null,null,null,null,null,null,null,null,null,{"$f":"VLOOKUP(C160,Kode!A2:E1008,5,FALSE)","v":{"$error":"#N/A"}},null,null,null,null,null,{"$error":"#DIV/0!"}]
[{"$f":"VLOOKUP(C161,Kode!A2:C1008,2,FALSE)","v":{"$error":"#N/A"}},{"$f":"VLOOKUP(C161,Kode!A2:C1008,3,FALSE)","v":{"$error":"#N/A"}},null,{"$f":"VLOOKUP(C161,Kode!A2:D1008,4,FALSE)","v":{"$error":"#N/A"}},null,null,null,null,null,null,null,null,null,{"$f":"VLOOKUP(C161,Kode!A2:E1008,5,FALSE)","v":{"$error":"#N/A"}},null,null,null,null,null,{"$error":"#DIV/0!"}]
[{"$f":"VLOOKUP(C162,Kode!A2:C1008,2,FALSE)","v":{"$error":"#N/A"}},{"$f":"VLOOKUP(C162,Kode!A2:C1008,3,FALSE)","v":{"$error":"#N/A"}},null,{"$f":"VLOOKUP(C162,Kode!A2:D1008,4,FALSE)","v":{"$error":"#N/A"}},null,null,null,null,null,null,null,null,null,{"$f":"VLOOKUP(C162,Kode!A2:E1008,5,FALSE)","v":{"$error":"#N/A"}},null,null,null,null,null,{"$error":"#DIV/0!"}]
[{"$f":"VLOOKUP(C163,Kode!A2:C1008,2,FALSE)","v":{"$error":"#N/A"}},{"$f":"VLOOKUP(C163,Kode!A2:C1008,3,FALSE)","v":{"$error":"#N/A"}},null,{"$f":"VLOOKUP(C163,Kode!A2:D1008,4,FALSE)","v":{"$error":"#N/A"}},null,null,null,null,null,null,null,null,null,{"$f":"VLOOKUP(C163,Kode!A2:E1008,5,FALSE)","v":{"$error":"#N/A"}},null,null,null,null,null,{"$error":"#DIV/0!"}]
[{"$f":"VLOOKUP(C164,Kode!A2:C1008,2,FALSE)","v":{"$error":"#N/A"}},{"$f":"VLOOKUP(C164,Kode!A2:C1008,3,FALSE)","v":{"$error":"#N/A"}},null,{"$f":"VLOOKUP(C164,Kode!A2:D1008,4,FALSE)","v":{"$error":"#N/A"}},null,null,null,null,null,null,null,null,null,{"$f":"VLOOKUP(C164,Kode!A2:E1008,5,FALSE)","v":{"$error":"#N/A"}},null,null,null,null,null,{"$error":"#DIV/0!"}]
[{"$f":"VLOOKUP(C165,Kode!A2:C1008,2,FALSE)","v":{"$error":"#N/A"}},{"$f":"VLOOKUP(C165,Kode!A2:C1008,3,FALSE)","v":{"$error":"#N/A"}},null,{"$f":"VLOOKUP(C165,Kode!A2:D1008,4,FALSE)","v":{"$error":"#N/A"}},null,null,null,null,null,null,null,null,null,{"$f":"VLOOKUP(C165,Kode!A2:E1008,5,FALSE)","v":{"$error":"#N/A"}},null,null,null,null,null,{"$error":"#DIV/0!"}]
[{"$f":"VLOOKUP(C166,Kode!A2:C1008,2,FALSE)","v":{"$error":"#N/A"}},{"$f":"VLOOKUP(C166,Kode!A2:C1008,3,FALSE)","v":{"$error":"#N/A"}},null,{"$f":"VLOOKUP(C166,Kode!A2:D1008,4,FALSE)","v":{"$error":"#N/A"}},null,null,null,null,null,null,null,null,null,{"$f":"VLOOKUP(C166,Kode!A2:E1008,5,FALSE)","v":{"$error":"#N/A"}},null,null,null,null,null,{"$error":"#DIV/0!"}]
[{"$f":"VLOOKUP(C167,Kode!A2:C1008,2,FALSE)","v":{"$error":"#N/A"}},{"$f":"VLOOKUP(C167,Kode!A2:C1008,3,FALSE)","v":{"$error":"#N/A"}},null,{"$f":"VLOOKUP(C167,Kode!A2:D1008,4,FALSE)","v":{"$error":"#N/A"}},null,null,null,null,null,null,null,null,null,{"$f":"VLOOKUP(C167,Kode!A2:E1008,5,FALSE)","v":{"$error":"#N/A"}},null,null,null,null,null,{"$error":"#DIV/0!"}]
[{"$f":"VLOOKUP(C168,Kode!A2:C1008,2,FALSE)","v":{"$error":"#N/A"}},{"$f":"VLOOKUP(C168,Kode!A2:C1008,3,FALSE)","v":{"$error":"#N/A"}},null,{"$f":"VLOOKUP(C168,Kode!A2:D1008,4,FALSE)","v":{"$error":"#N/A"}},null,null,null,null,null,null,null,null,null,{"$f":"VLOOKUP(C168,Kode!A2:E1008,5,FALSE)","v":{"$error":"#N/A"}},null,null,null,null,null,{"$error":"#DIV/0!"}]
[{"$f":"VLOOKUP(C169,Kode!A2:C1008,2,FALSE)","v":{"$error":"#N/A"}},{"$f":"VLOOKUP(C169,Kode!A2:C1008,3,FALSE)","v":{"$error":"#N/A"}},null,{"$f":"VLOOKUP(C169,Kode!A2:D1008,4,FALSE)","v":{"$error":"#N/A"}},null,null,null,null,null,null,null,null,null,{"$f":"VLOOKUP(C169,Kode!A2:E1008,5,FALSE)","v":{"$error":"#N/A"}},null,null,null,null,null,{"$error":"#DIV/0!"}]
[{"$f":"VLOOKUP(C170,Kode!A2:C1008,2,FALSE)","v":{"$error":"#N/A"}},{"$f":"VLOOKUP(C170,Kode!A2:C1008,3,FALSE)","v":{"$error":"#N/A"}},null,{"$f":"VLOOKUP(C170,Kode!A2:D1008,4,FALSE)","v":{"$error":"#N/A"}},null,null,null,null,null,null,null,null,null,{"$f":"VLOOKUP(C170,Kode!A2:E1008,5,FALSE)","v":{"$error":"#N/A"}},null,null,null,null,null,{"$error":"#DIV/0!"}]
[{"$f":"VLOOKUP(C171,Kode!A2:C1008,2,FALSE)","v":{"$error":"#N/A"}},{"$f":"VLOOKUP(C171,Kode!A2:C1008,3,FALSE)","v":{"$error":"#N/A"}},null,{"$f":"VLOOKUP(C171,Kode!A2:D1008,4,FALSE)","v":{"$error":"#N/A"}},null,null,null,null,null,null,null,null,null,{"$f":"VLOOKUP(C171,Kode!A2:E1008,5,FALSE)","v":{"$error":"#N/A"}},null,null,null,null,null,{"$error":"#DIV/0!"}]
[{"$f":"VLOOKUP(C172,Kode!A2:C1008,2,FALSE)","v":{"$error":"#N/A"}},{"$f":"VLOOKUP(C172,Kode!A2:C1008,3,FALSE)","v":{"$error":"#N/A"}},null,{"$f":"VLOOKUP(C172,Kode!A2:D1008,4,FALSE)","v":{"$error":"#N/A"}},null,null,null,null,null,null,null,null,null,{"$f":"VLOOKUP(C172,Kode!A2:E1008,5,FALSE)","v":{"$error":"#N/A"}},null,null,null,null,null,{"$error":"#DIV/0!"}]
[{"$f":"VLOOKUP(C173,Kode!A2:C1008,2,FALSE)","v":{"$error":"#N/A"}},{"$f":"VLOOKUP(C173,Kode!A2:C1008,3,FALSE)","v":{"$error":"#N/A"}},null,{"$f":"VLOOKUP(C173,Kode!A2:D1008,4,FALSE)","v":{"$error":"#N/A"}},null,null,null,null,null,null,null,null,null,{"$f":"VLOOKUP(C173,Kode!A2:E1008,5,FALSE)","v":{"$error":"#N/A"}},null,null,null,null,null,{"$error":"#DIV/0!"}]
[{"$f":"VLOOKUP(C174,Kode!A2:C1008,2,FALSE)","v":{"$error":"#N/A"}},{"$f":"VLOOKUP(C174,Kode!A2:C1008,3,FALSE)","v":{"$error":"#N/A"}},null,{"$f":"VLOOKUP(C174,Kode!A2:D1008,4,FALSE)","v":{"$error":"#N/A"}},null,null,null,null,null,null,null,null,null,{"$f":"VLOOKUP(C174,Kode!A2:E1008,5,FALSE)","v":{"$error":"#N/A"}},null,null,null,null,null,{"$error":"#DIV/0!"}]
[{"$f":"VLOOKUP(C175,Kode!A2:C1008,2,FALSE)","v":{"$error":"#N/A"}},{"$f":"VLOOKUP(C175,Kode!A2:C1008,3,FALSE)","v":{"$error":"#N/A"}},null,{"$f":"VLOOKUP(C175,Kode!A2:D1008,4,FALSE)","v":{"$error":"#N/A"}},null,null,null,null,null,null,null,null,null,{"$f":"VLOOKUP(C175,Kode!A2:E1008,5,FALSE)","v":{"$error":"#N/A"}},null,null,null,null,null,{"$error":"#DIV/0!"}]
[{"$f":"VLOOKUP(C176,Kode!A2:C1008,2,FALSE)","v":{"$error":"#N/A"}},{"$f":"VLOOKUP(C176,Kode!A2:C1008,3,FALSE)","v":{"$error":"#N/A"}},null,{"$f":"VLOOKUP(C176,Kode!A2:D1008,4,FALSE)","v":{"$error":"#N/A"}},null,null,null,null,null,null,null,null,null,{"$f":"VLOOKUP(C176,Kode!A2:E1008,5,FALSE)","v":{"$error":"#N/A"}},null,null,null,null,null,{"$error":"#DIV/0!"}]
[{"$f":"VLOOKUP(C177,Kode!A2:C1008,2,FALSE)","v":{"$error":"#N/A"}},{"$f":"VLOOKUP(C177,Kode!A2:C1008,3,FALSE)","v":{"$error":"#N/A"}},null,{"$f":"VLOOKUP(C177,Kode!A2:D1008,4,FALSE)","v":{"$error":"#N/A"}},null,null,null,null,null,null,null,null,null,{"$f":"VLOOKUP(C177,Kode!A2:E1008,5,FALSE)","v":{"$error":"#N/A"}},null,null,null,null,null,{"$error":"#DIV/0!"}]
[{"$f":"VLOOKUP(C178,Kode!A2:C1008,2,FALSE)","v":{"$error":"#N/A"}},{"$f":"VLOOKUP(C178,Kode!A2:C1008,3,FALSE)","v":{"$error":"#N/A"}},null,{"$f":"VLOOKUP(C178,Kode!A2:D1008,4,FALSE)","v":{"$error":"#N/A"}},null,null,null,null,null,null,null,null,null,{"$f":"VLOOKUP(C178,Kode!A2:E1008,5,FALSE)","v":{"$error":"#N/A"}},null,null,null,null,null,{"$error":"#DIV/0!"}]
[{"$f":"VLOOKUP(C179,Kode!A2:C1008,2,FALSE)","v":{"$error":"#N/A"}},{"$f":"VLOOKUP(C179,Kode!A2:C1008,3,FALSE)","v":{"$error":"#N/A"}},null,{"$f":"VLOOKUP(C179,Kode!A2:D1008,4,FALSE)","v":{"$error":"#N/A"}},null,null,null,null,null,null,null,null,null,{"$f":"VLOOKUP(C179,Kode!A2:E1008,5,FALSE)","v":{"$error":"#N/A"}},null,null,null,null,null,{"$error":"#DIV/0!"}]
[{"$f":"VLOOKUP(C180,Kode!A2:C1008,2,FALSE)","v":{"$error":"#N/A"}},{"$f":"VLOOKUP(C180,Kode!A2:C1008,3,FALSE)","v":{"$error":"#N/A"}},null,{"$f":"VLOOKUP(C180,Kode!A2:D1008,4,FALSE)","v":{"$error":"#N/A"}},null,null,null,null,null,null,null,null,null,{"$f":"VLOOKUP(C180,Kode!A2:E1008,5,FALSE)","v":{"$error":"#N/A"}},null,null,null,null,null,{"$error":"#DIV/0!"}]
[{"$f":"VLOOKUP(C181,Kode!A2:C1008,2,FALSE)","v":{"$error":"#N/A"}},{"$f":"VLOOKUP(C181,Kode!A2:C1008,3,FALSE)","v":{"$error":"#N/A"}},null,{"$f":"VLOOKUP(C181,Kode!A2:D1008,4,FALSE)","v":{"$error":"#N/A"}},null,null,null,null,null,null,null,null,null,{"$f":"VLOOKUP(C181,Kode!A2:E1008,5,FALSE)","v":{"$error":"#N/A"}},null,null,null,null,null,{"$error":"#DIV/0!"}]
[{"$f":"VLOOKUP(C182,Kode!A2:C1008,2,FALSE)","v":{"$error":"#N/A"}},{"$f":"VLOOKUP(C182,Kode!A2:C1008,3,FALSE)","v":{"$error":"#N/A"}},null,{"$f":"VLOOKUP(C182,Kode!A2:D1008,4,FALSE)","v":{"$error":"#N/A"}},null,null,null,null,null,null,null,null,null,{"$f":"VLOOKUP(C182,Kode!A2:E1008,5,FALSE)","v":{"$error":"#N/A"}},null,null,null,null,null,{"$error":"#DIV/0!"}]
[{"$f":"VLOOKUP(C183,Kode!A2:C1008,2,FALSE)","v":{"$error":"#N/A"}},{"$f":"VLOOKUP(C183,Kode!A2:C1008,3,FALSE)","v":{"$error":"#N/A"}},null,{"$f":"VLOOKUP(C183,Kode!A2:D1008,4,FALSE)","v":{"$error":"#N/A"}},null,null,null,null,null,null,null,null,null,{"$f":"VLOOKUP(C183,Kode!A2:E1008,5,FALSE)","v":{"$error":"#N/A"}},null,null,null,null,null,{"$error":"#DIV/0!"}]
[{"$f":"VLOOKUP(C184,Kode!A2:C1008,2,FALSE)","v":{"$error":"#N/A"}},{"$f":"VLOOKUP(C184,Kode!A2:C1008,3,FALSE)","v":{"$error":"#N/A"}},null,{"$f":"VLOOKUP(C184,Kode!A2:D1008,4,FALSE)","v":{"$error":"#N/A"}},null,null,null,null,null,null,null,null,null,{"$f":"VLOOKUP(C184,Kode!A2:E1008,5,FALSE)","v":{"$error":"#N/A"}},null,null,null,null,null,{"$error":"#DIV/0!"}]
[{"$f":"VLOOKUP(C185,Kode!A2:C1008,2,FALSE)","v":{"$error":"#N/A"}},{"$f":"VLOOKUP(C185,Kode!A2:C1008,3,FALSE)","v":{"$error":"#N/A"}},null,{"$f":"VLOOKUP(C185,Kode!A2:D1008,4,FALSE)","v":{"$error":"#N/A"}},null,null,null,null,null,null,null,null,null,{"$f":"VLOOKUP(C185,Kode!A2:E1008,5,FALSE)","v":{"$error":"#N/A"}},null,null,null,null,null,{"$error":"#DIV/0!"}]
[{"$f":"VLOOKUP(C186,Kode!A2:C1008,2,FALSE)","v":{"$error":"#N/A"}},{"$f":"VLOOKUP(C186,Kode!A2:C1008,3,FALSE)","v":{"$error":"#N/A"}},null,{"$f":"VLOOKUP(C186,Kode!A2:D1008,4,FALSE)","v":{"$error":"#N/A"}},null,null,null,null,null,null,null,null,null,{"$f":"VLOOKUP(C186,Kode!A2:E1008,5,FALSE)","v":{"$error":"#N/A"}},null,null,null,null,null,{"$error":"#DIV/0!"}]
[{"$f":"VLOOKUP(C187,Kode!A2:C1008,2,FALSE)","v":{"$error":"#N/A"}},{"$f":"VLOOKUP(C187,Kode!A2:C1008,3,FALSE)","v":{"$error":"#N/A"}},null,{"$f":"VLOOKUP(C187,Kode!A2:D1008,4,FALSE)","v":{"$error":"#N/A"}},null,null,null,null,null,null,null,null,null,{"$f":"VLOOKUP(C187,Kode!A2:E1008,5,FALSE)","v":{"$error":"#N/A"}},null,null,null,null,null,{"$error":"#DIV/0!"}]
[{"$f":"VLOOKUP(C188,Kode!A2:C1008,2,FALSE)","v":{"$error":"#N/A"}},{"$f":"VLOOKUP(C188,Kode!A2:C1008,3,FALSE)","v":{"$error":"#N/A"}},null,{"$f":"VLOOKUP(C188,Kode!A2:D1008,4,FALSE)","v":{"$error":"#N/A"}},null,null,null,null,null,null,null,null,null,{"$f":"VLOOKUP(C188,Kode!A2:E1008,5,FALSE)","v":{"$error":"#N/A"}},null,null,null,null,null,{"$error":"#DIV/0!"}]
[{"$f":"VLOOKUP(C189,Kode!A2:C1008,2,FALSE)","v":{"$error":"#N/A"}},{"$f":"VLOOKUP(C189,Kode!A2:C1008,3,FALSE)","v":{"$error":"#N/A"}},null,{"$f":"VLOOKUP(C189,Kode!A2:D1008,4,FALSE)","v":{"$error":"#N/A"}},null,null,null,null,null,null,null,null,null,{"$f":"VLOOKUP(C189,Kode!A2:E1008,5,FALSE)","v":{"$error":"#N/A"}},null,null,null,null,null,{"$error":"#DIV/0!"}]
[{"$f":"VLOOKUP(C190,Kode!A2:C1008,2,FALSE)","v":{"$error":"#N/A"}},{"$f":"VLOOKUP(C190,Kode!A2:C1008,3,FALSE)","v":{"$error":"#N/A"}},null,{"$f":"VLOOKUP(C190,Kode!A2:D1008,4,FALSE)","v":{"$error":"#N/A"}},null,null,null,null,null,null,null,null,null,{"$f":"VLOOKUP(C190,Kode!A2:E1008,5,FALSE)","v":{"$error":"#N/A"}},null,null,null,null,null,{"$error":"#DIV/0!"}]
[{"$f":"VLOOKUP(C191,Kode!A2:C1008,2,FALSE)","v":{"$error":"#N/A"}},{"$f":"VLOOKUP(C191,Kode!A2:C1008,3,FALSE)","v":{"$error":"#N/A"}},null,{"$f":"VLOOKUP(C191,Kode!A2:D1008,4,FALSE)","v":{"$error":"#N/A"}},null,null,null,null,null,null,null,null,null,{"$f":"VLOOKUP(C191,Kode!A2:E1008,5,FALSE)","v":{"$error":"#N/A"}},null,null,null,null,null,{"$error":"#DIV/0!"}]
[{"$f":"VLOOKUP(C192,Kode!A2:C1008,2,FALSE)","v":{"$error":"#N/A"}},{"$f":"VLOOKUP(C192,Kode!A2:C1008,3,FALSE)","v":{"$error":"#N/A"}},null,{"$f":"VLOOKUP(C192,Kode!A2:D1008,4,FALSE)","v":{"$error":"#N/A"}},null,null,null,null,null,null,null,null,null,{"$f":"VLOOKUP(C192,Kode!A2:E1008,5,FALSE)","v":{"$error":"#N/A"}},null,null,null,null,null,{"$error":"#DIV/0!"}]
[{"$f":"VLOOKUP(C193,Kode!A2:C1008,2,FALSE)","v":{"$error":"#N/A"}},{"$f":"VLOOKUP(C193,Kode!A2:C1008,3,FALSE)","v":{"$error":"#N/A"}},null,{"$f":"VLOOKUP(C193,Kode!A2:D1008,4,FALSE)","v":{"$error":"#N/A"}},null,null,null,null,null,null,null,null,null,{"$f":"VLOOKUP(C193,Kode!A2:E1008,5,FALSE)","v":{"$error":"#N/A"}},null,null,null,null,null,{"$error":"#DIV/0!"}]
[{"$f":"VLOOKUP(C194,Kode!A2:C1008,2,FALSE)","v":{"$error":"#N/A"}},{"$f":"VLOOKUP(C194,Kode!A2:C1008,3,FALSE)","v":{"$error":"#N/A"}},null,{"$f":"VLOOKUP(C194,Kode!A2:D1008,4,FALSE)","v":{"$error":"#N/A"}},null,null,null,null,null,null,null,null,null,{"$f":"VLOOKUP(C194,Kode!A2:E1008,5,FALSE)","v":{"$error":"#N/A"}},null,null,null,null,null,{"$f":"R194/P194*100","v":{"$error":"#DIV/0!"}}]
[{"$f":"VLOOKUP(C195,Kode!A2:C1008,2,FALSE)","v":{"$error":"#N/A"}},{"$f":"VLOOKUP(C195,Kode!A2:C1008,3,FALSE)","v":{"$error":"#N/A"}},null,{"$f":"VLOOKUP(C195,Kode!A2:D1008,4,FALSE)","v":{"$error":"#N/A"}},null,null,null,null,null,null,null,null,null,{"$f":"VLOOKUP(C195,Kode!A2:E1008,5,FALSE)","v":{"$error":"#N/A"}},null,null,null,null,null,{"$error":"#DIV/0!"}]
[{"$f":"VLOOKUP(C196,Kode!A2:C1008,2,FALSE)","v":{"$error":"#N/A"}},{"$f":"VLOOKUP(C196,Kode!A2:C1008,3,FALSE)","v":{"$error":"#N/A"}},null,{"$f":"VLOOKUP(C196,Kode!A2:D1008,4,FALSE)","v":{"$error":"#N/A"}},null,null,null,null,null,null,null,null,null,{"$f":"VLOOKUP(C196,Kode!A2:E1008,5,FALSE)","v":{"$error":"#N/A"}},null,null,null,null,null,{"$error":"#DIV/0!"}]
[{"$f":"VLOOKUP(C197,Kode!A2:C1008,2,FALSE)","v":{"$error":"#N/A"}},{"$f":"VLOOKUP(C197,Kode!A2:C1008,3,FALSE)","v":{"$error":"#N/A"}},null,{"$f":"VLOOKUP(C197,Kode!A2:D1008,4,FALSE)","v":{"$error":"#N/A"}},null,null,null,null,null,null,null,null,null,{"$f":"VLOOKUP(C197,Kode!A2:E1008,5,FALSE)","v":{"$error":"#N/A"}},null,null,null,null,null,{"$error":"#DIV/0!"}]
[{"$f":"VLOOKUP(C198,Kode!A2:C1008,2,FALSE)","v":{"$error":"#N/A"}},{"$f":"VLOOKUP(C198,Kode!A2:C1008,3,FALSE)","v":{"$error":"#N/A"}},null,{"$f":"VLOOKUP(C198,Kode!A2:D1008,4,FALSE)","v":{"$error":"#N/A"}},null,null,null,null,null,null,null,null,null,{"$f":"VLOOKUP(C198,Kode!A2:E1008,5,FALSE)","v":{"$error":"#N/A"}},null,null,null,null,null,{"$error":"#DIV/0!"}]
[{"$f":"VLOOKUP(C199,Kode!A2:C1008,2,FALSE)","v":{"$error":"#N/A"}},{"$f":"VLOOKUP(C199,Kode!A2:C1008,3,FALSE)","v":{"$error":"#N/A"}},null,{"$f":"VLOOKUP(C199,Kode!A2:D1008,4,FALSE)","v":{"$error":"#N/A"}},null,null,null,null,null,null,null,null,null,{"$f":"VLOOKUP(C199,Kode!A2:E1008,5,FALSE)","v":{"$error":"#N/A"}},null,null,null,null,null,{"$error":"#DIV/0!"}]
[{"$f":"VLOOKUP(C200,Kode!A2:C1008,2,FALSE)","v":{"$error":"#N/A"}},{"$f":"VLOOKUP(C200,Kode!A2:C1008,3,FALSE)","v":{"$error":"#N/A"}},null,{"$f":"VLOOKUP(C200,Kode!A2:D1008,4,FALSE)","v":{"$error":"#N/A"}},null,null,null,null,null,null,null,null,null,{"$f":"VLOOKUP(C200,Kode!A2:E1008,5,FALSE)","v":{"$error":"#N/A"}},null,null,null,null,null,{"$error":"#DIV/0!"}]
[{"$f":"VLOOKUP(C201,Kode!A2:C1008,2,FALSE)","v":{"$error":"#N/A"}},{"$f":"VLOOKUP(C201,Kode!A2:C1008,3,FALSE)","v":{"$error":"#N/A"}},null,{"$f":"VLOOKUP(C201,Kode!A2:D1008,4,FALSE)","v":{"$error":"#N/A"}},null,null,null,null,null,null,null,null,null,{"$f":"VLOOKUP(C201,Kode!A2:E1008,5,FALSE)","v":{"$error":"#N/A"}},null,null,null,null,null,{"$error":"#DIV/0!"}]
[{"$f":"VLOOKUP(C202,Kode!A2:C1008,2,FALSE)","v":{"$error":"#N/A"}},{"$f":"VLOOKUP(C202,Kode!A2:C1008,3,FALSE)","v":{"$error":"#N/A"}},null,{"$f":"VLOOKUP(C202,Kode!A2:D1008,4,FALSE)","v":{"$error":"#N/A"}},null,null,null,null,null,null,null,null,null,{"$f":"VLOOKUP(C202,Kode!A2:E1008,5,FALSE)","v":{"$error":"#N/A"}},null,null,null,null,null,{"$error":"#DIV/0!"}]
[{"$f":"VLOOKUP(C203,Kode!A2:C1008,2,FALSE)","v":{"$error":"#N/A"}},{"$f":"VLOOKUP(C203,Kode!A2:C1008,3,FALSE)","v":{"$error":"#N/A"}},null,{"$f":"VLOOKUP(C203,Kode!A2:D1008,4,FALSE)","v":{"$error":"#N/A"}},null,null,null,null,null,null,null,null,null,{"$f":"VLOOKUP(C203,Kode!A2:E1008,5,FALSE)","v":{"$error":"#N/A"}},null,null,null,null,null,{"$error":"#DIV/0!"}]
[{"$f":"VLOOKUP(C204,Kode!A2:C1008,2,FALSE)","v":{"$error":"#N/A"}},{"$f":"VLOOKUP(C204,Kode!A2:C1008,3,FALSE)","v":{"$error":"#N/A"}},null,{"$f":"VLOOKUP(C204,Kode!A2:D1008,4,FALSE)","v":{"$error":"#N/A"}},null,null,null,null,null,null,null,null,null,{"$f":"VLOOKUP(C204,Kode!A2:E1008,5,FALSE)","v":{"$error":"#N/A"}},null,null,null,null,null,{"$error":"#DIV/0!"}]
[{"$f":"VLOOKUP(C205,Kode!A2:C1008,2,FALSE)","v":{"$error":"#N/A"}},{"$f":"VLOOKUP(C205,Kode!A2:C1008,3,FALSE)","v":{"$error":"#N/A"}},null,{"$f":"VLOOKUP(C205,Kode!A2:D1008,4,FALSE)","v":{"$error":"#N/A"}},null,null,null,null,null,null,null,null,null,{"$f":"VLOOKUP(C205,Kode!A2:E1008,5,FALSE)","v":{"$error":"#N/A"}},null,null,null,null,null,{"$error":"#DIV/0!"}]
[{"$f":"VLOOKUP(C206,Kode!A2:C1008,2,FALSE)","v":{"$error":"#N/A"}},{"$f":"VLOOKUP(C206,Kode!A2:C1008,3,FALSE)","v":{"$error":"#N/A"}},null,{"$f":"VLOOKUP(C206,Kode!A2:D1008,4,FALSE)","v":{"$error":"#N/A"}},null,null,null,null,null,null,null,null,null,{"$f":"VLOOKUP(C206,Kode!A2:E1008,5,FALSE)","v":{"$error":"#N/A"}},null,null,null,null,null,{"$error":"#DIV/0!"}]
[{"$f":"VLOOKUP(C207,Kode!A2:C1008,2,FALSE)","v":{"$error":"#N/A"}},{"$f":"VLOOKUP(C207,Kode!A2:C1008,3,FALSE)","v":{"$error":"#N/A"}},null,{"$f":"VLOOKUP(C207,Kode!A2:D1008,4,FALSE)","v":{"$error":"#N/A"}},null,null,null,null,null,null,null,null,null,{"$f":"VLOOKUP(C207,Kode!A2:E1008,5,FALSE)","v":{"$error":"#N/A"}},null,null,null,null,null,{"$error":"#DIV/0!"}]
[{"$f":"VLOOKUP(C208,Kode!A2:C1008,2,FALSE)","v":{"$error":"#N/A"}},{"$f":"VLOOKUP(C208,Kode!A2:C1008,3,FALSE)","v":{"$error":"#N/A"}},null,{"$f":"VLOOKUP(C208,Kode!A2:D1008,4,FALSE)","v":{"$error":"#N/A"}},null,null,null,null,null,null,null,null,null,{"$f":"VLOOKUP(C208,Kode!A2:E1008,5,FALSE)","v":{"$error":"#N/A"}},null,null,null,null,null,{"$error":"#DIV/0!"}]
[{"$f":"VLOOKUP(C209,Kode!A2:C1008,2,FALSE)","v":{"$error":"#N/A"}},{"$f":"VLOOKUP(C209,Kode!A2:C1008,3,FALSE)","v":{"$error":"#N/A"}},null,{"$f":"VLOOKUP(C209,Kode!A2:D1008,4,FALSE)","v":{"$error":"#N/A"}},null,null,null,null,null,null,null,null,null,{"$f":"VLOOKUP(C209,Kode!A2:E1008,5,FALSE)","v":{"$error":"#N/A"}},null,null,null,null,null,{"$error":"#DIV/0!"}]
[{"$f":"VLOOKUP(C210,Kode!A2:C1008,2,FALSE)","v":{"$error":"#N/A"}},{"$f":"VLOOKUP(C210,Kode!A2:C1008,3,FALSE)","v":{"$error":"#N/A"}},null,{"$f":"VLOOKUP(C210,Kode!A2:D1008,4,FALSE)","v":{"$error":"#N/A"}},null,null,null,null,null,null,null,null,null,{"$f":"VLOOKUP(C210,Kode!A2:E1008,5,FALSE)","v":{"$error":"#N/A"}},null,null,null,null,null,{"$error":"#DIV/0!"}]
[{"$f":"VLOOKUP(C211,Kode!A2:C1008,2,FALSE)","v":{"$error":"#N/A"}},{"$f":"VLOOKUP(C211,Kode!A2:C1008,3,FALSE)","v":{"$error":"#N/A"}},null,{"$f":"VLOOKUP(C211,Kode!A2:D1008,4,FALSE)","v":{"$error":"#N/A"}},null,null,null,null,null,null,null,null,null,{"$f":"VLOOKUP(C211,Kode!A2:E1008,5,FALSE)","v":{"$error":"#N/A"}},null,null,null,null,null,{"$error":"#DIV/0!"}]
[{"$f":"VLOOKUP(C212,Kode!A2:C1008,2,FALSE)","v":{"$error":"#N/A"}},{"$f":"VLOOKUP(C212,Kode!A2:C1008,3,FALSE)","v":{"$error":"#N/A"}},null,{"$f":"VLOOKUP(C212,Kode!A2:D1008,4,FALSE)","v":{"$error":"#N/A"}},null,null,null,null,null,null,null,null,null,{"$f":"VLOOKUP(C212,Kode!A2:E1008,5,FALSE)","v":{"$error":"#N/A"}},null,null,null,null,null,{"$error":"#DIV/0!"}]
[{"$f":"VLOOKUP(C213,Kode!A2:C1008,2,FALSE)","v":{"$error":"#N/A"}},{"$f":"VLOOKUP(C213,Kode!A2:C1008,3,FALSE)","v":{"$error":"#N/A"}},null,{"$f":"VLOOKUP(C213,Kode!A2:D1008,4,FALSE)","v":{"$error":"#N/A"}},null,null,null,null,null,null,null,null,null,{"$f":"VLOOKUP(C213,Kode!A2:E1008,5,FALSE)","v":{"$error":"#N/A"}},null,null,null,null,null,{"$error":"#DIV/0!"}]
[{"$f":"VLOOKUP(C214,Kode!A2:C1008,2,FALSE)","v":{"$error":"#N/A"}},{"$f":"VLOOKUP(C214,Kode!A2:C1008,3,FALSE)","v":{"$error":"#N/A"}},null,{"$f":"VLOOKUP(C214,Kode!A2:D1008,4,FALSE)","v":{"$error":"#N/A"}},null,null,null,null,null,null,null,null,null,{"$f":"VLOOKUP(C214,Kode!A2:E1008,5,FALSE)","v":{"$error":"#N/A"}},null,null,null,null,null,{"$error":"#DIV/0!"}]
[{"$f":"VLOOKUP(C215,Kode!A2:C1008,2,FALSE)","v":{"$error":"#N/A"}},{"$f":"VLOOKUP(C215,Kode!A2:C1008,3,FALSE)","v":{"$error":"#N/A"}},null,{"$f":"VLOOKUP(C215,Kode!A2:D1008,4,FALSE)","v":{"$error":"#N/A"}},null,null,null,null,null,null,null,null,null,{"$f":"VLOOKUP(C215,Kode!A2:E1008,5,FALSE)","v":{"$error":"#N/A"}},null,null,null,null,null,{"$error":"#DIV/0!"}]
[{"$f":"VLOOKUP(C216,Kode!A2:C1008,2,FALSE)","v":{"$error":"#N/A"}},{"$f":"VLOOKUP(C216,Kode!A2:C1008,3,FALSE)","v":{"$error":"#N/A"}},null,{"$f":"VLOOKUP(C216,Kode!A2:D1008,4,FALSE)","v":{"$error":"#N/A"}},null,null,null,null,null,null,null,null,null,{"$f":"VLOOKUP(C216,Kode!A2:E1008,5,FALSE)","v":{"$error":"#N/A"}},null,null,null,null,null,{"$error":"#DIV/0!"}]
[{"$f":"VLOOKUP(C217,Kode!A2:C1008,2,FALSE)","v":{"$error":"#N/A"}},{"$f":"VLOOKUP(C217,Kode!A2:C1008,3,FALSE)","v":{"$error":"#N/A"}},null,{"$f":"VLOOKUP(C217,Kode!A2:D1008,4,FALSE)","v":{"$error":"#N/A"}},null,null,null,null,null,null,null,null,null,{"$f":"VLOOKUP(C217,Kode!A2:E1008,5,FALSE)","v":{"$error":"#N/A"}},null,null,null,null,null,{"$error":"#DIV/0!"}]
[{"$f":"VLOOKUP(C218,Kode!A2:C1008,2,FALSE)","v":{"$error":"#N/A"}},{"$f":"VLOOKUP(C218,Kode!A2:C1008,3,FALSE)","v":{"$error":"#N/A"}},null,{"$f":"VLOOKUP(C218,Kode!A2:D1008,4,FALSE)","v":{"$error":"#N/A"}},null,null,null,null,null,null,null,null,null,{"$f":"VLOOKUP(C218,Kode!A2:E1008,5,FALSE)","v":{"$error":"#N/A"}},null,null,null,null,null,{"$error":"#DIV/0!"}]
[{"$f":"VLOOKUP(C219,Kode!A2:C1008,2,FALSE)","v":{"$error":"#N/A"}},{"$f":"VLOOKUP(C219,Kode!A2:C1008,3,FALSE)","v":{"$error":"#N/A"}},null,{"$f":"VLOOKUP(C219,Kode!A2:D1008,4,FALSE)","v":{"$error":"#N/A"}},null,null,null,null,null,null,null,null,null,{"$f":"VLOOKUP(C219,Kode!A2:E1008,5,FALSE)","v":{"$error":"#N/A"}},null,null,null,null,null,{"$error":"#DIV/0!"}]
[{"$f":"VLOOKUP(C220,Kode!A2:C1008,2,FALSE)","v":{"$error":"#N/A"}},{"$f":"VLOOKUP(C220,Kode!A2:C1008,3,FALSE)","v":{"$error":"#N/A"}},null,{"$f":"VLOOKUP(C220,Kode!A2:D1008,4,FALSE)","v":{"$error":"#N/A"}},null,null,null,null,null,null,null,null,null,{"$f":"VLOOKUP(C220,Kode!A2:E1008,5,FALSE)","v":{"$error":"#N/A"}},null,null,null,null,null,{"$error":"#DIV/0!"}]
[{"$f":"VLOOKUP(C221,Kode!A2:C1008,2,FALSE)","v":{"$error":"#N/A"}},{"$f":"VLOOKUP(C221,Kode!A2:C1008,3,FALSE)","v":{"$error":"#N/A"}},null,{"$f":"VLOOKUP(C221,Kode!A2:D1008,4,FALSE)","v":{"$error":"#N/A"}},null,null,null,null,null,null,null,null,null,{"$f":"VLOOKUP(C221,Kode!A2:E1008,5,FALSE)","v":{"$error":"#N/A"}},null,null,null,null,null,{"$error":"#DIV/0!"}]
[{"$f":"VLOOKUP(C222,Kode!A2:C1008,2,FALSE)","v":{"$error":"#N/A"}},{"$f":"VLOOKUP(C222,Kode!A2:C1008,3,FALSE)","v":{"$error":"#N/A"}},null,{"$f":"VLOOKUP(C222,Kode!A2:D1008,4,FALSE)","v":{"$error":"#N/A"}},null,null,null,null,null,null,null,null,null,{"$f":"VLOOKUP(C222,Kode!A2:E1008,5,FALSE)","v":{"$error":"#N/A"}},null,null,null,null,null,{"$error":"#DIV/0!"}]
[{"$f":"VLOOKUP(C223,Kode!A2:C1008,2,FALSE)","v":{"$error":"#N/A"}},{"$f":"VLOOKUP(C223,Kode!A2:C1008,3,FALSE)","v":{"$error":"#N/A"}},null,{"$f":"VLOOKUP(C223,Kode!A2:D1008,4,FALSE)","v":{"$error":"#N/A"}},null,null,null,null,null,null,null,null,null,{"$f":"VLOOKUP(C223,Kode!A2:E1008,5,FALSE)","v":{"$error":"#N/A"}},null,null,null,null,null,{"$error":"#DIV/0!"}]
[{"$f":"VLOOKUP(C224,Kode!A2:C1008,2,FALSE)","v":{"$error":"#N/A"}},{"$f":"VLOOKUP(C224,Kode!A2:C1008,3,FALSE)","v":{"$error":"#N/A"}},null,{"$f":"VLOOKUP(C224,Kode!A2:D1008,4,FALSE)","v":{"$error":"#N/A"}},null,null,null,null,null,null,null,null,null,{"$f":"VLOOKUP(C224,Kode!A2:E1008,5,FALSE)","v":{"$error":"#N/A"}},null,null,null,null,null,{"$error":"#DIV/0!"}]
[{"$f":"VLOOKUP(C225,Kode!A2:C1008,2,FALSE)","v":{"$error":"#N/A"}},{"$f":"VLOOKUP(C225,Kode!A2:C1008,3,FALSE)","v":{"$error":"#N/A"}},null,{"$f":"VLOOKUP(C225,Kode!A2:D1008,4,FALSE)","v":{"$error":"#N/A"}},null,null,null,null,null,null,null,null,null,{"$f":"VLOOKUP(C225,Kode!A2:E1008,5,FALSE)","v":{"$error":"#N/A"}},null,null,null,null,null,{"$error":"#DIV/0!"}]
[{"$f":"VLOOKUP(C226,Kode!A2:C1008,2,FALSE)","v":{"$error":"#N/A"}},{"$f":"VLOOKUP(C226,Kode!A2:C1008,3,FALSE)","v":{"$error":"#N/A"}},null,{"$f":"VLOOKUP(C226,Kode!A2:D1008,4,FALSE)","v":{"$error":"#N/A"}},null,null,null,null,null,null,null,null,null,{"$f":"VLOOKUP(C226,Kode!A2:E1008,5,FALSE)","v":{"$error":"#N/A"}},null,null,null,null,null,{"$error":"#DIV/0!"}]
[{"$f":"VLOOKUP(C227,Kode!A2:C1008,2,FALSE)","v":{"$error":"#N/A"}},{"$f":"VLOOKUP(C227,Kode!A2:C1008,3,FALSE)","v":{"$error":"#N/A"}},null,{"$f":"VLOOKUP(C227,Kode!A2:D1008,4,FALSE)","v":{"$error":"#N/A"}},null,null,null,null,null,null,null,null,null,{"$f":"VLOOKUP(C227,Kode!A2:E1008,5,FALSE)","v":{"$error":"#N/A"}},null,null,null,null,null,{"$error":"#DIV/0!"}]
[{"$f":"VLOOKUP(C228,Kode!A2:C1008,2,FALSE)","v":{"$error":"#N/A"}},{"$f":"VLOOKUP(C228,Kode!A2:C1008,3,FALSE)","v":{"$error":"#N/A"}},null,{"$f":"VLOOKUP(C228,Kode!A2:D1008,4,FALSE)","v":{"$error":"#N/A"}},null,null,null,null,null,null,null,null,null,{"$f":"VLOOKUP(C228,Kode!A2:E1008,5,FALSE)","v":{"$error":"#N/A"}},null,null,null,null,null,{"$error":"#DIV/0!"}]
[{"$f":"VLOOKUP(C229,Kode!A2:C1008,2,FALSE)","v":{"$error":"#N/A"}},{"$f":"VLOOKUP(C229,Kode!A2:C1008,3,FALSE)","v":{"$error":"#N/A"}},null,{"$f":"VLOOKUP(C229,Kode!A2:D1008,4,FALSE)","v":{"$error":"#N/A"}},null,null,null,null,null,null,null,null,null,{"$f":"VLOOKUP(C229,Kode!A2:E1008,5,FALSE)","v":{"$error":"#N/A"}},null,null,null,null,null,{"$error":"#DIV/0!"}]
[{"$f":"VLOOKUP(C230,Kode!A2:C1008,2,FALSE)","v":{"$error":"#N/A"}},{"$f":"VLOOKUP(C230,Kode!A2:C1008,3,FALSE)","v":{"$error":"#N/A"}},null,{"$f":"VLOOKUP(C230,Kode!A2:D1008,4,FALSE)","v":{"$error":"#N/A"}},null,null,null,null,null,null,null,null,null,{"$f":"VLOOKUP(C230,Kode!A2:E1008,5,FALSE)","v":{"$error":"#N/A"}},null,null,null,null,null,{"$error":"#DIV/0!"}]
[{"$f":"VLOOKUP(C231,Kode!A2:C1008,2,FALSE)","v":{"$error":"#N/A"}},{"$f":"VLOOKUP(C231,Kode!A2:C1008,3,FALSE)","v":{"$error":"#N/A"}},null,{"$f":"VLOOKUP(C231,Kode!A2:D1008,4,FALSE)","v":{"$error":"#N/A"}},null,null,null,null,null,null,null,null,null,{"$f":"VLOOKUP(C231,Kode!A2:E1008,5,FALSE)","v":{"$error":"#N/A"}},null,null,null,null,null,{"$error":"#DIV/0!"}]
[{"$f":"VLOOKUP(C232,Kode!A2:C1008,2,FALSE)","v":{"$error":"#N/A"}},{"$f":"VLOOKUP(C232,Kode!A2:C1008,3,FALSE)","v":{"$error":"#N/A"}},null,{"$f":"VLOOKUP(C232,Kode!A2:D1008,4,FALSE)","v":{"$error":"#N/A"}},null,null,null,null,null,null,null,null,null,{"$f":"VLOOKUP(C232,Kode!A2:E1008,5,FALSE)","v":{"$error":"#N/A"}},null,null,null,null,null,{"$error":"#DIV/0!"}]
[{"$f":"VLOOKUP(C233,Kode!A2:C1008,2,FALSE)","v":{"$error":"#N/A"}},{"$f":"VLOOKUP(C233,Kode!A2:C1008,3,FALSE)","v":{"$error":"#N/A"}},null,{"$f":"VLOOKUP(C233,Kode!A2:D1008,4,FALSE)","v":{"$error":"#N/A"}},null,null,null,null,null,null,null,null,null,{"$f":"VLOOKUP(C233,Kode!A2:E1008,5,FALSE)","v":{"$error":"#N/A"}},null,null,null,null,null,{"$error":"#DIV/0!"}]
[{"$f":"VLOOKUP(C234,Kode!A2:C1008,2,FALSE)","v":{"$error":"#N/A"}},{"$f":"VLOOKUP(C234,Kode!A2:C1008,3,FALSE)","v":{"$error":"#N/A"}},null,{"$f":"VLOOKUP(C234,Kode!A2:D1008,4,FALSE)","v":{"$error":"#N/A"}},null,null,null,null,null,null,null,null,null,{"$f":"VLOOKUP(C234,Kode!A2:E1008,5,FALSE)","v":{"$error":"#N/A"}},null,null,null,null,null,{"$error":"#DIV/0!"}]
[{"$f":"VLOOKUP(C235,Kode!A2:C1008,2,FALSE)","v":{"$error":"#N/A"}},{"$f":"VLOOKUP(C235,Kode!A2:C1008,3,FALSE)","v":{"$error":"#N/A"}},null,{"$f":"VLOOKUP(C235,Kode!A2:D1008,4,FALSE)","v":{"$error":"#N/A"}},null,null,null,null,null,null,null,null,null,{"$f":"VLOOKUP(C235,Kode!A2:E1008,5,FALSE)","v":{"$error":"#N/A"}},null,null,null,null,null,{"$error":"#DIV/0!"}]
[{"$f":"VLOOKUP(C236,Kode!A2:C1008,2,FALSE)","v":{"$error":"#N/A"}},{"$f":"VLOOKUP(C236,Kode!A2:C1008,3,FALSE)","v":{"$error":"#N/A"}},null,{"$f":"VLOOKUP(C236,Kode!A2:D1008,4,FALSE)","v":{"$error":"#N/A"}},null,null,null,null,null,null,null,null,null,{"$f":"VLOOKUP(C236,Kode!A2:E1008,5,FALSE)","v":{"$error":"#N/A"}},null,null,null,null,null,{"$error":"#DIV/0!"}]
[{"$f":"VLOOKUP(C237,Kode!A2:C1008,2,FALSE)","v":{"$error":"#N/A"}},{"$f":"VLOOKUP(C237,Kode!A2:C1008,3,FALSE)","v":{"$error":"#N/A"}},null,{"$f":"VLOOKUP(C237,Kode!A2:D1008,4,FALSE)","v":{"$error":"#N/A"}},null,null,null,null,null,null,null,null,null,{"$f":"VLOOKUP(C237,Kode!A2:E1008,5,FALSE)","v":{"$error":"#N/A"}},null,null,null,null,null,{"$error":"#DIV/0!"}]
[{"$f":"VLOOKUP(C238,Kode!A2:C1008,2,FALSE)","v":{"$error":"#N/A"}},{"$f":"VLOOKUP(C238,Kode!A2:C1008,3,FALSE)","v":{"$error":"#N/A"}},null,{"$f":"VLOOKUP(C238,Kode!A2:D1008,4,FALSE)","v":{"$error":"#N/A"}},null,null,null,null,null,null,null,null,null,{"$f":"VLOOKUP(C238,Kode!A2:E1008,5,FALSE)","v":{"$error":"#N/A"}},null,null,null,null,null,{"$error":"#DIV/0!"}]
[{"$f":"VLOOKUP(C239,Kode!A2:C1008,2,FALSE)","v":{"$error":"#N/A"}},{"$f":"VLOOKUP(C239,Kode!A2:C1008,3,FALSE)","v":{"$error":"#N/A"}},null,{"$f":"VLOOKUP(C239,Kode!A2:D1008,4,FALSE)","v":{"$error":"#N/A"}},null,null,null,null,null,null,null,null,null,{"$f":"VLOOKUP(C239,Kode!A2:E1008,5,FALSE)","v":{"$error":"#N/A"}},null,null,null,null,null,{"$error":"#DIV/0!"}]
[{"$f":"VLOOKUP(C240,Kode!A2:C1008,2,FALSE)","v":{"$error":"#N/A"}},{"$f":"VLOOKUP(C240,Kode!A2:C1008,3,FALSE)","v":{"$error":"#N/A"}},null,{"$f":"VLOOKUP(C240,Kode!A2:D1008,4,FALSE)","v":{"$error":"#N/A"}},null,null,null,null,null,null,null,null,null,{"$f":"VLOOKUP(C240,Kode!A2:E1008,5,FALSE)","v":{"$error":"#N/A"}},null,null,null,null,null,{"$error":"#DIV/0!"}]
[{"$f":"VLOOKUP(C241,Kode!A2:C1008,2,FALSE)","v":{"$error":"#N/A"}},{"$f":"VLOOKUP(C241,Kode!A2:C1008,3,FALSE)","v":{"$error":"#N/A"}},null,{"$f":"VLOOKUP(C241,Kode!A2:D1008,4,FALSE)","v":{"$error":"#N/A"}},null,null,null,null,null,null,null,null,null,{"$f":"VLOOKUP(C241,Kode!A2:E1008,5,FALSE)","v":{"$error":"#N/A"}},null,null,null,null,null,{"$error":"#DIV/0!"}]
[{"$f":"VLOOKUP(C242,Kode!A2:C1008,2,FALSE)","v":{"$error":"#N/A"}},{"$f":"VLOOKUP(C242,Kode!A2:C1008,3,FALSE)","v":{"$error":"#N/A"}},null,{"$f":"VLOOKUP(C242,Kode!A2:D1008,4,FALSE)","v":{"$error":"#N/A"}},null,null,null,null,null,null,null,null,null,{"$f":"VLOOKUP(C242,Kode!A2:E1008,5,FALSE)","v":{"$error":"#N/A"}},null,null,null,null,null,{"$error":"#DIV/0!"}]
[{"$f":"VLOOKUP(C243,Kode!A2:C1008,2,FALSE)","v":{"$error":"#N/A"}},{"$f":"VLOOKUP(C243,Kode!A2:C1008,3,FALSE)","v":{"$error":"#N/A"}},null,{"$f":"VLOOKUP(C243,Kode!A2:D1008,4,FALSE)","v":{"$error":"#N/A"}},null,null,null,null,null,null,null,null,null,{"$f":"VLOOKUP(C243,Kode!A2:E1008,5,FALSE)","v":{"$error":"#N/A"}},null,null,null,null,null,{"$error":"#DIV/0!"}]
[{"$f":"VLOOKUP(C244,Kode!A2:C1008,2,FALSE)","v":{"$error":"#N/A"}},{"$f":"VLOOKUP(C244,Kode!A2:C1008,3,FALSE)","v":{"$error":"#N/A"}},null,{"$f":"VLOOKUP(C244,Kode!A2:D1008,4,FALSE)","v":{"$error":"#N/A"}},null,null,null,null,null,null,null,null,null,{"$f":"VLOOKUP(C244,Kode!A2:E1008,5,FALSE)","v":{"$error":"#N/A"}},null,null,null,null,null,{"$error":"#DIV/0!"}]
[{"$f":"VLOOKUP(C245,Kode!A2:C1008,2,FALSE)","v":{"$error":"#N/A"}},{"$f":"VLOOKUP(C245,Kode!A2:C1008,3,FALSE)","v":{"$error":"#N/A"}},null,{"$f":"VLOOKUP(C245,Kode!A2:D1008,4,FALSE)","v":{"$error":"#N/A"}},null,null,null,null,null,null,null,null,null,{"$f":"VLOOKUP(C245,Kode!A2:E1008,5,FALSE)","v":{"$error":"#N/A"}},null,null,null,null,null,{"$error":"#DIV/0!"}]
[{"$f":"VLOOKUP(C246,Kode!A2:C1008,2,FALSE)","v":{"$error":"#N/A"}},{"$f":"VLOOKUP(C246,Kode!A2:C1008,3,FALSE)","v":{"$error":"#N/A"}},null,{"$f":"VLOOKUP(C246,Kode!A2:D1008,4,FALSE)","v":{"$error":"#N/A"}},null,null,null,null,null,null,null,null,null,{"$f":"VLOOKUP(C246,Kode!A2:E1008,5,FALSE)","v":{"$error":"#N/A"}},null,null,null,null,null,{"$error":"#DIV/0!"}]
[{"$f":"VLOOKUP(C247,Kode!A2:C1008,2,FALSE)","v":{"$error":"#N/A"}},{"$f":"VLOOKUP(C247,Kode!A2:C1008,3,FALSE)","v":{"$error":"#N/A"}},null,{"$f":"VLOOKUP(C247,Kode!A2:D1008,4,FALSE)","v":{"$error":"#N/A"}},null,null,null,null,null,null,null,null,null,{"$f":"VLOOKUP(C247,Kode!A2:E1008,5,FALSE)","v":{"$error":"#N/A"}},null,null,null,null,null,{"$error":"#DIV/0!"}]
[{"$f":"VLOOKUP(C248,Kode!A2:C1008,2,FALSE)","v":{"$error":"#N/A"}},{"$f":"VLOOKUP(C248,Kode!A2:C1008,3,FALSE)","v":{"$error":"#N/A"}},null,{"$f":"VLOOKUP(C248,Kode!A2:D1008,4,FALSE)","v":{"$error":"#N/A"}},null,null,null,null,null,null,null,null,null,{"$f":"VLOOKUP(C248,Kode!A2:E1008,5,FALSE)","v":{"$error":"#N/A"}},null,null,null,null,null,{"$error":"#DIV/0!"}]
[{"$f":"VLOOKUP(C249,Kode!A2:C1008,2,FALSE)","v":{"$error":"#N/A"}},{"$f":"VLOOKUP(C249,Kode!A2:C1008,3,FALSE)","v":{"$error":"#N/A"}},null,{"$f":"VLOOKUP(C249,Kode!A2:D1008,4,FALSE)","v":{"$error":"#N/A"}},null,null,null,null,null,null,null,null,null,{"$f":"VLOOKUP(C249,Kode!A2:E1008,5,FALSE)","v":{"$error":"#N/A"}},null,null,null,null,null,{"$error":"#DIV/0!"}]
[{"$f":"VLOOKUP(C250,Kode!A2:C1008,2,FALSE)","v":{"$error":"#N/A"}},{"$f":"VLOOKUP(C250,Kode!A2:C1008,3,FALSE)","v":{"$error":"#N/A"}},null,{"$f":"VLOOKUP(C250,Kode!A2:D1008,4,FALSE)","v":{"$error":"#N/A"}},null,null,null,null,null,null,null,null,null,{"$f":"VLOOKUP(C250,Kode!A2:E1008,5,FALSE)","v":{"$error":"#N/A"}},null,null,null,null,null,{"$error":"#DIV/0!"}]
[{"$f":"VLOOKUP(C251,Kode!A2:C1008,2,FALSE)","v":{"$error":"#N/A"}},{"$f":"VLOOKUP(C251,Kode!A2:C1008,3,FALSE)","v":{"$error":"#N/A"}},null,{"$f":"VLOOKUP(C251,Kode!A2:D1008,4,FALSE)","v":{"$error":"#N/A"}},null,null,null,null,null,null,null,null,null,{"$f":"VLOOKUP(C251,Kode!A2:E1008,5,FALSE)","v":{"$error":"#N/A"}},null,null,null,null,null,{"$error":"#DIV/0!"}]
[{"$f":"VLOOKUP(C252,Kode!A2:C1008,2,FALSE)","v":{"$error":"#N/A"}},{"$f":"VLOOKUP(C252,Kode!A2:C1008,3,FALSE)","v":{"$error":"#N/A"}},null,{"$f":"VLOOKUP(C252,Kode!A2:D1008,4,FALSE)","v":{"$error":"#N/A"}},null,null,null,null,null,null,null,null,null,{"$f":"VLOOKUP(C252,Kode!A2:E1008,5,FALSE)","v":{"$error":"#N/A"}},null,null,null,null,null,{"$error":"#DIV/0!"}]
[{"$f":"VLOOKUP(C253,Kode!A2:C1008,2,FALSE)","v":{"$error":"#N/A"}},{"$f":"VLOOKUP(C253,Kode!A2:C1008,3,FALSE)","v":{"$error":"#N/A"}},null,{"$f":"VLOOKUP(C253,Kode!A2:D1008,4,FALSE)","v":{"$error":"#N/A"}},null,null,null,null,null,null,null,null,null,{"$f":"VLOOKUP(C253,Kode!A2:E1008,5,FALSE)","v":{"$error":"#N/A"}},null,null,null,null,null,{"$error":"#DIV/0!"}]
[{"$f":"VLOOKUP(C254,Kode!A2:C1008,2,FALSE)","v":{"$error":"#N/A"}},{"$f":"VLOOKUP(C254,Kode!A2:C1008,3,FALSE)","v":{"$error":"#N/A"}},null,{"$f":"VLOOKUP(C254,Kode!A2:D1008,4,FALSE)","v":{"$error":"#N/A"}},null,null,null,null,null,null,null,null,null,{"$f":"VLOOKUP(C254,Kode!A2:E1008,5,FALSE)","v":{"$error":"#N/A"}},null,null,null,null,null,{"$error":"#DIV/0!"}]
[{"$f":"VLOOKUP(C255,Kode!A2:C1008,2,FALSE)","v":{"$error":"#N/A"}},{"$f":"VLOOKUP(C255,Kode!A2:C1008,3,FALSE)","v":{"$error":"#N/A"}},null,{"$f":"VLOOKUP(C255,Kode!A2:D1008,4,FALSE)","v":{"$error":"#N/A"}},null,null,null,null,null,null,null,null,null,{"$f":"VLOOKUP(C255,Kode!A2:E1008,5,FALSE)","v":{"$error":"#N/A"}},null,null,null,null,null,{"$error":"#DIV/0!"}]
[{"$f":"VLOOKUP(C256,Kode!A2:C1008,2,FALSE)","v":{"$error":"#N/A"}},{"$f":"VLOOKUP(C256,Kode!A2:C1008,3,FALSE)","v":{"$error":"#N/A"}},null,{"$f":"VLOOKUP(C256,Kode!A2:D1008,4,FALSE)","v":{"$error":"#N/A"}},null,null,null,null,null,null,null,null,null,{"$f":"VLOOKUP(C256,Kode!A2:E1008,5,FALSE)","v":{"$error":"#N/A"}},null,null,null,null,null,{"$error":"#DIV/0!"}]
[{"$f":"VLOOKUP(C257,Kode!A2:C1008,2,FALSE)","v":{"$error":"#N/A"}},{"$f":"VLOOKUP(C257,Kode!A2:C1008,3,FALSE)","v":{"$error":"#N/A"}},null,{"$f":"VLOOKUP(C257,Kode!A2:D1008,4,FALSE)","v":{"$error":"#N/A"}},null,null,null,null,null,null,null,null,null,{"$f":"VLOOKUP(C257,Kode!A2:E1008,5,FALSE)","v":{"$error":"#N/A"}},null,null,null,null,null,{"$error":"#DIV/0!"}]
[{"$f":"VLOOKUP(C258,Kode!A2:C1008,2,FALSE)","v":{"$error":"#N/A"}},{"$f":"VLOOKUP(C258,Kode!A2:C1008,3,FALSE)","v":{"$error":"#N/A"}},null,{"$f":"VLOOKUP(C258,Kode!A2:D1008,4,FALSE)","v":{"$error":"#N/A"}},null,null,null,null,null,null,null,null,null,{"$f":"VLOOKUP(C258,Kode!A2:E1008,5,FALSE)","v":{"$error":"#N/A"}},null,null,null,null,null,{"$f":"R258/P258*100","v":{"$error":"#DIV/0!"}}]
[{"$f":"VLOOKUP(C259,Kode!A2:C1008,2,FALSE)","v":{"$error":"#N/A"}},{"$f":"VLOOKUP(C259,Kode!A2:C1008,3,FALSE)","v":{"$error":"#N/A"}},null,{"$f":"VLOOKUP(C259,Kode!A2:D1008,4,FALSE)","v":{"$error":"#N/A"}},null,null,null,null,null,null,null,null,null,{"$f":"VLOOKUP(C259,Kode!A2:E1008,5,FALSE)","v":{"$error":"#N/A"}},null,null,null,null,null,{"$error":"#DIV/0!"}]
[{"$f":"VLOOKUP(C260,Kode!A2:C1008,2,FALSE)","v":{"$error":"#N/A"}},{"$f":"VLOOKUP(C260,Kode!A2:C1008,3,FALSE)","v":{"$error":"#N/A"}},null,{"$f":"VLOOKUP(C260,Kode!A2:D1008,4,FALSE)","v":{"$error":"#N/A"}},null,null,null,null,null,null,null,null,null,{"$f":"VLOOKUP(C260,Kode!A2:E1008,5,FALSE)","v":{"$error":"#N/A"}},null,null,null,null,null,{"$error":"#DIV/0!"}]
[{"$f":"VLOOKUP(C261,Kode!A2:C1008,2,FALSE)","v":{"$error":"#N/A"}},{"$f":"VLOOKUP(C261,Kode!A2:C1008,3,FALSE)","v":{"$error":"#N/A"}},null,{"$f":"VLOOKUP(C261,Kode!A2:D1008,4,FALSE)","v":{"$error":"#N/A"}},null,null,null,null,null,null,null,null,null,{"$f":"VLOOKUP(C261,Kode!A2:E1008,5,FALSE)","v":{"$error":"#N/A"}},null,null,null,null,null,{"$error":"#DIV/0!"}]
[{"$f":"VLOOKUP(C262,Kode!A2:C1008,2,FALSE)","v":{"$error":"#N/A"}},{"$f":"VLOOKUP(C262,Kode!A2:C1008,3,FALSE)","v":{"$error":"#N/A"}},null,{"$f":"VLOOKUP(C262,Kode!A2:D1008,4,FALSE)","v":{"$error":"#N/A"}},null,null,null,null,null,null,null,null,null,{"$f":"VLOOKUP(C262,Kode!A2:E1008,5,FALSE)","v":{"$error":"#N/A"}},null,null,null,null,null,{"$error":"#DIV/0!"}]
[{"$f":"VLOOKUP(C263,Kode!A2:C1008,2,FALSE)","v":{"$error":"#N/A"}},{"$f":"VLOOKUP(C263,Kode!A2:C1008,3,FALSE)","v":{"$error":"#N/A"}},null,{"$f":"VLOOKUP(C263,Kode!A2:D1008,4,FALSE)","v":{"$error":"#N/A"}},null,null,null,null,null,null,null,null,null,{"$f":"VLOOKUP(C263,Kode!A2:E1008,5,FALSE)","v":{"$error":"#N/A"}},null,null,null,null,null,{"$error":"#DIV/0!"}]
[{"$f":"VLOOKUP(C264,Kode!A2:C1008,2,FALSE)","v":{"$error":"#N/A"}},{"$f":"VLOOKUP(C264,Kode!A2:C1008,3,FALSE)","v":{"$error":"#N/A"}},null,{"$f":"VLOOKUP(C264,Kode!A2:D1008,4,FALSE)","v":{"$error":"#N/A"}},null,null,null,null,null,null,null,null,null,{"$f":"VLOOKUP(C264,Kode!A2:E1008,5,FALSE)","v":{"$error":"#N/A"}},null,null,null,null,null,{"$error":"#DIV/0!"}]
[{"$f":"VLOOKUP(C265,Kode!A2:C1008,2,FALSE)","v":{"$error":"#N/A"}},{"$f":"VLOOKUP(C265,Kode!A2:C1008,3,FALSE)","v":{"$error":"#N/A"}},null,{"$f":"VLOOKUP(C265,Kode!A2:D1008,4,FALSE)","v":{"$error":"#N/A"}},null,null,null,null,null,null,null,null,null,{"$f":"VLOOKUP(C265,Kode!A2:E1008,5,FALSE)","v":{"$error":"#N/A"}},null,null,null,null,null,{"$error":"#DIV/0!"}]
[{"$f":"VLOOKUP(C266,Kode!A2:C1008,2,FALSE)","v":{"$error":"#N/A"}},{"$f":"VLOOKUP(C266,Kode!A2:C1008,3,FALSE)","v":{"$error":"#N/A"}},null,{"$f":"VLOOKUP(C266,Kode!A2:D1008,4,FALSE)","v":{"$error":"#N/A"}},null,null,null,null,null,null,null,null,null,{"$f":"VLOOKUP(C266,Kode!A2:E1008,5,FALSE)","v":{"$error":"#N/A"}},null,null,null,null,null,{"$error":"#DIV/0!"}]
[{"$f":"VLOOKUP(C267,Kode!A2:C1008,2,FALSE)","v":{"$error":"#N/A"}},{"$f":"VLOOKUP(C267,Kode!A2:C1008,3,FALSE)","v":{"$error":"#N/A"}},null,{"$f":"VLOOKUP(C267,Kode!A2:D1008,4,FALSE)","v":{"$error":"#N/A"}},null,null,null,null,null,null,null,null,null,{"$f":"VLOOKUP(C267,Kode!A2:E1008,5,FALSE)","v":{"$error":"#N/A"}},null,null,null,null,null,{"$error":"#DIV/0!"}]
[{"$f":"VLOOKUP(C268,Kode!A2:C1008,2,FALSE)","v":{"$error":"#N/A"}},{"$f":"VLOOKUP(C268,Kode!A2:C1008,3,FALSE)","v":{"$error":"#N/A"}},null,{"$f":"VLOOKUP(C268,Kode!A2:D1008,4,FALSE)","v":{"$error":"#N/A"}},null,null,null,null,null,null,null,null,null,{"$f":"VLOOKUP(C268,Kode!A2:E1008,5,FALSE)","v":{"$error":"#N/A"}},null,null,null,null,null,{"$error":"#DIV/0!"}]
[{"$f":"VLOOKUP(C269,Kode!A2:C1008,2,FALSE)","v":{"$error":"#N/A"}},{"$f":"VLOOKUP(C269,Kode!A2:C1008,3,FALSE)","v":{"$error":"#N/A"}},null,{"$f":"VLOOKUP(C269,Kode!A2:D1008,4,FALSE)","v":{"$error":"#N/A"}},null,null,null,null,null,null,null,null,null,{"$f":"VLOOKUP(C269,Kode!A2:E1008,5,FALSE)","v":{"$error":"#N/A"}},null,null,null,null,null,{"$error":"#DIV/0!"}]
[{"$f":"VLOOKUP(C270,Kode!A2:C1008,2,FALSE)","v":{"$error":"#N/A"}},{"$f":"VLOOKUP(C270,Kode!A2:C1008,3,FALSE)","v":{"$error":"#N/A"}},null,{"$f":"VLOOKUP(C270,Kode!A2:D1008,4,FALSE)","v":{"$error":"#N/A"}},null,null,null,null,null,null,null,null,null,{"$f":"VLOOKUP(C270,Kode!A2:E1008,5,FALSE)","v":{"$error":"#N/A"}},null,null,null,null,null,{"$error":"#DIV/0!"}]
[{"$f":"VLOOKUP(C271,Kode!A2:C1008,2,FALSE)","v":{"$error":"#N/A"}},{"$f":"VLOOKUP(C271,Kode!A2:C1008,3,FALSE)","v":{"$error":"#N/A"}},null,{"$f":"VLOOKUP(C271,Kode!A2:D1008,4,FALSE)","v":{"$error":"#N/A"}},null,null,null,null,null,null,null,null,null,{"$f":"VLOOKUP(C271,Kode!A2:E1008,5,FALSE)","v":{"$error":"#N/A"}},null,null,null,null,null,{"$error":"#DIV/0!"}]
[{"$f":"VLOOKUP(C272,Kode!A2:C1008,2,FALSE)","v":{"$error":"#N/A"}},{"$f":"VLOOKUP(C272,Kode!A2:C1008,3,FALSE)","v":{"$error":"#N/A"}},null,{"$f":"VLOOKUP(C272,Kode!A2:D1008,4,FALSE)","v":{"$error":"#N/A"}},null,null,null,null,null,null,null,null,null,{"$f":"VLOOKUP(C272,Kode!A2:E1008,5,FALSE)","v":{"$error":"#N/A"}},null,null,null,null,null,{"$error":"#DIV/0!"}]
[{"$f":"VLOOKUP(C273,Kode!A2:C1008,2,FALSE)","v":{"$error":"#N/A"}},{"$f":"VLOOKUP(C273,Kode!A2:C1008,3,FALSE)","v":{"$error":"#N/A"}},null,{"$f":"VLOOKUP(C273,Kode!A2:D1008,4,FALSE)","v":{"$error":"#N/A"}},null,null,null,null,null,null,null,null,null,{"$f":"VLOOKUP(C273,Kode!A2:E1008,5,FALSE)","v":{"$error":"#N/A"}},null,null,null,null,null,{"$error":"#DIV/0!"}]
[{"$f":"VLOOKUP(C274,Kode!A2:C1008,2,FALSE)","v":{"$error":"#N/A"}},{"$f":"VLOOKUP(C274,Kode!A2:C1008,3,FALSE)","v":{"$error":"#N/A"}},null,{"$f":"VLOOKUP(C274,Kode!A2:D1008,4,FALSE)","v":{"$error":"#N/A"}},null,null,null,null,null,null,null,null,null,{"$f":"VLOOKUP(C274,Kode!A2:E1008,5,FALSE)","v":{"$error":"#N/A"}},null,null,null,null,null,{"$error":"#DIV/0!"}]
[{"$f":"VLOOKUP(C275,Kode!A2:C1008,2,FALSE)","v":{"$error":"#N/A"}},{"$f":"VLOOKUP(C275,Kode!A2:C1008,3,FALSE)","v":{"$error":"#N/A"}},null,{"$f":"VLOOKUP(C275,Kode!A2:D1008,4,FALSE)","v":{"$error":"#N/A"}},null,null,null,null,null,null,null,null,null,{"$f":"VLOOKUP(C275,Kode!A2:E1008,5,FALSE)","v":{"$error":"#N/A"}},null,null,null,null,null,{"$error":"#DIV/0!"}]
[{"$f":"VLOOKUP(C276,Kode!A2:C1008,2,FALSE)","v":{"$error":"#N/A"}},{"$f":"VLOOKUP(C276,Kode!A2:C1008,3,FALSE)","v":{"$error":"#N/A"}},null,{"$f":"VLOOKUP(C276,Kode!A2:D1008,4,FALSE)","v":{"$error":"#N/A"}},null,null,null,null,null,null,null,null,null,{"$f":"VLOOKUP(C276,Kode!A2:E1008,5,FALSE)","v":{"$error":"#N/A"}},null,null,null,null,null,{"$error":"#DIV/0!"}]
[{"$f":"VLOOKUP(C277,Kode!A2:C1008,2,FALSE)","v":{"$error":"#N/A"}},{"$f":"VLOOKUP(C277,Kode!A2:C1008,3,FALSE)","v":{"$error":"#N/A"}},null,{"$f":"VLOOKUP(C277,Kode!A2:D1008,4,FALSE)","v":{"$error":"#N/A"}},null,null,null,null,null,null,null,null,null,{"$f":"VLOOKUP(C277,Kode!A2:E1008,5,FALSE)","v":{"$error":"#N/A"}},null,null,null,null,null,{"$error":"#DIV/0!"}]
[{"$f":"VLOOKUP(C278,Kode!A2:C1008,2,FALSE)","v":{"$error":"#N/A"}},{"$f":"VLOOKUP(C278,Kode!A2:C1008,3,FALSE)","v":{"$error":"#N/A"}},null,{"$f":"VLOOKUP(C278,Kode!A2:D1008,4,FALSE)","v":{"$error":"#N/A"}},null,null,null,null,null,null,null,null,null,{"$f":"VLOOKUP(C278,Kode!A2:E1008,5,FALSE)","v":{"$error":"#N/A"}},null,null,null,null,null,{"$error":"#DIV/0!"}]
[{"$f":"VLOOKUP(C279,Kode!A2:C1008,2,FALSE)","v":{"$error":"#N/A"}},{"$f":"VLOOKUP(C279,Kode!A2:C1008,3,FALSE)","v":{"$error":"#N/A"}},null,{"$f":"VLOOKUP(C279,Kode!A2:D1008,4,FALSE)","v":{"$error":"#N/A"}},null,null,null,null,null,null,null,null,null,{"$f":"VLOOKUP(C279,Kode!A2:E1008,5,FALSE)","v":{"$error":"#N/A"}},null,null,null,null,null,{"$error":"#DIV/0!"}]
[{"$f":"VLOOKUP(C280,Kode!A2:C1008,2,FALSE)","v":{"$error":"#N/A"}},{"$f":"VLOOKUP(C280,Kode!A2:C1008,3,FALSE)","v":{"$error":"#N/A"}},null,{"$f":"VLOOKUP(C280,Kode!A2:D1008,4,FALSE)","v":{"$error":"#N/A"}},null,null,null,null,null,null,null,null,null,{"$f":"VLOOKUP(C280,Kode!A2:E1008,5,FALSE)","v":{"$error":"#N/A"}},null,null,null,null,null,{"$error":"#DIV/0!"}]
[{"$f":"VLOOKUP(C281,Kode!A2:C1008,2,FALSE)","v":{"$error":"#N/A"}},{"$f":"VLOOKUP(C281,Kode!A2:C1008,3,FALSE)","v":{"$error":"#N/A"}},null,{"$f":"VLOOKUP(C281,Kode!A2:D1008,4,FALSE)","v":{"$error":"#N/A"}},null,null,null,null,null,null,null,null,null,{"$f":"VLOOKUP(C281,Kode!A2:E1008,5,FALSE)","v":{"$error":"#N/A"}},null,null,null,null,null,{"$error":"#DIV/0!"}]
[{"$f":"VLOOKUP(C282,Kode!A2:C1008,2,FALSE)","v":{"$error":"#N/A"}},{"$f":"VLOOKUP(C282,Kode!A2:C1008,3,FALSE)","v":{"$error":"#N/A"}},null,{"$f":"VLOOKUP(C282,Kode!A2:D1008,4,FALSE)","v":{"$error":"#N/A"}},null,null,null,null,null,null,null,null,null,{"$f":"VLOOKUP(C282,Kode!A2:E1008,5,FALSE)","v":{"$error":"#N/A"}},null,null,null,null,null,{"$error":"#DIV/0!"}]
[{"$f":"VLOOKUP(C283,Kode!A2:C1008,2,FALSE)","v":{"$error":"#N/A"}},{"$f":"VLOOKUP(C283,Kode!A2:C1008,3,FALSE)","v":{"$error":"#N/A"}},null,{"$f":"VLOOKUP(C283,Kode!A2:D1008,4,FALSE)","v":{"$error":"#N/A"}},null,null,null,null,null,null,null,null,null,{"$f":"VLOOKUP(C283,Kode!A2:E1008,5,FALSE)","v":{"$error":"#N/A"}},null,null,null,null,null,{"$error":"#DIV/0!"}]
[{"$f":"VLOOKUP(C284,Kode!A2:C1008,2,FALSE)","v":{"$error":"#N/A"}},{"$f":"VLOOKUP(C284,Kode!A2:C1008,3,FALSE)","v":{"$error":"#N/A"}},null,{"$f":"VLOOKUP(C284,Kode!A2:D1008,4,FALSE)","v":{"$error":"#N/A"}},null,null,null,null,null,null,null,null,null,{"$f":"VLOOKUP(C284,Kode!A2:E1008,5,FALSE)","v":{"$error":"#N/A"}},null,null,null,null,null,{"$error":"#DIV/0!"}]
[{"$f":"VLOOKUP(C285,Kode!A2:C1008,2,FALSE)","v":{"$error":"#N/A"}},{"$f":"VLOOKUP(C285,Kode!A2:C1008,3,FALSE)","v":{"$error":"#N/A"}},null,{"$f":"VLOOKUP(C285,Kode!A2:D1008,4,FALSE)","v":{"$error":"#N/A"}},null,null,null,null,null,null,null,null,null,{"$f":"VLOOKUP(C285,Kode!A2:E1008,5,FALSE)","v":{"$error":"#N/A"}},null,null,null,null,null,{"$error":"#DIV/0!"}]
[{"$f":"VLOOKUP(C286,Kode!A2:C1008,2,FALSE)","v":{"$error":"#N/A"}},{"$f":"VLOOKUP(C286,Kode!A2:C1008,3,FALSE)","v":{"$error":"#N/A"}},null,{"$f":"VLOOKUP(C286,Kode!A2:D1008,4,FALSE)","v":{"$error":"#N/A"}},null,null,null,null,null,null,null,null,null,{"$f":"VLOOKUP(C286,Kode!A2:E1008,5,FALSE)","v":{"$error":"#N/A"}},null,null,null,null,null,{"$error":"#DIV/0!"}]
[{"$f":"VLOOKUP(C287,Kode!A2:C1008,2,FALSE)","v":{"$error":"#N/A"}},{"$f":"VLOOKUP(C287,Kode!A2:C1008,3,FALSE)","v":{"$error":"#N/A"}},null,{"$f":"VLOOKUP(C287,Kode!A2:D1008,4,FALSE)","v":{"$error":"#N/A"}},null,null,null,null,null,null,null,null,null,{"$f":"VLOOKUP(C287,Kode!A2:E1008,5,FALSE)","v":{"$error":"#N/A"}},null,null,null,null,null,{"$error":"#DIV/0!"}]
[{"$f":"VLOOKUP(C288,Kode!A2:C1008,2,FALSE)","v":{"$error":"#N/A"}},{"$f":"VLOOKUP(C288,Kode!A2:C1008,3,FALSE)","v":{"$error":"#N/A"}},null,{"$f":"VLOOKUP(C288,Kode!A2:D1008,4,FALSE)","v":{"$error":"#N/A"}},null,null,null,null,null,null,null,null,null,{"$f":"VLOOKUP(C288,Kode!A2:E1008,5,FALSE)","v":{"$error":"#N/A"}},null,null,null,null,null,{"$error":"#DIV/0!"}]
[{"$f":"VLOOKUP(C289,Kode!A2:C1008,2,FALSE)","v":{"$error":"#N/A"}},{"$f":"VLOOKUP(C289,Kode!A2:C1008,3,FALSE)","v":{"$error":"#N/A"}},null,{"$f":"VLOOKUP(C289,Kode!A2:D1008,4,FALSE)","v":{"$error":"#N/A"}},null,null,null,null,null,null,null,null,null,{"$f":"VLOOKUP(C289,Kode!A2:E1008,5,FALSE)","v":{"$error":"#N/A"}},null,null,null,null,null,{"$error":"#DIV/0!"}]
[{"$f":"VLOOKUP(C290,Kode!A2:C1008,2,FALSE)","v":{"$error":"#N/A"}},{"$f":"VLOOKUP(C290,Kode!A2:C1008,3,FALSE)","v":{"$error":"#N/A"}},null,{"$f":"VLOOKUP(C290,Kode!A2:D1008,4,FALSE)","v":{"$error":"#N/A"}},null,null,null,null,null,null,null,null,null,{"$f":"VLOOKUP(C290,Kode!A2:E1008,5,FALSE)","v":{"$error":"#N/A"}},null,null,null,null,null,{"$error":"#DIV/0!"}]
[{"$f":"VLOOKUP(C291,Kode!A2:C1008,2,FALSE)","v":{"$error":"#N/A"}},{"$f":"VLOOKUP(C291,Kode!A2:C1008,3,FALSE)","v":{"$error":"#N/A"}},null,{"$f":"VLOOKUP(C291,Kode!A2:D1008,4,FALSE)","v":{"$error":"#N/A"}},null,null,null,null,null,null,null,null,null,{"$f":"VLOOKUP(C291,Kode!A2:E1008,5,FALSE)","v":{"$error":"#N/A"}},null,null,null,null,null,{"$error":"#DIV/0!"}]
[{"$f":"VLOOKUP(C292,Kode!A2:C1008,2,FALSE)","v":{"$error":"#N/A"}},{"$f":"VLOOKUP(C292,Kode!A2:C1008,3,FALSE)","v":{"$error":"#N/A"}},null,{"$f":"VLOOKUP(C292,Kode!A2:D1008,4,FALSE)","v":{"$error":"#N/A"}},null,null,null,null,null,null,null,null,null,{"$f":"VLOOKUP(C292,Kode!A2:E1008,5,FALSE)","v":{"$error":"#N/A"}},null,null,null,null,null,{"$error":"#DIV/0!"}]
[{"$f":"VLOOKUP(C293,Kode!A2:C1008,2,FALSE)","v":{"$error":"#N/A"}},{"$f":"VLOOKUP(C293,Kode!A2:C1008,3,FALSE)","v":{"$error":"#N/A"}},null,{"$f":"VLOOKUP(C293,Kode!A2:D1008,4,FALSE)","v":{"$error":"#N/A"}},null,null,null,null,null,null,null,null,null,{"$f":"VLOOKUP(C293,Kode!A2:E1008,5,FALSE)","v":{"$error":"#N/A"}},null,null,null,null,null,{"$error":"#DIV/0!"}]
[{"$f":"VLOOKUP(C294,Kode!A2:C1008,2,FALSE)","v":{"$error":"#N/A"}},{"$f":"VLOOKUP(C294,Kode!A2:C1008,3,FALSE)","v":{"$error":"#N/A"}},null,{"$f":"VLOOKUP(C294,Kode!A2:D1008,4,FALSE)","v":{"$error":"#N/A"}},null,null,null,null,null,null,null,null,null,{"$f":"VLOOKUP(C294,Kode!A2:E1008,5,FALSE)","v":{"$error":"#N/A"}},null,null,null,null,null,{"$error":"#DIV/0!"}]
[{"$f":"VLOOKUP(C295,Kode!A2:C1008,2,FALSE)","v":{"$error":"#N/A"}},{"$f":"VLOOKUP(C295,Kode!A2:C1008,3,FALSE)","v":{"$error":"#N/A"}},null,{"$f":"VLOOKUP(C295,Kode!A2:D1008,4,FALSE)","v":{"$error":"#N/A"}},null,null,null,null,null,null,null,null,null,{"$f":"VLOOKUP(C295,Kode!A2:E1008,5,FALSE)","v":{"$error":"#N/A"}},null,null,null,null,null,{"$error":"#DIV/0!"}]
[{"$f":"VLOOKUP(C296,Kode!A2:C1008,2,FALSE)","v":{"$error":"#N/A"}},{"$f":"VLOOKUP(C296,Kode!A2:C1008,3,FALSE)","v":{"$error":"#N/A"}},null,{"$f":"VLOOKUP(C296,Kode!A2:D1008,4,FALSE)","v":{"$error":"#N/A"}},null,null,null,null,null,null,null,null,null,{"$f":"VLOOKUP(C296,Kode!A2:E1008,5,FALSE)","v":{"$error":"#N/A"}},null,null,null,null,null,{"$error":"#DIV/0!"}]
[{"$f":"VLOOKUP(C297,Kode!A2:C1008,2,FALSE)","v":{"$error":"#N/A"}},{"$f":"VLOOKUP(C297,Kode!A2:C1008,3,FALSE)","v":{"$error":"#N/A"}},null,{"$f":"VLOOKUP(C297,Kode!A2:D1008,4,FALSE)","v":{"$error":"#N/A"}},null,null,null,null,null,null,null,null,null,{"$f":"VLOOKUP(C297,Kode!A2:E1008,5,FALSE)","v":{"$error":"#N/A"}},null,null,null,null,null,{"$error":"#DIV/0!"}]
[{"$f":"VLOOKUP(C298,Kode!A2:C1008,2,FALSE)","v":{"$error":"#N/A"}},{"$f":"VLOOKUP(C298,Kode!A2:C1008,3,FALSE)","v":{"$error":"#N/A"}},null,{"$f":"VLOOKUP(C298,Kode!A2:D1008,4,FALSE)","v":{"$error":"#N/A"}},null,null,null,null,null,null,null,null,null,{"$f":"VLOOKUP(C298,Kode!A2:E1008,5,FALSE)","v":{"$error":"#N/A"}},null,null,null,null,null,{"$error":"#DIV/0!"}]
[{"$f":"VLOOKUP(C299,Kode!A2:C1008,2,FALSE)","v":{"$error":"#N/A"}},{"$f":"VLOOKUP(C299,Kode!A2:C1008,3,FALSE)","v":{"$error":"#N/A"}},null,{"$f":"VLOOKUP(C299,Kode!A2:D1008,4,FALSE)","v":{"$error":"#N/A"}},null,null,null,null,null,null,null,null,null,{"$f":"VLOOKUP(C299,Kode!A2:E1008,5,FALSE)","v":{"$error":"#N/A"}},null,null,null,null,null,{"$error":"#DIV/0!"}]
[{"$f":"VLOOKUP(C300,Kode!A2:C1008,2,FALSE)","v":{"$error":"#N/A"}},{"$f":"VLOOKUP(C300,Kode!A2:C1008,3,FALSE)","v":{"$error":"#N/A"}},null,{"$f":"VLOOKUP(C300,Kode!A2:D1008,4,FALSE)","v":{"$error":"#N/A"}},null,null,null,null,null,null,null,null,null,{"$f":"VLOOKUP(C300,Kode!A2:E1008,5,FALSE)","v":{"$error":"#N/A"}},null,null,null,null,null,{"$error":"#DIV/0!"}]
[{"$f":"VLOOKUP(C301,Kode!A2:C1008,2,FALSE)","v":{"$error":"#N/A"}},{"$f":"VLOOKUP(C301,Kode!A2:C1008,3,FALSE)","v":{"$error":"#N/A"}},null,{"$f":"VLOOKUP(C301,Kode!A2:D1008,4,FALSE)","v":{"$error":"#N/A"}},null,null,null,null,null,null,null,null,null,{"$f":"VLOOKUP(C301,Kode!A2:E1008,5,FALSE)","v":{"$error":"#N/A"}},null,null,null,null,null,{"$error":"#DIV/0!"}]
[{"$f":"VLOOKUP(C302,Kode!A2:C1008,2,FALSE)","v":{"$error":"#N/A"}},{"$f":"VLOOKUP(C302,Kode!A2:C1008,3,FALSE)","v":{"$error":"#N/A"}},null,{"$f":"VLOOKUP(C302,Kode!A2:D1008,4,FALSE)","v":{"$error":"#N/A"}},null,null,null,null,null,null,null,null,null,{"$f":"VLOOKUP(C302,Kode!A2:E1008,5,FALSE)","v":{"$error":"#N/A"}},null,null,null,null,null,{"$error":"#DIV/0!"}]
[{"$f":"VLOOKUP(C303,Kode!A2:C1008,2,FALSE)","v":{"$error":"#N/A"}},{"$f":"VLOOKUP(C303,Kode!A2:C1008,3,FALSE)","v":{"$error":"#N/A"}},null,{"$f":"VLOOKUP(C303,Kode!A2:D1008,4,FALSE)","v":{"$error":"#N/A"}},null,null,null,null,null,null,null,null,null,{"$f":"VLOOKUP(C303,Kode!A2:E1008,5,FALSE)","v":{"$error":"#N/A"}},null,null,null,null,null,{"$error":"#DIV/0!"}]
[{"$f":"VLOOKUP(C304,Kode!A2:C1008,2,FALSE)","v":{"$error":"#N/A"}},{"$f":"VLOOKUP(C304,Kode!A2:C1008,3,FALSE)","v":{"$error":"#N/A"}},null,{"$f":"VLOOKUP(C304,Kode!A2:D1008,4,FALSE)","v":{"$error":"#N/A"}},null,null,null,null,null,null,null,null,null,{"$f":"VLOOKUP(C304,Kode!A2:E1008,5,FALSE)","v":{"$error":"#N/A"}},null,null,null,null,null,{"$error":"#DIV/0!"}]
[{"$f":"VLOOKUP(C305,Kode!A2:C1008,2,FALSE)","v":{"$error":"#N/A"}},{"$f":"VLOOKUP(C305,Kode!A2:C1008,3,FALSE)","v":{"$error":"#N/A"}},null,{"$f":"VLOOKUP(C305,Kode!A2:D1008,4,FALSE)","v":{"$error":"#N/A"}},null,null,null,null,null,null,null,null,null,{"$f":"VLOOKUP(C305,Kode!A2:E1008,5,FALSE)","v":{"$error":"#N/A"}},null,null,null,null,null,{"$error":"#DIV/0!"}]
[{"$f":"VLOOKUP(C306,Kode!A2:C1008,2,FALSE)","v":{"$error":"#N/A"}},{"$f":"VLOOKUP(C306,Kode!A2:C1008,3,FALSE)","v":{"$error":"#N/A"}},null,{"$f":"VLOOKUP(C306,Kode!A2:D1008,4,FALSE)","v":{"$error":"#N/A"}},null,null,null,null,null,null,null,null,null,{"$f":"VLOOKUP(C306,Kode!A2:E1008,5,FALSE)","v":{"$error":"#N/A"}},null,null,null,null,null,{"$error":"#DIV/0!"}]
[{"$f":"VLOOKUP(C307,Kode!A2:C1008,2,FALSE)","v":{"$error":"#N/A"}},{"$f":"VLOOKUP(C307,Kode!A2:C1008,3,FALSE)","v":{"$error":"#N/A"}},null,{"$f":"VLOOKUP(C307,Kode!A2:D1008,4,FALSE)","v":{"$error":"#N/A"}},null,null,null,null,null,null,null,null,null,{"$f":"VLOOKUP(C307,Kode!A2:E1008,5,FALSE)","v":{"$error":"#N/A"}},null,null,null,null,null,{"$error":"#DIV/0!"}]
[{"$f":"VLOOKUP(C308,Kode!A2:C1008,2,FALSE)","v":{"$error":"#N/A"}},{"$f":"VLOOKUP(C308,Kode!A2:C1008,3,FALSE)","v":{"$error":"#N/A"}},null,{"$f":"VLOOKUP(C308,Kode!A2:D1008,4,FALSE)","v":{"$error":"#N/A"}},null,null,null,null,null,null,null,null,null,{"$f":"VLOOKUP(C308,Kode!A2:E1008,5,FALSE)","v":{"$error":"#N/A"}},null,null,null,null,null,{"$error":"#DIV/0!"}]
[{"$f":"VLOOKUP(C309,Kode!A2:C1008,2,FALSE)","v":{"$error":"#N/A"}},{"$f":"VLOOKUP(C309,Kode!A2:C1008,3,FALSE)","v":{"$error":"#N/A"}},null,{"$f":"VLOOKUP(C309,Kode!A2:D1008,4,FALSE)","v":{"$error":"#N/A"}},null,null,null,null,null,null,null,null,null,{"$f":"VLOOKUP(C309,Kode!A2:E1008,5,FALSE)","v":{"$error":"#N/A"}},null,null,null,null,null,{"$error":"#DIV/0!"}]
[{"$f":"VLOOKUP(C310,Kode!A2:C1008,2,FALSE)","v":{"$error":"#N/A"}},{"$f":"VLOOKUP(C310,Kode!A2:C1008,3,FALSE)","v":{"$error":"#N/A"}},null,{"$f":"VLOOKUP(C310,Kode!A2:D1008,4,FALSE)","v":{"$error":"#N/A"}},null,null,null,null,null,null,null,null,null,{"$f":"VLOOKUP(C310,Kode!A2:E1008,5,FALSE)","v":{"$error":"#N/A"}},null,null,null,null,null,{"$error":"#DIV/0!"}]
[{"$f":"VLOOKUP(C311,Kode!A2:C1008,2,FALSE)","v":{"$error":"#N/A"}},{"$f":"VLOOKUP(C311,Kode!A2:C1008,3,FALSE)","v":{"$error":"#N/A"}},null,{"$f":"VLOOKUP(C311,Kode!A2:D1008,4,FALSE)","v":{"$error":"#N/A"}},null,null,null,null,null,null,null,null,null,{"$f":"VLOOKUP(C311,Kode!A2:E1008,5,FALSE)","v":{"$error":"#N/A"}},null,null,null,null,null,{"$error":"#DIV/0!"}]
[{"$f":"VLOOKUP(C312,Kode!A2:C1008,2,FALSE)","v":{"$error":"#N/A"}},{"$f":"VLOOKUP(C312,Kode!A2:C1008,3,FALSE)","v":{"$error":"#N/A"}},null,{"$f":"VLOOKUP(C312,Kode!A2:D1008,4,FALSE)","v":{"$error":"#N/A"}},null,null,null,null,null,null,null,null,null,{"$f":"VLOOKUP(C312,Kode!A2:E1008,5,FALSE)","v":{"$error":"#N/A"}},null,null,null,null,null,{"$error":"#DIV/0!"}]
[{"$f":"VLOOKUP(C313,Kode!A2:C1008,2,FALSE)","v":{"$error":"#N/A"}},{"$f":"VLOOKUP(C313,Kode!A2:C1008,3,FALSE)","v":{"$error":"#N/A"}},null,{"$f":"VLOOKUP(C313,Kode!A2:D1008,4,FALSE)","v":{"$error":"#N/A"}},null,null,null,null,null,null,null,null,null,{"$f":"VLOOKUP(C313,Kode!A2:E1008,5,FALSE)","v":{"$error":"#N/A"}},null,null,null,null,null,{"$error":"#DIV/0!"}]
[{"$f":"VLOOKUP(C314,Kode!A2:C1008,2,FALSE)","v":{"$error":"#N/A"}},{"$f":"VLOOKUP(C314,Kode!A2:C1008,3,FALSE)","v":{"$error":"#N/A"}},null,{"$f":"VLOOKUP(C314,Kode!A2:D1008,4,FALSE)","v":{"$error":"#N/A"}},null,null,null,null,null,null,null,null,null,{"$f":"VLOOKUP(C314,Kode!A2:E1008,5,FALSE)","v":{"$error":"#N/A"}},null,null,null,null,null,{"$error":"#DIV/0!"}]
[{"$f":"VLOOKUP(C315,Kode!A2:C1008,2,FALSE)","v":{"$error":"#N/A"}},{"$f":"VLOOKUP(C315,Kode!A2:C1008,3,FALSE)","v":{"$error":"#N/A"}},null,{"$f":"VLOOKUP(C315,Kode!A2:D1008,4,FALSE)","v":{"$error":"#N/A"}},null,null,null,null,null,null,null,null,null,{"$f":"VLOOKUP(C315,Kode!A2:E1008,5,FALSE)","v":{"$error":"#N/A"}},null,null,null,null,null,{"$error":"#DIV/0!"}]
[{"$f":"VLOOKUP(C316,Kode!A2:C1008,2,FALSE)","v":{"$error":"#N/A"}},{"$f":"VLOOKUP(C316,Kode!A2:C1008,3,FALSE)","v":{"$error":"#N/A"}},null,{"$f":"VLOOKUP(C316,Kode!A2:D1008,4,FALSE)","v":{"$error":"#N/A"}},null,null,null,null,null,null,null,null,null,{"$f":"VLOOKUP(C316,Kode!A2:E1008,5,FALSE)","v":{"$error":"#N/A"}},null,null,null,null,null,{"$error":"#DIV/0!"}]
[{"$f":"VLOOKUP(C317,Kode!A2:C1008,2,FALSE)","v":{"$error":"#N/A"}},{"$f":"VLOOKUP(C317,Kode!A2:C1008,3,FALSE)","v":{"$error":"#N/A"}},null,{"$f":"VLOOKUP(C317,Kode!A2:D1008,4,FALSE)","v":{"$error":"#N/A"}},null,null,null,null,null,null,null,null,null,{"$f":"VLOOKUP(C317,Kode!A2:E1008,5,FALSE)","v":{"$error":"#N/A"}},null,null,null,null,null,{"$error":"#DIV/0!"}]
[{"$f":"VLOOKUP(C318,Kode!A2:C1008,2,FALSE)","v":{"$error":"#N/A"}},{"$f":"VLOOKUP(C318,Kode!A2:C1008,3,FALSE)","v":{"$error":"#N/A"}},null,{"$f":"VLOOKUP(C318,Kode!A2:D1008,4,FALSE)","v":{"$error":"#N/A"}},null,null,null,null,null,null,null,null,null,{"$f":"VLOOKUP(C318,Kode!A2:E1008,5,FALSE)","v":{"$error":"#N/A"}},null,null,null,null,null,{"$error":"#DIV/0!"}]
[{"$f":"VLOOKUP(C319,Kode!A2:C1008,2,FALSE)","v":{"$error":"#N/A"}},{"$f":"VLOOKUP(C319,Kode!A2:C1008,3,FALSE)","v":{"$error":"#N/A"}},null,{"$f":"VLOOKUP(C319,Kode!A2:D1008,4,FALSE)","v":{"$error":"#N/A"}},null,null,null,null,null,null,null,null,null,{"$f":"VLOOKUP(C319,Kode!A2:E1008,5,FALSE)","v":{"$error":"#N/A"}},null,null,null,null,null,{"$error":"#DIV/0!"}]
[{"$f":"VLOOKUP(C320,Kode!A2:C1008,2,FALSE)","v":{"$error":"#N/A"}},{"$f":"VLOOKUP(C320,Kode!A2:C1008,3,FALSE)","v":{"$error":"#N/A"}},null,{"$f":"VLOOKUP(C320,Kode!A2:D1008,4,FALSE)","v":{"$error":"#N/A"}},null,null,null,null,null,null,null,null,null,{"$f":"VLOOKUP(C320,Kode!A2:E1008,5,FALSE)","v":{"$error":"#N/A"}},null,null,null,null,null,{"$error":"#DIV/0!"}]
[{"$f":"VLOOKUP(C321,Kode!A2:C1008,2,FALSE)","v":{"$error":"#N/A"}},{"$f":"VLOOKUP(C321,Kode!A2:C1008,3,FALSE)","v":{"$error":"#N/A"}},null,{"$f":"VLOOKUP(C321,Kode!A2:D1008,4,FALSE)","v":{"$error":"#N/A"}},null,null,null,null,null,null,null,null,null,{"$f":"VLOOKUP(C321,Kode!A2:E1008,5,FALSE)","v":{"$error":"#N/A"}},null,null,null,null,null,{"$error":"#DIV/0!"}]
[{"$f":"VLOOKUP(C322,Kode!A2:C1008,2,FALSE)","v":{"$error":"#N/A"}},{"$f":"VLOOKUP(C322,Kode!A2:C1008,3,FALSE)","v":{"$error":"#N/A"}},null,{"$f":"VLOOKUP(C322,Kode!A2:D1008,4,FALSE)","v":{"$error":"#N/A"}},null,null,null,null,null,null,null,null,null,{"$f":"VLOOKUP(C322,Kode!A2:E1008,5,FALSE)","v":{"$error":"#N/A"}},null,null,null,null,null,{"$f":"R322/P322*100","v":{"$error":"#DIV/0!"}}]
[{"$f":"VLOOKUP(C323,Kode!A2:C1008,2,FALSE)","v":{"$error":"#N/A"}},{"$f":"VLOOKUP(C323,Kode!A2:C1008,3,FALSE)","v":{"$error":"#N/A"}},null,{"$f":"VLOOKUP(C323,Kode!A2:D1008,4,FALSE)","v":{"$error":"#N/A"}},null,null,null,null,null,null,null,null,null,{"$f":"VLOOKUP(C323,Kode!A2:E1008,5,FALSE)","v":{"$error":"#N/A"}},null,null,null,null,null,{"$error":"#DIV/0!"}]
[{"$f":"VLOOKUP(C324,Kode!A2:C1008,2,FALSE)","v":{"$error":"#N/A"}},{"$f":"VLOOKUP(C324,Kode!A2:C1008,3,FALSE)","v":{"$error":"#N/A"}},null,{"$f":"VLOOKUP(C324,Kode!A2:D1008,4,FALSE)","v":{"$error":"#N/A"}},null,null,null,null,null,null,null,null,null,{"$f":"VLOOKUP(C324,Kode!A2:E1008,5,FALSE)","v":{"$error":"#N/A"}},null,null,null,null,null,{"$error":"#DIV/0!"}]
[{"$f":"VLOOKUP(C325,Kode!A2:C1008,2,FALSE)","v":{"$error":"#N/A"}},{"$f":"VLOOKUP(C325,Kode!A2:C1008,3,FALSE)","v":{"$error":"#N/A"}},null,{"$f":"VLOOKUP(C325,Kode!A2:D1008,4,FALSE)","v":{"$error":"#N/A"}},null,null,null,null,null,null,null,null,null,{"$f":"VLOOKUP(C325,Kode!A2:E1008,5,FALSE)","v":{"$error":"#N/A"}},null,null,null,null,null,{"$error":"#DIV/0!"}]
[{"$f":"VLOOKUP(C326,Kode!A2:C1008,2,FALSE)","v":{"$error":"#N/A"}},{"$f":"VLOOKUP(C326,Kode!A2:C1008,3,FALSE)","v":{"$error":"#N/A"}},null,{"$f":"VLOOKUP(C326,Kode!A2:D1008,4,FALSE)","v":{"$error":"#N/A"}},null,null,null,null,null,null,null,null,null,{"$f":"VLOOKUP(C326,Kode!A2:E1008,5,FALSE)","v":{"$error":"#N/A"}},null,null,null,null,null,{"$error":"#DIV/0!"}]
[{"$f":"VLOOKUP(C327,Kode!A2:C1008,2,FALSE)","v":{"$error":"#N/A"}},{"$f":"VLOOKUP(C327,Kode!A2:C1008,3,FALSE)","v":{"$error":"#N/A"}},null,{"$f":"VLOOKUP(C327,Kode!A2:D1008,4,FALSE)","v":{"$error":"#N/A"}},null,null,null,null,null,null,null,null,null,{"$f":"VLOOKUP(C327,Kode!A2:E1008,5,FALSE)","v":{"$error":"#N/A"}},null,null,null,null,null,{"$error":"#DIV/0!"}]
[{"$f":"VLOOKUP(C328,Kode!A2:C1008,2,FALSE)","v":{"$error":"#N/A"}},{"$f":"VLOOKUP(C328,Kode!A2:C1008,3,FALSE)","v":{"$error":"#N/A"}},null,{"$f":"VLOOKUP(C328,Kode!A2:D1008,4,FALSE)","v":{"$error":"#N/A"}},null,null,null,null,null,null,null,null,null,{"$f":"VLOOKUP(C328,Kode!A2:E1008,5,FALSE)","v":{"$error":"#N/A"}},null,null,null,null,null,{"$error":"#DIV/0!"}]
[{"$f":"VLOOKUP(C329,Kode!A2:C1008,2,FALSE)","v":{"$error":"#N/A"}},{"$f":"VLOOKUP(C329,Kode!A2:C1008,3,FALSE)","v":{"$error":"#N/A"}},null,{"$f":"VLOOKUP(C329,Kode!A2:D1008,4,FALSE)","v":{"$error":"#N/A"}},null,null,null,null,null,null,null,null,null,{"$f":"VLOOKUP(C329,Kode!A2:E1008,5,FALSE)","v":{"$error":"#N/A"}},null,null,null,null,null,{"$error":"#DIV/0!"}]
[{"$f":"VLOOKUP(C330,Kode!A2:C1008,2,FALSE)","v":{"$error":"#N/A"}},{"$f":"VLOOKUP(C330,Kode!A2:C1008,3,FALSE)","v":{"$error":"#N/A"}},null,{"$f":"VLOOKUP(C330,Kode!A2:D1008,4,FALSE)","v":{"$error":"#N/A"}},null,null,null,null,null,null,null,null,null,{"$f":"VLOOKUP(C330,Kode!A2:E1008,5,FALSE)","v":{"$error":"#N/A"}},null,null,null,null,null,{"$error":"#DIV/0!"}]
[{"$f":"VLOOKUP(C331,Kode!A2:C1008,2,FALSE)","v":{"$error":"#N/A"}},{"$f":"VLOOKUP(C331,Kode!A2:C1008,3,FALSE)","v":{"$error":"#N/A"}},null,{"$f":"VLOOKUP(C331,Kode!A2:D1008,4,FALSE)","v":{"$error":"#N/A"}},null,null,null,null,null,null,null,null,null,{"$f":"VLOOKUP(C331,Kode!A2:E1008,5,FALSE)","v":{"$error":"#N/A"}},null,null,null,null,null,{"$error":"#DIV/0!"}]
[{"$f":"VLOOKUP(C332,Kode!A2:C1008,2,FALSE)","v":{"$error":"#N/A"}},{"$f":"VLOOKUP(C332,Kode!A2:C1008,3,FALSE)","v":{"$error":"#N/A"}},null,{"$f":"VLOOKUP(C332,Kode!A2:D1008,4,FALSE)","v":{"$error":"#N/A"}},null,null,null,null,null,null,null,null,null,{"$f":"VLOOKUP(C332,Kode!A2:E1008,5,FALSE)","v":{"$error":"#N/A"}},null,null,null,null,null,{"$error":"#DIV/0!"}]
[{"$f":"VLOOKUP(C333,Kode!A2:C1008,2,FALSE)","v":{"$error":"#N/A"}},{"$f":"VLOOKUP(C333,Kode!A2:C1008,3,FALSE)","v":{"$error":"#N/A"}},null,{"$f":"VLOOKUP(C333,Kode!A2:D1008,4,FALSE)","v":{"$error":"#N/A"}},null,null,null,null,null,null,null,null,null,{"$f":"VLOOKUP(C333,Kode!A2:E1008,5,FALSE)","v":{"$error":"#N/A"}},null,null,null,null,null,{"$error":"#DIV/0!"}]
[{"$f":"VLOOKUP(C334,Kode!A2:C1008,2,FALSE)","v":{"$error":"#N/A"}},{"$f":"VLOOKUP(C334,Kode!A2:C1008,3,FALSE)","v":{"$error":"#N/A"}},null,{"$f":"VLOOKUP(C334,Kode!A2:D1008,4,FALSE)","v":{"$error":"#N/A"}},null,null,null,null,null,null,null,null,null,{"$f":"VLOOKUP(C334,Kode!A2:E1008,5,FALSE)","v":{"$error":"#N/A"}},null,null,null,null,null,{"$error":"#DIV/0!"}]
[{"$f":"VLOOKUP(C335,Kode!A2:C1008,2,FALSE)","v":{"$error":"#N/A"}},{"$f":"VLOOKUP(C335,Kode!A2:C1008,3,FALSE)","v":{"$error":"#N/A"}},null,{"$f":"VLOOKUP(C335,Kode!A2:D1008,4,FALSE)","v":{"$error":"#N/A"}},null,null,null,null,null,null,null,null,null,{"$f":"VLOOKUP(C335,Kode!A2:E1008,5,FALSE)","v":{"$error":"#N/A"}},null,null,null,null,null,{"$error":"#DIV/0!"}]
[{"$f":"VLOOKUP(C336,Kode!A2:C1008,2,FALSE)","v":{"$error":"#N/A"}},{"$f":"VLOOKUP(C336,Kode!A2:C1008,3,FALSE)","v":{"$error":"#N/A"}},null,{"$f":"VLOOKUP(C336,Kode!A2:D1008,4,FALSE)","v":{"$error":"#N/A"}},null,null,null,null,null,null,null,null,null,{"$f":"VLOOKUP(C336,Kode!A2:E1008,5,FALSE)","v":{"$error":"#N/A"}},null,null,null,null,null,{"$error":"#DIV/0!"}]
[{"$f":"VLOOKUP(C337,Kode!A2:C1008,2,FALSE)","v":{"$error":"#N/A"}},{"$f":"VLOOKUP(C337,Kode!A2:C1008,3,FALSE)","v":{"$error":"#N/A"}},null,{"$f":"VLOOKUP(C337,Kode!A2:D1008,4,FALSE)","v":{"$error":"#N/A"}},null,null,null,null,null,null,null,null,null,{"$f":"VLOOKUP(C337,Kode!A2:E1008,5,FALSE)","v":{"$error":"#N/A"}},null,null,null,null,null,{"$error":"#DIV/0!"}]
[{"$f":"VLOOKUP(C338,Kode!A2:C1008,2,FALSE)","v":{"$error":"#N/A"}},{"$f":"VLOOKUP(C338,Kode!A2:C1008,3,FALSE)","v":{"$error":"#N/A"}},null,{"$f":"VLOOKUP(C338,Kode!A2:D1008,4,FALSE)","v":{"$error":"#N/A"}},null,null,null,null,null,null,null,null,null,{"$f":"VLOOKUP(C338,Kode!A2:E1008,5,FALSE)","v":{"$error":"#N/A"}},null,null,null,null,null,{"$error":"#DIV/0!"}]
[{"$f":"VLOOKUP(C339,Kode!A2:C1008,2,FALSE)","v":{"$error":"#N/A"}},{"$f":"VLOOKUP(C339,Kode!A2:C1008,3,FALSE)","v":{"$error":"#N/A"}},null,{"$f":"VLOOKUP(C339,Kode!A2:D1008,4,FALSE)","v":{"$error":"#N/A"}},null,null,null,null,null,null,null,null,null,{"$f":"VLOOKUP(C339,Kode!A2:E1008,5,FALSE)","v":{"$error":"#N/A"}},null,null,null,null,null,{"$error":"#DIV/0!"}]
[{"$f":"VLOOKUP(C340,Kode!A2:C1008,2,FALSE)","v":{"$error":"#N/A"}},{"$f":"VLOOKUP(C340,Kode!A2:C1008,3,FALSE)","v":{"$error":"#N/A"}},null,{"$f":"VLOOKUP(C340,Kode!A2:D1008,4,FALSE)","v":{"$error":"#N/A"}},null,null,null,null,null,null,null,null,null,{"$f":"VLOOKUP(C340,Kode!A2:E1008,5,FALSE)","v":{"$error":"#N/A"}},null,null,null,null,null,{"$error":"#DIV/0!"}]
[{"$f":"VLOOKUP(C341,Kode!A2:C1008,2,FALSE)","v":{"$error":"#N/A"}},{"$f":"VLOOKUP(C341,Kode!A2:C1008,3,FALSE)","v":{"$error":"#N/A"}},null,{"$f":"VLOOKUP(C341,Kode!A2:D1008,4,FALSE)","v":{"$error":"#N/A"}},null,null,null,null,null,null,null,null,null,{"$f":"VLOOKUP(C341,Kode!A2:E1008,5,FALSE)","v":{"$error":"#N/A"}},null,null,null,null,null,{"$error":"#DIV/0!"}]
[{"$f":"VLOOKUP(C342,Kode!A2:C1008,2,FALSE)","v":{"$error":"#N/A"}},{"$f":"VLOOKUP(C342,Kode!A2:C1008,3,FALSE)","v":{"$error":"#N/A"}},null,{"$f":"VLOOKUP(C342,Kode!A2:D1008,4,FALSE)","v":{"$error":"#N/A"}},null,null,null,null,null,null,null,null,null,{"$f":"VLOOKUP(C342,Kode!A2:E1008,5,FALSE)","v":{"$error":"#N/A"}},null,null,null,null,null,{"$error":"#DIV/0!"}]
[{"$f":"VLOOKUP(C343,Kode!A2:C1008,2,FALSE)","v":{"$error":"#N/A"}},{"$f":"VLOOKUP(C343,Kode!A2:C1008,3,FALSE)","v":{"$error":"#N/A"}},null,{"$f":"VLOOKUP(C343,Kode!A2:D1008,4,FALSE)","v":{"$error":"#N/A"}},null,null,null,null,null,null,null,null,null,{"$f":"VLOOKUP(C343,Kode!A2:E1008,5,FALSE)","v":{"$error":"#N/A"}},null,null,null,null,null,{"$error":"#DIV/0!"}]
[{"$f":"VLOOKUP(C344,Kode!A2:C1008,2,FALSE)","v":{"$error":"#N/A"}},{"$f":"VLOOKUP(C344,Kode!A2:C1008,3,FALSE)","v":{"$error":"#N/A"}},null,{"$f":"VLOOKUP(C344,Kode!A2:D1008,4,FALSE)","v":{"$error":"#N/A"}},null,null,null,null,null,null,null,null,null,{"$f":"VLOOKUP(C344,Kode!A2:E1008,5,FALSE)","v":{"$error":"#N/A"}},null,null,null,null,null,{"$error":"#DIV/0!"}]
[{"$f":"VLOOKUP(C345,Kode!A2:C1008,2,FALSE)","v":{"$error":"#N/A"}},{"$f":"VLOOKUP(C345,Kode!A2:C1008,3,FALSE)","v":{"$error":"#N/A"}},null,{"$f":"VLOOKUP(C345,Kode!A2:D1008,4,FALSE)","v":{"$error":"#N/A"}},null,null,null,null,null,null,null,null,null,{"$f":"VLOOKUP(C345,Kode!A2:E1008,5,FALSE)","v":{"$error":"#N/A"}},null,null,null,null,null,{"$error":"#DIV/0!"}]
[{"$f":"VLOOKUP(C346,Kode!A2:C1008,2,FALSE)","v":{"$error":"#N/A"}},{"$f":"VLOOKUP(C346,Kode!A2:C1008,3,FALSE)","v":{"$error":"#N/A"}},null,{"$f":"VLOOKUP(C346,Kode!A2:D1008,4,FALSE)","v":{"$error":"#N/A"}},null,null,null,null,null,null,null,null,null,{"$f":"VLOOKUP(C346,Kode!A2:E1008,5,FALSE)","v":{"$error":"#N/A"}},null,null,null,null,null,{"$error":"#DIV/0!"}]
[{"$f":"VLOOKUP(C347,Kode!A2:C1008,2,FALSE)","v":{"$error":"#N/A"}},{"$f":"VLOOKUP(C347,Kode!A2:C1008,3,FALSE)","v":{"$error":"#N/A"}},null,{"$f":"VLOOKUP(C347,Kode!A2:D1008,4,FALSE)","v":{"$error":"#N/A"}},null,null,null,null,null,null,null,null,null,{"$f":"VLOOKUP(C347,Kode!A2:E1008,5,FALSE)","v":{"$error":"#N/A"}},null,null,null,null,null,{"$error":"#DIV/0!"}]
[{"$f":"VLOOKUP(C348,Kode!A2:C1008,2,FALSE)","v":{"$error":"#N/A"}},{"$f":"VLOOKUP(C348,Kode!A2:C1008,3,FALSE)","v":{"$error":"#N/A"}},null,{"$f":"VLOOKUP(C348,Kode!A2:D1008,4,FALSE)","v":{"$error":"#N/A"}},null,null,null,null,null,null,null,null,null,{"$f":"VLOOKUP(C348,Kode!A2:E1008,5,FALSE)","v":{"$error":"#N/A"}},null,null,null,null,null,{"$error":"#DIV/0!"}]
[{"$f":"VLOOKUP(C349,Kode!A2:C1008,2,FALSE)","v":{"$error":"#N/A"}},{"$f":"VLOOKUP(C349,Kode!A2:C1008,3,FALSE)","v":{"$error":"#N/A"}},null,{"$f":"VLOOKUP(C349,Kode!A2:D1008,4,FALSE)","v":{"$error":"#N/A"}},null,null,null,null,null,null,null,null,null,{"$f":"VLOOKUP(C349,Kode!A2:E1008,5,FALSE)","v":{"$error":"#N/A"}},null,null,null,null,null,{"$error":"#DIV/0!"}]
[{"$f":"VLOOKUP(C350,Kode!A2:C1008,2,FALSE)","v":{"$error":"#N/A"}},{"$f":"VLOOKUP(C350,Kode!A2:C1008,3,FALSE)","v":{"$error":"#N/A"}},null,{"$f":"VLOOKUP(C350,Kode!A2:D1008,4,FALSE)","v":{"$error":"#N/A"}},null,null,null,null,null,null,null,null,null,{"$f":"VLOOKUP(C350,Kode!A2:E1008,5,FALSE)","v":{"$error":"#N/A"}},null,null,null,null,null,{"$error":"#DIV/0!"}]
[{"$f":"VLOOKUP(C351,Kode!A2:C1008,2,FALSE)","v":{"$error":"#N/A"}},{"$f":"VLOOKUP(C351,Kode!A2:C1008,3,FALSE)","v":{"$error":"#N/A"}},null,{"$f":"VLOOKUP(C351,Kode!A2:D1008,4,FALSE)","v":{"$error":"#N/A"}},null,null,null,null,null,null,null,null,null,{"$f":"VLOOKUP(C351,Kode!A2:E1008,5,FALSE)","v":{"$error":"#N/A"}},null,null,null,null,null,{"$error":"#DIV/0!"}]
[{"$f":"VLOOKUP(C352,Kode!A2:C1008,2,FALSE)","v":{"$error":"#N/A"}},{"$f":"VLOOKUP(C352,Kode!A2:C1008,3,FALSE)","v":{"$error":"#N/A"}},null,{"$f":"VLOOKUP(C352,Kode!A2:D1008,4,FALSE)","v":{"$error":"#N/A"}},null,null,null,null,null,null,null,null,null,{"$f":"VLOOKUP(C352,Kode!A2:E1008,5,FALSE)","v":{"$error":"#N/A"}},null,null,null,null,null,{"$error":"#DIV/0!"}]
[{"$f":"VLOOKUP(C353,Kode!A2:C1008,2,FALSE)","v":{"$error":"#N/A"}},{"$f":"VLOOKUP(C353,Kode!A2:C1008,3,FALSE)","v":{"$error":"#N/A"}},null,{"$f":"VLOOKUP(C353,Kode!A2:D1008,4,FALSE)","v":{"$error":"#N/A"}},null,null,null,null,null,null,null,null,null,{"$f":"VLOOKUP(C353,Kode!A2:E1008,5,FALSE)","v":{"$error":"#N/A"}},null,null,null,null,null,{"$error":"#DIV/0!"}]
[{"$f":"VLOOKUP(C354,Kode!A2:C1008,2,FALSE)","v":{"$error":"#N/A"}},{"$f":"VLOOKUP(C354,Kode!A2:C1008,3,FALSE)","v":{"$error":"#N/A"}},null,{"$f":"VLOOKUP(C354,Kode!A2:D1008,4,FALSE)","v":{"$error":"#N/A"}},null,null,null,null,null,null,null,null,null,{"$f":"VLOOKUP(C354,Kode!A2:E1008,5,FALSE)","v":{"$error":"#N/A"}},null,null,null,null,null,{"$error":"#DIV/0!"}]
[{"$f":"VLOOKUP(C355,Kode!A2:C1008,2,FALSE)","v":{"$error":"#N/A"}},{"$f":"VLOOKUP(C355,Kode!A2:C1008,3,FALSE)","v":{"$error":"#N/A"}},null,{"$f":"VLOOKUP(C355,Kode!A2:D1008,4,FALSE)","v":{"$error":"#N/A"}},null,null,null,null,null,null,null,null,null,{"$f":"VLOOKUP(C355,Kode!A2:E1008,5,FALSE)","v":{"$error":"#N/A"}},null,null,null,null,null,{"$error":"#DIV/0!"}]
[{"$f":"VLOOKUP(C356,Kode!A2:C1008,2,FALSE)","v":{"$error":"#N/A"}},{"$f":"VLOOKUP(C356,Kode!A2:C1008,3,FALSE)","v":{"$error":"#N/A"}},null,{"$f":"VLOOKUP(C356,Kode!A2:D1008,4,FALSE)","v":{"$error":"#N/A"}},null,null,null,null,null,null,null,null,null,{"$f":"VLOOKUP(C356,Kode!A2:E1008,5,FALSE)","v":{"$error":"#N/A"}},null,null,null,null,null,{"$error":"#DIV/0!"}]
[{"$f":"VLOOKUP(C357,Kode!A2:C1008,2,FALSE)","v":{"$error":"#N/A"}},{"$f":"VLOOKUP(C357,Kode!A2:C1008,3,FALSE)","v":{"$error":"#N/A"}},null,{"$f":"VLOOKUP(C357,Kode!A2:D1008,4,FALSE)","v":{"$error":"#N/A"}},null,null,null,null,null,null,null,null,null,{"$f":"VLOOKUP(C357,Kode!A2:E1008,5,FALSE)","v":{"$error":"#N/A"}},null,null,null,null,null,{"$error":"#DIV/0!"}]
[{"$f":"VLOOKUP(C358,Kode!A2:C1008,2,FALSE)","v":{"$error":"#N/A"}},{"$f":"VLOOKUP(C358,Kode!A2:C1008,3,FALSE)","v":{"$error":"#N/A"}},null,{"$f":"VLOOKUP(C358,Kode!A2:D1008,4,FALSE)","v":{"$error":"#N/A"}},null,null,null,null,null,null,null,null,null,{"$f":"VLOOKUP(C358,Kode!A2:E1008,5,FALSE)","v":{"$error":"#N/A"}},null,null,null,null,null,{"$error":"#DIV/0!"}]
[{"$f":"VLOOKUP(C359,Kode!A2:C1008,2,FALSE)","v":{"$error":"#N/A"}},{"$f":"VLOOKUP(C359,Kode!A2:C1008,3,FALSE)","v":{"$error":"#N/A"}},null,{"$f":"VLOOKUP(C359,Kode!A2:D1008,4,FALSE)","v":{"$error":"#N/A"}},null,null,null,null,null,null,null,null,null,{"$f":"VLOOKUP(C359,Kode!A2:E1008,5,FALSE)","v":{"$error":"#N/A"}},null,null,null,null,null,{"$error":"#DIV/0!"}]
[{"$f":"VLOOKUP(C360,Kode!A2:C1008,2,FALSE)","v":{"$error":"#N/A"}},{"$f":"VLOOKUP(C360,Kode!A2:C1008,3,FALSE)","v":{"$error":"#N/A"}},null,{"$f":"VLOOKUP(C360,Kode!A2:D1008,4,FALSE)","v":{"$error":"#N/A"}},null,null,null,null,null,null,null,null,null,{"$f":"VLOOKUP(C360,Kode!A2:E1008,5,FALSE)","v":{"$error":"#N/A"}},null,null,null,null,null,{"$error":"#DIV/0!"}]
[{"$f":"VLOOKUP(C361,Kode!A2:C1008,2,FALSE)","v":{"$error":"#N/A"}},{"$f":"VLOOKUP(C361,Kode!A2:C1008,3,FALSE)","v":{"$error":"#N/A"}},null,{"$f":"VLOOKUP(C361,Kode!A2:D1008,4,FALSE)","v":{"$error":"#N/A"}},null,null,null,null,null,null,null,null,null,{"$f":"VLOOKUP(C361,Kode!A2:E1008,5,FALSE)","v":{"$error":"#N/A"}},null,null,null,null,null,{"$error":"#DIV/0!"}]
[{"$f":"VLOOKUP(C362,Kode!A2:C1008,2,FALSE)","v":{"$error":"#N/A"}},{"$f":"VLOOKUP(C362,Kode!A2:C1008,3,FALSE)","v":{"$error":"#N/A"}},null,{"$f":"VLOOKUP(C362,Kode!A2:D1008,4,FALSE)","v":{"$error":"#N/A"}},null,null,null,null,null,null,null,null,null,{"$f":"VLOOKUP(C362,Kode!A2:E1008,5,FALSE)","v":{"$error":"#N/A"}},null,null,null,null,null,{"$error":"#DIV/0!"}]
[{"$f":"VLOOKUP(C363,Kode!A2:C1008,2,FALSE)","v":{"$error":"#N/A"}},{"$f":"VLOOKUP(C363,Kode!A2:C1008,3,FALSE)","v":{"$error":"#N/A"}},null,{"$f":"VLOOKUP(C363,Kode!A2:D1008,4,FALSE)","v":{"$error":"#N/A"}},null,null,null,null,null,null,null,null,null,{"$f":"VLOOKUP(C363,Kode!A2:E1008,5,FALSE)","v":{"$error":"#N/A"}},null,null,null,null,null,{"$error":"#DIV/0!"}]
[{"$f":"VLOOKUP(C364,Kode!A2:C1008,2,FALSE)","v":{"$error":"#N/A"}},{"$f":"VLOOKUP(C364,Kode!A2:C1008,3,FALSE)","v":{"$error":"#N/A"}},null,{"$f":"VLOOKUP(C364,Kode!A2:D1008,4,FALSE)","v":{"$error":"#N/A"}},null,null,null,null,null,null,null,null,null,{"$f":"VLOOKUP(C364,Kode!A2:E1008,5,FALSE)","v":{"$error":"#N/A"}},null,null,null,null,null,{"$error":"#DIV/0!"}]
[{"$f":"VLOOKUP(C365,Kode!A2:C1008,2,FALSE)","v":{"$error":"#N/A"}},{"$f":"VLOOKUP(C365,Kode!A2:C1008,3,FALSE)","v":{"$error":"#N/A"}},null,{"$f":"VLOOKUP(C365,Kode!A2:D1008,4,FALSE)","v":{"$error":"#N/A"}},null,null,null,null,null,null,null,null,null,{"$f":"VLOOKUP(C365,Kode!A2:E1008,5,FALSE)","v":{"$error":"#N/A"}},null,null,null,null,null,{"$error":"#DIV/0!"}]
[{"$f":"VLOOKUP(C366,Kode!A2:C1008,2,FALSE)","v":{"$error":"#N/A"}},{"$f":"VLOOKUP(C366,Kode!A2:C1008,3,FALSE)","v":{"$error":"#N/A"}},null,{"$f":"VLOOKUP(C366,Kode!A2:D1008,4,FALSE)","v":{"$error":"#N/A"}},null,null,null,null,null,null,null,null,null,{"$f":"VLOOKUP(C366,Kode!A2:E1008,5,FALSE)","v":{"$error":"#N/A"}},null,null,null,null,null,{"$error":"#DIV/0!"}]
[{"$f":"VLOOKUP(C367,Kode!A2:C1008,2,FALSE)","v":{"$error":"#N/A"}},{"$f":"VLOOKUP(C367,Kode!A2:C1008,3,FALSE)","v":{"$error":"#N/A"}},null,{"$f":"VLOOKUP(C367,Kode!A2:D1008,4,FALSE)","v":{"$error":"#N/A"}},null,null,null,null,null,null,null,null,null,{"$f":"VLOOKUP(C367,Kode!A2:E1008,5,FALSE)","v":{"$error":"#N/A"}},null,null,null,null,null,{"$error":"#DIV/0!"}]
[{"$f":"VLOOKUP(C368,Kode!A2:C1008,2,FALSE)","v":{"$error":"#N/A"}},{"$f":"VLOOKUP(C368,Kode!A2:C1008,3,FALSE)","v":{"$error":"#N/A"}},null,{"$f":"VLOOKUP(C368,Kode!A2:D1008,4,FALSE)","v":{"$error":"#N/A"}},null,null,null,null,null,null,null,null,null,{"$f":"VLOOKUP(C368,Kode!A2:E1008,5,FALSE)","v":{"$error":"#N/A"}},null,null,null,null,null,{"$error":"#DIV/0!"}]
[{"$f":"VLOOKUP(C369,Kode!A2:C1008,2,FALSE)","v":{"$error":"#N/A"}},{"$f":"VLOOKUP(C369,Kode!A2:C1008,3,FALSE)","v":{"$error":"#N/A"}},null,{"$f":"VLOOKUP(C369,Kode!A2:D1008,4,FALSE)","v":{"$error":"#N/A"}},null,null,null,null,null,null,null,null,null,{"$f":"VLOOKUP(C369,Kode!A2:E1008,5,FALSE)","v":{"$error":"#N/A"}},null,null,null,null,null,{"$error":"#DIV/0!"}]
[{"$f":"VLOOKUP(C370,Kode!A2:C1008,2,FALSE)","v":{"$error":"#N/A"}},{"$f":"VLOOKUP(C370,Kode!A2:C1008,3,FALSE)","v":{"$error":"#N/A"}},null,{"$f":"VLOOKUP(C370,Kode!A2:D1008,4,FALSE)","v":{"$error":"#N/A"}},null,null,null,null,null,null,null,null,null,{"$f":"VLOOKUP(C370,Kode!A2:E1008,5,FALSE)","v":{"$error":"#N/A"}},null,null,null,null,null,{"$error":"#DIV/0!"}]
[{"$f":"VLOOKUP(C371,Kode!A2:C1008,2,FALSE)","v":{"$error":"#N/A"}},{"$f":"VLOOKUP(C371,Kode!A2:C1008,3,FALSE)","v":{"$error":"#N/A"}},null,{"$f":"VLOOKUP(C371,Kode!A2:D1008,4,FALSE)","v":{"$error":"#N/A"}},null,null,null,null,null,null,null,null,null,{"$f":"VLOOKUP(C371,Kode!A2:E1008,5,FALSE)","v":{"$error":"#N/A"}},null,null,null,null,null,{"$error":"#DIV/0!"}]
[{"$f":"VLOOKUP(C372,Kode!A2:C1008,2,FALSE)","v":{"$error":"#N/A"}},{"$f":"VLOOKUP(C372,Kode!A2:C1008,3,FALSE)","v":{"$error":"#N/A"}},null,{"$f":"VLOOKUP(C372,Kode!A2:D1008,4,FALSE)","v":{"$error":"#N/A"}},null,null,null,null,null,null,null,null,null,{"$f":"VLOOKUP(C372,Kode!A2:E1008,5,FALSE)","v":{"$error":"#N/A"}},null,null,null,null,null,{"$error":"#DIV/0!"}]
[{"$f":"VLOOKUP(C373,Kode!A2:C1008,2,FALSE)","v":{"$error":"#N/A"}},{"$f":"VLOOKUP(C373,Kode!A2:C1008,3,FALSE)","v":{"$error":"#N/A"}},null,{"$f":"VLOOKUP(C373,Kode!A2:D1008,4,FALSE)","v":{"$error":"#N/A"}},null,null,null,null,null,null,null,null,null,{"$f":"VLOOKUP(C373,Kode!A2:E1008,5,FALSE)","v":{"$error":"#N/A"}},null,null,null,null,null,{"$error":"#DIV/0!"}]
[{"$f":"VLOOKUP(C374,Kode!A2:C1008,2,FALSE)","v":{"$error":"#N/A"}},{"$f":"VLOOKUP(C374,Kode!A2:C1008,3,FALSE)","v":{"$error":"#N/A"}},null,{"$f":"VLOOKUP(C374,Kode!A2:D1008,4,FALSE)","v":{"$error":"#N/A"}},null,null,null,null,null,null,null,null,null,{"$f":"VLOOKUP(C374,Kode!A2:E1008,5,FALSE)","v":{"$error":"#N/A"}},null,null,null,null,null,{"$error":"#DIV/0!"}]
[{"$f":"VLOOKUP(C375,Kode!A2:C1008,2,FALSE)","v":{"$error":"#N/A"}},{"$f":"VLOOKUP(C375,Kode!A2:C1008,3,FALSE)","v":{"$error":"#N/A"}},null,{"$f":"VLOOKUP(C375,Kode!A2:D1008,4,FALSE)","v":{"$error":"#N/A"}},null,null,null,null,null,null,null,null,null,{"$f":"VLOOKUP(C375,Kode!A2:E1008,5,FALSE)","v":{"$error":"#N/A"}},null,null,null,null,null,{"$error":"#DIV/0!"}]
[{"$f":"VLOOKUP(C376,Kode!A2:C1008,2,FALSE)","v":{"$error":"#N/A"}},{"$f":"VLOOKUP(C376,Kode!A2:C1008,3,FALSE)","v":{"$error":"#N/A"}},null,{"$f":"VLOOKUP(C376,Kode!A2:D1008,4,FALSE)","v":{"$error":"#N/A"}},null,null,null,null,null,null,null,null,null,{"$f":"VLOOKUP(C376,Kode!A2:E1008,5,FALSE)","v":{"$error":"#N/A"}},null,null,null,null,null,{"$error":"#DIV/0!"}]
[{"$f":"VLOOKUP(C377,Kode!A2:C1008,2,FALSE)","v":{"$error":"#N/A"}},{"$f":"VLOOKUP(C377,Kode!A2:C1008,3,FALSE)","v":{"$error":"#N/A"}},null,{"$f":"VLOOKUP(C377,Kode!A2:D1008,4,FALSE)","v":{"$error":"#N/A"}},null,null,null,null,null,null,null,null,null,{"$f":"VLOOKUP(C377,Kode!A2:E1008,5,FALSE)","v":{"$error":"#N/A"}},null,null,null,null,null,{"$error":"#DIV/0!"}]
[{"$f":"VLOOKUP(C378,Kode!A2:C1008,2,FALSE)","v":{"$error":"#N/A"}},{"$f":"VLOOKUP(C378,Kode!A2:C1008,3,FALSE)","v":{"$error":"#N/A"}},null,{"$f":"VLOOKUP(C378,Kode!A2:D1008,4,FALSE)","v":{"$error":"#N/A"}},null,null,null,null,null,null,null,null,null,{"$f":"VLOOKUP(C378,Kode!A2:E1008,5,FALSE)","v":{"$error":"#N/A"}},null,null,null,null,null,{"$error":"#DIV/0!"}]
[{"$f":"VLOOKUP(C379,Kode!A2:C1008,2,FALSE)","v":{"$error":"#N/A"}},{"$f":"VLOOKUP(C379,Kode!A2:C1008,3,FALSE)","v":{"$error":"#N/A"}},null,{"$f":"VLOOKUP(C379,Kode!A2:D1008,4,FALSE)","v":{"$error":"#N/A"}},null,null,null,null,null,null,null,null,null,{"$f":"VLOOKUP(C379,Kode!A2:E1008,5,FALSE)","v":{"$error":"#N/A"}},null,null,null,null,null,{"$error":"#DIV/0!"}]
[{"$f":"VLOOKUP(C380,Kode!A2:C1008,2,FALSE)","v":{"$error":"#N/A"}},{"$f":"VLOOKUP(C380,Kode!A2:C1008,3,FALSE)","v":{"$error":"#N/A"}},null,{"$f":"VLOOKUP(C380,Kode!A2:D1008,4,FALSE)","v":{"$error":"#N/A"}},null,null,null,null,null,null,null,null,null,{"$f":"VLOOKUP(C380,Kode!A2:E1008,5,FALSE)","v":{"$error":"#N/A"}},null,null,null,null,null,{"$error":"#DIV/0!"}]
[{"$f":"VLOOKUP(C381,Kode!A2:C1008,2,FALSE)","v":{"$error":"#N/A"}},{"$f":"VLOOKUP(C381,Kode!A2:C1008,3,FALSE)","v":{"$error":"#N/A"}},null,{"$f":"VLOOKUP(C381,Kode!A2:D1008,4,FALSE)","v":{"$error":"#N/A"}},null,null,null,null,null,null,null,null,null,{"$f":"VLOOKUP(C381,Kode!A2:E1008,5,FALSE)","v":{"$error":"#N/A"}},null,null,null,null,null,{"$error":"#DIV/0!"}]
[{"$f":"VLOOKUP(C382,Kode!A2:C1008,2,FALSE)","v":{"$error":"#N/A"}},{"$f":"VLOOKUP(C382,Kode!A2:C1008,3,FALSE)","v":{"$error":"#N/A"}},null,{"$f":"VLOOKUP(C382,Kode!A2:D1008,4,FALSE)","v":{"$error":"#N/A"}},null,null,null,null,null,null,null,null,null,{"$f":"VLOOKUP(C382,Kode!A2:E1008,5,FALSE)","v":{"$error":"#N/A"}},null,null,null,null,null,{"$error":"#DIV/0!"}]
[{"$f":"VLOOKUP(C383,Kode!A2:C1008,2,FALSE)","v":{"$error":"#N/A"}},{"$f":"VLOOKUP(C383,Kode!A2:C1008,3,FALSE)","v":{"$error":"#N/A"}},null,{"$f":"VLOOKUP(C383,Kode!A2:D1008,4,FALSE)","v":{"$error":"#N/A"}},null,null,null,null,null,null,null,null,null,{"$f":"VLOOKUP(C383,Kode!A2:E1008,5,FALSE)","v":{"$error":"#N/A"}},null,null,null,null,null,{"$error":"#DIV/0!"}]
[{"$f":"VLOOKUP(C384,Kode!A2:C1008,2,FALSE)","v":{"$error":"#N/A"}},{"$f":"VLOOKUP(C384,Kode!A2:C1008,3,FALSE)","v":{"$error":"#N/A"}},null,{"$f":"VLOOKUP(C384,Kode!A2:D1008,4,FALSE)","v":{"$error":"#N/A"}},null,null,null,null,null,null,null,null,null,{"$f":"VLOOKUP(C384,Kode!A2:E1008,5,FALSE)","v":{"$error":"#N/A"}},null,null,null,null,null,{"$error":"#DIV/0!"}]
[{"$f":"VLOOKUP(C385,Kode!A2:C1008,2,FALSE)","v":{"$error":"#N/A"}},{"$f":"VLOOKUP(C385,Kode!A2:C1008,3,FALSE)","v":{"$error":"#N/A"}},null,{"$f":"VLOOKUP(C385,Kode!A2:D1008,4,FALSE)","v":{"$error":"#N/A"}},null,null,null,null,null,null,null,null,null,{"$f":"VLOOKUP(C385,Kode!A2:E1008,5,FALSE)","v":{"$error":"#N/A"}},null,null,null,null,null,{"$error":"#DIV/0!"}]
[{"$f":"VLOOKUP(C386,Kode!A2:C1008,2,FALSE)","v":{"$error":"#N/A"}},{"$f":"VLOOKUP(C386,Kode!A2:C1008,3,FALSE)","v":{"$error":"#N/A"}},null,{"$f":"VLOOKUP(C386,Kode!A2:D1008,4,FALSE)","v":{"$error":"#N/A"}},null,null,null,null,null,null,null,null,null,{"$f":"VLOOKUP(C386,Kode!A2:E1008,5,FALSE)","v":{"$error":"#N/A"}},null,null,null,null,null,{"$f":"R386/P386*100","v":{"$error":"#DIV/0!"}}]
[{"$f":"VLOOKUP(C387,Kode!A2:C1008,2,FALSE)","v":{"$error":"#N/A"}},{"$f":"VLOOKUP(C387,Kode!A2:C1008,3,FALSE)","v":{"$error":"#N/A"}},null,{"$f":"VLOOKUP(C387,Kode!A2:D1008,4,FALSE)","v":{"$error":"#N/A"}},null,null,null,null,null,null,null,null,null,{"$f":"VLOOKUP(C387,Kode!A2:E1008,5,FALSE)","v":{"$error":"#N/A"}},null,null,null,null,null,{"$error":"#DIV/0!"}]
[{"$f":"VLOOKUP(C388,Kode!A2:C1008,2,FALSE)","v":{"$error":"#N/A"}},{"$f":"VLOOKUP(C388,Kode!A2:C1008,3,FALSE)","v":{"$error":"#N/A"}},null,{"$f":"VLOOKUP(C388,Kode!A2:D1008,4,FALSE)","v":{"$error":"#N/A"}},null,null,null,null,null,null,null,null,null,{"$f":"VLOOKUP(C388,Kode!A2:E1008,5,FALSE)","v":{"$error":"#N/A"}},null,null,null,null,null,{"$error":"#DIV/0!"}]
[{"$f":"VLOOKUP(C389,Kode!A2:C1008,2,FALSE)","v":{"$error":"#N/A"}},{"$f":"VLOOKUP(C389,Kode!A2:C1008,3,FALSE)","v":{"$error":"#N/A"}},null,{"$f":"VLOOKUP(C389,Kode!A2:D1008,4,FALSE)","v":{"$error":"#N/A"}},null,null,null,null,null,null,null,null,null,{"$f":"VLOOKUP(C389,Kode!A2:E1008,5,FALSE)","v":{"$error":"#N/A"}},null,null,null,null,null,{"$error":"#DIV/0!"}]
[{"$f":"VLOOKUP(C390,Kode!A2:C1008,2,FALSE)","v":{"$error":"#N/A"}},{"$f":"VLOOKUP(C390,Kode!A2:C1008,3,FALSE)","v":{"$error":"#N/A"}},null,{"$f":"VLOOKUP(C390,Kode!A2:D1008,4,FALSE)","v":{"$error":"#N/A"}},null,null,null,null,null,null,null,null,null,{"$f":"VLOOKUP(C390,Kode!A2:E1008,5,FALSE)","v":{"$error":"#N/A"}},null,null,null,null,null,{"$error":"#DIV/0!"}]
[{"$f":"VLOOKUP(C391,Kode!A2:C1008,2,FALSE)","v":{"$error":"#N/A"}},{"$f":"VLOOKUP(C391,Kode!A2:C1008,3,FALSE)","v":{"$error":"#N/A"}},null,{"$f":"VLOOKUP(C391,Kode!A2:D1008,4,FALSE)","v":{"$error":"#N/A"}},null,null,null,null,null,null,null,null,null,{"$f":"VLOOKUP(C391,Kode!A2:E1008,5,FALSE)","v":{"$error":"#N/A"}},null,null,null,null,null,{"$error":"#DIV/0!"}]
[{"$f":"VLOOKUP(C392,Kode!A2:C1008,2,FALSE)","v":{"$error":"#N/A"}},{"$f":"VLOOKUP(C392,Kode!A2:C1008,3,FALSE)","v":{"$error":"#N/A"}},null,{"$f":"VLOOKUP(C392,Kode!A2:D1008,4,FALSE)","v":{"$error":"#N/A"}},null,null,null,null,null,null,null,null,null,{"$f":"VLOOKUP(C392,Kode!A2:E1008,5,FALSE)","v":{"$error":"#N/A"}},null,null,null,null,null,{"$error":"#DIV/0!"}]
[{"$f":"VLOOKUP(C393,Kode!A2:C1008,2,FALSE)","v":{"$error":"#N/A"}},{"$f":"VLOOKUP(C393,Kode!A2:C1008,3,FALSE)","v":{"$error":"#N/A"}},null,{"$f":"VLOOKUP(C393,Kode!A2:D1008,4,FALSE)","v":{"$error":"#N/A"}},null,null,null,null,null,null,null,null,null,{"$f":"VLOOKUP(C393,Kode!A2:E1008,5,FALSE)","v":{"$error":"#N/A"}},null,null,null,null,null,{"$error":"#DIV/0!"}]
[{"$f":"VLOOKUP(C394,Kode!A2:C1008,2,FALSE)","v":{"$error":"#N/A"}},{"$f":"VLOOKUP(C394,Kode!A2:C1008,3,FALSE)","v":{"$error":"#N/A"}},null,{"$f":"VLOOKUP(C394,Kode!A2:D1008,4,FALSE)","v":{"$error":"#N/A"}},null,null,null,null,null,null,null,null,null,{"$f":"VLOOKUP(C394,Kode!A2:E1008,5,FALSE)","v":{"$error":"#N/A"}},null,null,null,null,null,{"$error":"#DIV/0!"}]
[{"$f":"VLOOKUP(C395,Kode!A2:C1008,2,FALSE)","v":{"$error":"#N/A"}},{"$f":"VLOOKUP(C395,Kode!A2:C1008,3,FALSE)","v":{"$error":"#N/A"}},null,{"$f":"VLOOKUP(C395,Kode!A2:D1008,4,FALSE)","v":{"$error":"#N/A"}},null,null,null,null,null,null,null,null,null,{"$f":"VLOOKUP(C395,Kode!A2:E1008,5,FALSE)","v":{"$error":"#N/A"}},null,null,null,null,null,{"$error":"#DIV/0!"}]
[{"$f":"VLOOKUP(C396,Kode!A2:C1008,2,FALSE)","v":{"$error":"#N/A"}},{"$f":"VLOOKUP(C396,Kode!A2:C1008,3,FALSE)","v":{"$error":"#N/A"}},null,{"$f":"VLOOKUP(C396,Kode!A2:D1008,4,FALSE)","v":{"$error":"#N/A"}},null,null,null,null,null,null,null,null,null,{"$f":"VLOOKUP(C396,Kode!A2:E1008,5,FALSE)","v":{"$error":"#N/A"}},null,null,null,null,null,{"$error":"#DIV/0!"}]
[{"$f":"VLOOKUP(C397,Kode!A2:C1008,2,FALSE)","v":{"$error":"#N/A"}},{"$f":"VLOOKUP(C397,Kode!A2:C1008,3,FALSE)","v":{"$error":"#N/A"}},null,{"$f":"VLOOKUP(C397,Kode!A2:D1008,4,FALSE)","v":{"$error":"#N/A"}},null,null,null,null,null,null,null,null,null,{"$f":"VLOOKUP(C397,Kode!A2:E1008,5,FALSE)","v":{"$error":"#N/A"}},null,null,null,null,null,{"$error":"#DIV/0!"}]
[{"$f":"VLOOKUP(C398,Kode!A2:C1008,2,FALSE)","v":{"$error":"#N/A"}},{"$f":"VLOOKUP(C398,Kode!A2:C1008,3,FALSE)","v":{"$error":"#N/A"}},null,{"$f":"VLOOKUP(C398,Kode!A2:D1008,4,FALSE)","v":{"$error":"#N/A"}},null,null,null,null,null,null,null,null,null,{"$f":"VLOOKUP(C398,Kode!A2:E1008,5,FALSE)","v":{"$error":"#N/A"}},null,null,null,null,null,{"$error":"#DIV/0!"}]
[{"$f":"VLOOKUP(C399,Kode!A2:C1008,2,FALSE)","v":{"$error":"#N/A"}},{"$f":"VLOOKUP(C399,Kode!A2:C1008,3,FALSE)","v":{"$error":"#N/A"}},null,{"$f":"VLOOKUP(C399,Kode!A2:D1008,4,FALSE)","v":{"$error":"#N/A"}},null,null,null,null,null,null,null,null,null,{"$f":"VLOOKUP(C399,Kode!A2:E1008,5,FALSE)","v":{"$error":"#N/A"}},null,null,null,null,null,{"$error":"#DIV/0!"}]
[{"$f":"VLOOKUP(C400,Kode!A2:C1008,2,FALSE)","v":{"$error":"#N/A"}},{"$f":"VLOOKUP(C400,Kode!A2:C1008,3,FALSE)","v":{"$error":"#N/A"}},null,{"$f":"VLOOKUP(C400,Kode!A2:D1008,4,FALSE)","v":{"$error":"#N/A"}},null,null,null,null,null,null,null,null,null,{"$f":"VLOOKUP(C400,Kode!A2:E1008,5,FALSE)","v":{"$error":"#N/A"}},null,null,null,null,null,{"$error":"#DIV/0!"}]
[{"$f":"VLOOKUP(C401,Kode!A2:C1008,2,FALSE)","v":{"$error":"#N/A"}},{"$f":"VLOOKUP(C401,Kode!A2:C1008,3,FALSE)","v":{"$error":"#N/A"}},null,{"$f":"VLOOKUP(C401,Kode!A2:D1008,4,FALSE)","v":{"$error":"#N/A"}},null,null,null,null,null,null,null,null,null,{"$f":"VLOOKUP(C401,Kode!A2:E1008,5,FALSE)","v":{"$error":"#N/A"}},null,null,null,null,null,{"$error":"#DIV/0!"}]
[{"$f":"VLOOKUP(C402,Kode!A2:C1008,2,FALSE)","v":{"$error":"#N/A"}},{"$f":"VLOOKUP(C402,Kode!A2:C1008,3,FALSE)","v":{"$error":"#N/A"}},null,{"$f":"VLOOKUP(C402,Kode!A2:D1008,4,FALSE)","v":{"$error":"#N/A"}},null,null,null,null,null,null,null,null,null,{"$f":"VLOOKUP(C402,Kode!A2:E1008,5,FALSE)","v":{"$error":"#N/A"}},null,null,null,null,null,{"$error":"#DIV/0!"}]
[{"$f":"VLOOKUP(C403,Kode!A2:C1008,2,FALSE)","v":{"$error":"#N/A"}},{"$f":"VLOOKUP(C403,Kode!A2:C1008,3,FALSE)","v":{"$error":"#N/A"}},null,{"$f":"VLOOKUP(C403,Kode!A2:D1008,4,FALSE)","v":{"$error":"#N/A"}},null,null,null,null,null,null,null,null,null,{"$f":"VLOOKUP(C403,Kode!A2:E1008,5,FALSE)","v":{"$error":"#N/A"}},null,null,null,null,null,{"$error":"#DIV/0!"}]
[{"$f":"VLOOKUP(C404,Kode!A2:C1008,2,FALSE)","v":{"$error":"#N/A"}},{"$f":"VLOOKUP(C404,Kode!A2:C1008,3,FALSE)","v":{"$error":"#N/A"}},null,{"$f":"VLOOKUP(C404,Kode!A2:D1008,4,FALSE)","v":{"$error":"#N/A"}},null,null,null,null,null,null,null,null,null,{"$f":"VLOOKUP(C404,Kode!A2:E1008,5,FALSE)","v":{"$error":"#N/A"}},null,null,null,null,null,{"$error":"#DIV/0!"}]
[{"$f":"VLOOKUP(C405,Kode!A2:C1008,2,FALSE)","v":{"$error":"#N/A"}},{"$f":"VLOOKUP(C405,Kode!A2:C1008,3,FALSE)","v":{"$error":"#N/A"}},null,{"$f":"VLOOKUP(C405,Kode!A2:D1008,4,FALSE)","v":{"$error":"#N/A"}},null,null,null,null,null,null,null,null,null,{"$f":"VLOOKUP(C405,Kode!A2:E1008,5,FALSE)","v":{"$error":"#N/A"}},null,null,null,null,null,{"$error":"#DIV/0!"}]
[{"$f":"VLOOKUP(C406,Kode!A2:C1008,2,FALSE)","v":{"$error":"#N/A"}},{"$f":"VLOOKUP(C406,Kode!A2:C1008,3,FALSE)","v":{"$error":"#N/A"}},null,{"$f":"VLOOKUP(C406,Kode!A2:D1008,4,FALSE)","v":{"$error":"#N/A"}},null,null,null,null,null,null,null,null,null,{"$f":"VLOOKUP(C406,Kode!A2:E1008,5,FALSE)","v":{"$error":"#N/A"}},null,null,null,null,null,{"$error":"#DIV/0!"}]
[{"$f":"VLOOKUP(C407,Kode!A2:C1008,2,FALSE)","v":{"$error":"#N/A"}},{"$f":"VLOOKUP(C407,Kode!A2:C1008,3,FALSE)","v":{"$error":"#N/A"}},null,{"$f":"VLOOKUP(C407,Kode!A2:D1008,4,FALSE)","v":{"$error":"#N/A"}},null,null,null,null,null,null,null,null,null,{"$f":"VLOOKUP(C407,Kode!A2:E1008,5,FALSE)","v":{"$error":"#N/A"}},null,null,null,null,null,{"$error":"#DIV/0!"}]
[{"$f":"VLOOKUP(C408,Kode!A2:C1008,2,FALSE)","v":{"$error":"#N/A"}},{"$f":"VLOOKUP(C408,Kode!A2:C1008,3,FALSE)","v":{"$error":"#N/A"}},null,{"$f":"VLOOKUP(C408,Kode!A2:D1008,4,FALSE)","v":{"$error":"#N/A"}},null,null,null,null,null,null,null,null,null,{"$f":"VLOOKUP(C408,Kode!A2:E1008,5,FALSE)","v":{"$error":"#N/A"}},null,null,null,null,null,{"$error":"#DIV/0!"}]
[{"$f":"VLOOKUP(C409,Kode!A2:C1008,2,FALSE)","v":{"$error":"#N/A"}},{"$f":"VLOOKUP(C409,Kode!A2:C1008,3,FALSE)","v":{"$error":"#N/A"}},null,{"$f":"VLOOKUP(C409,Kode!A2:D1008,4,FALSE)","v":{"$error":"#N/A"}},null,null,null,null,null,null,null,null,null,{"$f":"VLOOKUP(C409,Kode!A2:E1008,5,FALSE)","v":{"$error":"#N/A"}},null,null,null,null,null,{"$error":"#DIV/0!"}]
[{"$f":"VLOOKUP(C410,Kode!A2:C1008,2,FALSE)","v":{"$error":"#N/A"}},{"$f":"VLOOKUP(C410,Kode!A2:C1008,3,FALSE)","v":{"$error":"#N/A"}},null,{"$f":"VLOOKUP(C410,Kode!A2:D1008,4,FALSE)","v":{"$error":"#N/A"}},null,null,null,null,null,null,null,null,null,{"$f":"VLOOKUP(C410,Kode!A2:E1008,5,FALSE)","v":{"$error":"#N/A"}},null,null,null,null,null,{"$error":"#DIV/0!"}]
[{"$f":"VLOOKUP(C411,Kode!A2:C1008,2,FALSE)","v":{"$error":"#N/A"}},{"$f":"VLOOKUP(C411,Kode!A2:C1008,3,FALSE)","v":{"$error":"#N/A"}},null,{"$f":"VLOOKUP(C411,Kode!A2:D1008,4,FALSE)","v":{"$error":"#N/A"}},null,null,null,null,null,null,null,null,null,{"$f":"VLOOKUP(C411,Kode!A2:E1008,5,FALSE)","v":{"$error":"#N/A"}},null,null,null,null,null,{"$error":"#DIV/0!"}]
[{"$f":"VLOOKUP(C412,Kode!A2:C1008,2,FALSE)","v":{"$error":"#N/A"}},{"$f":"VLOOKUP(C412,Kode!A2:C1008,3,FALSE)","v":{"$error":"#N/A"}},null,{"$f":"VLOOKUP(C412,Kode!A2:D1008,4,FALSE)","v":{"$error":"#N/A"}},null,null,null,null,null,null,null,null,null,{"$f":"VLOOKUP(C412,Kode!A2:E1008,5,FALSE)","v":{"$error":"#N/A"}},null,null,null,null,null,{"$error":"#DIV/0!"}]
[{"$f":"VLOOKUP(C413,Kode!A2:C1008,2,FALSE)","v":{"$error":"#N/A"}},{"$f":"VLOOKUP(C413,Kode!A2:C1008,3,FALSE)","v":{"$error":"#N/A"}},null,{"$f":"VLOOKUP(C413,Kode!A2:D1008,4,FALSE)","v":{"$error":"#N/A"}},null,null,null,null,null,null,null,null,null,{"$f":"VLOOKUP(C413,Kode!A2:E1008,5,FALSE)","v":{"$error":"#N/A"}},null,null,null,null,null,{"$error":"#DIV/0!"}]
[{"$f":"VLOOKUP(C414,Kode!A2:C1008,2,FALSE)","v":{"$error":"#N/A"}},{"$f":"VLOOKUP(C414,Kode!A2:C1008,3,FALSE)","v":{"$error":"#N/A"}},null,{"$f":"VLOOKUP(C414,Kode!A2:D1008,4,FALSE)","v":{"$error":"#N/A"}},null,null,null,null,null,null,null,null,null,{"$f":"VLOOKUP(C414,Kode!A2:E1008,5,FALSE)","v":{"$error":"#N/A"}},null,null,null,null,null,{"$error":"#DIV/0!"}]
[{"$f":"VLOOKUP(C415,Kode!A2:C1008,2,FALSE)","v":{"$error":"#N/A"}},{"$f":"VLOOKUP(C415,Kode!A2:C1008,3,FALSE)","v":{"$error":"#N/A"}},null,{"$f":"VLOOKUP(C415,Kode!A2:D1008,4,FALSE)","v":{"$error":"#N/A"}},null,null,null,null,null,null,null,null,null,{"$f":"VLOOKUP(C415,Kode!A2:E1008,5,FALSE)","v":{"$error":"#N/A"}},null,null,null,null,null,{"$error":"#DIV/0!"}]
[{"$f":"VLOOKUP(C416,Kode!A2:C1008,2,FALSE)","v":{"$error":"#N/A"}},{"$f":"VLOOKUP(C416,Kode!A2:C1008,3,FALSE)","v":{"$error":"#N/A"}},null,{"$f":"VLOOKUP(C416,Kode!A2:D1008,4,FALSE)","v":{"$error":"#N/A"}},null,null,null,null,null,null,null,null,null,{"$f":"VLOOKUP(C416,Kode!A2:E1008,5,FALSE)","v":{"$error":"#N/A"}},null,null,null,null,null,{"$error":"#DIV/0!"}]
[{"$f":"VLOOKUP(C417,Kode!A2:C1008,2,FALSE)","v":{"$error":"#N/A"}},{"$f":"VLOOKUP(C417,Kode!A2:C1008,3,FALSE)","v":{"$error":"#N/A"}},null,{"$f":"VLOOKUP(C417,Kode!A2:D1008,4,FALSE)","v":{"$error":"#N/A"}},null,null,null,null,null,null,null,null,null,{"$f":"VLOOKUP(C417,Kode!A2:E1008,5,FALSE)","v":{"$error":"#N/A"}},null,null,null,null,null,{"$error":"#DIV/0!"}]
[{"$f":"VLOOKUP(C418,Kode!A2:C1008,2,FALSE)","v":{"$error":"#N/A"}},{"$f":"VLOOKUP(C418,Kode!A2:C1008,3,FALSE)","v":{"$error":"#N/A"}},null,{"$f":"VLOOKUP(C418,Kode!A2:D1008,4,FALSE)","v":{"$error":"#N/A"}},null,null,null,null,null,null,null,null,null,{"$f":"VLOOKUP(C418,Kode!A2:E1008,5,FALSE)","v":{"$error":"#N/A"}},null,null,null,null,null,{"$error":"#DIV/0!"}]
[{"$f":"VLOOKUP(C419,Kode!A2:C1008,2,FALSE)","v":{"$error":"#N/A"}},{"$f":"VLOOKUP(C419,Kode!A2:C1008,3,FALSE)","v":{"$error":"#N/A"}},null,{"$f":"VLOOKUP(C419,Kode!A2:D1008,4,FALSE)","v":{"$error":"#N/A"}},null,null,null,null,null,null,null,null,null,{"$f":"VLOOKUP(C419,Kode!A2:E1008,5,FALSE)","v":{"$error":"#N/A"}},null,null,null,null,null,{"$error":"#DIV/0!"}]
[{"$f":"VLOOKUP(C420,Kode!A2:C1008,2,FALSE)","v":{"$error":"#N/A"}},{"$f":"VLOOKUP(C420,Kode!A2:C1008,3,FALSE)","v":{"$error":"#N/A"}},null,{"$f":"VLOOKUP(C420,Kode!A2:D1008,4,FALSE)","v":{"$error":"#N/A"}},null,null,null,null,null,null,null,null,null,{"$f":"VLOOKUP(C420,Kode!A2:E1008,5,FALSE)","v":{"$error":"#N/A"}},null,null,null,null,null,{"$error":"#DIV/0!"}]
[{"$f":"VLOOKUP(C421,Kode!A2:C1008,2,FALSE)","v":{"$error":"#N/A"}},{"$f":"VLOOKUP(C421,Kode!A2:C1008,3,FALSE)","v":{"$error":"#N/A"}},null,{"$f":"VLOOKUP(C421,Kode!A2:D1008,4,FALSE)","v":{"$error":"#N/A"}},null,null,null,null,null,null,null,null,null,{"$f":"VLOOKUP(C421,Kode!A2:E1008,5,FALSE)","v":{"$error":"#N/A"}},null,null,null,null,null,{"$error":"#DIV/0!"}]
[{"$f":"VLOOKUP(C422,Kode!A2:C1008,2,FALSE)","v":{"$error":"#N/A"}},{"$f":"VLOOKUP(C422,Kode!A2:C1008,3,FALSE)","v":{"$error":"#N/A"}},null,{"$f":"VLOOKUP(C422,Kode!A2:D1008,4,FALSE)","v":{"$error":"#N/A"}},null,null,null,null,null,null,null,null,null,{"$f":"VLOOKUP(C422,Kode!A2:E1008,5,FALSE)","v":{"$error":"#N/A"}},null,null,null,null,null,{"$error":"#DIV/0!"}]
[{"$f":"VLOOKUP(C423,Kode!A2:C1008,2,FALSE)","v":{"$error":"#N/A"}},{"$f":"VLOOKUP(C423,Kode!A2:C1008,3,FALSE)","v":{"$error":"#N/A"}},null,{"$f":"VLOOKUP(C423,Kode!A2:D1008,4,FALSE)","v":{"$error":"#N/A"}},null,null,null,null,null,null,null,null,null,{"$f":"VLOOKUP(C423,Kode!A2:E1008,5,FALSE)","v":{"$error":"#N/A"}},null,null,null,null,null,{"$error":"#DIV/0!"}]
[{"$f":"VLOOKUP(C424,Kode!A2:C1008,2,FALSE)","v":{"$error":"#N/A"}},{"$f":"VLOOKUP(C424,Kode!A2:C1008,3,FALSE)","v":{"$error":"#N/A"}},null,{"$f":"VLOOKUP(C424,Kode!A2:D1008,4,FALSE)","v":{"$error":"#N/A"}},null,null,null,null,null,null,null,null,null,{"$f":"VLOOKUP(C424,Kode!A2:E1008,5,FALSE)","v":{"$error":"#N/A"}},null,null,null,null,null,{"$error":"#DIV/0!"}]
[{"$f":"VLOOKUP(C425,Kode!A2:C1008,2,FALSE)","v":{"$error":"#N/A"}},{"$f":"VLOOKUP(C425,Kode!A2:C1008,3,FALSE)","v":{"$error":"#N/A"}},null,{"$f":"VLOOKUP(C425,Kode!A2:D1008,4,FALSE)","v":{"$error":"#N/A"}},null,null,null,null,null,null,null,null,null,{"$f":"VLOOKUP(C425,Kode!A2:E1008,5,FALSE)","v":{"$error":"#N/A"}},null,null,null,null,null,{"$error":"#DIV/0!"}]
[{"$f":"VLOOKUP(C426,Kode!A2:C1008,2,FALSE)","v":{"$error":"#N/A"}},{"$f":"VLOOKUP(C426,Kode!A2:C1008,3,FALSE)","v":{"$error":"#N/A"}},null,{"$f":"VLOOKUP(C426,Kode!A2:D1008,4,FALSE)","v":{"$error":"#N/A"}},null,null,null,null,null,null,null,null,null,{"$f":"VLOOKUP(C426,Kode!A2:E1008,5,FALSE)","v":{"$error":"#N/A"}},null,null,null,null,null,{"$error":"#DIV/0!"}]
[{"$f":"VLOOKUP(C427,Kode!A2:C1008,2,FALSE)","v":{"$error":"#N/A"}},{"$f":"VLOOKUP(C427,Kode!A2:C1008,3,FALSE)","v":{"$error":"#N/A"}},null,{"$f":"VLOOKUP(C427,Kode!A2:D1008,4,FALSE)","v":{"$error":"#N/A"}},null,null,null,null,null,null,null,null,null,{"$f":"VLOOKUP(C427,Kode!A2:E1008,5,FALSE)","v":{"$error":"#N/A"}},null,null,null,null,null,{"$error":"#DIV/0!"}]
[{"$f":"VLOOKUP(C428,Kode!A2:C1008,2,FALSE)","v":{"$error":"#N/A"}},{"$f":"VLOOKUP(C428,Kode!A2:C1008,3,FALSE)","v":{"$error":"#N/A"}},null,{"$f":"VLOOKUP(C428,Kode!A2:D1008,4,FALSE)","v":{"$error":"#N/A"}},null,null,null,null,null,null,null,null,null,{"$f":"VLOOKUP(C428,Kode!A2:E1008,5,FALSE)","v":{"$error":"#N/A"}},null,null,null,null,null,{"$error":"#DIV/0!"}]
[{"$f":"VLOOKUP(C429,Kode!A2:C1008,2,FALSE)","v":{"$error":"#N/A"}},{"$f":"VLOOKUP(C429,Kode!A2:C1008,3,FALSE)","v":{"$error":"#N/A"}},null,{"$f":"VLOOKUP(C429,Kode!A2:D1008,4,FALSE)","v":{"$error":"#N/A"}},null,null,null,null,null,null,null,null,null,{"$f":"VLOOKUP(C429,Kode!A2:E1008,5,FALSE)","v":{"$error":"#N/A"}},null,null,null,null,null,{"$error":"#DIV/0!"}]
[{"$f":"VLOOKUP(C430,Kode!A2:C1008,2,FALSE)","v":{"$error":"#N/A"}},{"$f":"VLOOKUP(C430,Kode!A2:C1008,3,FALSE)","v":{"$error":"#N/A"}},null,{"$f":"VLOOKUP(C430,Kode!A2:D1008,4,FALSE)","v":{"$error":"#N/A"}},null,null,null,null,null,null,null,null,null,{"$f":"VLOOKUP(C430,Kode!A2:E1008,5,FALSE)","v":{"$error":"#N/A"}},null,null,null,null,null,{"$error":"#DIV/0!"}]
[{"$f":"VLOOKUP(C431,Kode!A2:C1008,2,FALSE)","v":{"$error":"#N/A"}},{"$f":"VLOOKUP(C431,Kode!A2:C1008,3,FALSE)","v":{"$error":"#N/A"}},null,{"$f":"VLOOKUP(C431,Kode!A2:D1008,4,FALSE)","v":{"$error":"#N/A"}},null,null,null,null,null,null,null,null,null,{"$f":"VLOOKUP(C431,Kode!A2:E1008,5,FALSE)","v":{"$error":"#N/A"}},null,null,null,null,null,{"$error":"#DIV/0!"}]
[{"$f":"VLOOKUP(C432,Kode!A2:C1008,2,FALSE)","v":{"$error":"#N/A"}},{"$f":"VLOOKUP(C432,Kode!A2:C1008,3,FALSE)","v":{"$error":"#N/A"}},null,{"$f":"VLOOKUP(C432,Kode!A2:D1008,4,FALSE)","v":{"$error":"#N/A"}},null,null,null,null,null,null,null,null,null,{"$f":"VLOOKUP(C432,Kode!A2:E1008,5,FALSE)","v":{"$error":"#N/A"}},null,null,null,null,null,{"$error":"#DIV/0!"}]
[{"$f":"VLOOKUP(C433,Kode!A2:C1008,2,FALSE)","v":{"$error":"#N/A"}},{"$f":"VLOOKUP(C433,Kode!A2:C1008,3,FALSE)","v":{"$error":"#N/A"}},null,{"$f":"VLOOKUP(C433,Kode!A2:D1008,4,FALSE)","v":{"$error":"#N/A"}},null,null,null,null,null,null,null,null,null,{"$f":"VLOOKUP(C433,Kode!A2:E1008,5,FALSE)","v":{"$error":"#N/A"}},null,null,null,null,null,{"$error":"#DIV/0!"}]
[{"$f":"VLOOKUP(C434,Kode!A2:C1008,2,FALSE)","v":{"$error":"#N/A"}},{"$f":"VLOOKUP(C434,Kode!A2:C1008,3,FALSE)","v":{"$error":"#N/A"}},null,{"$f":"VLOOKUP(C434,Kode!A2:D1008,4,FALSE)","v":{"$error":"#N/A"}},null,null,null,null,null,null,null,null,null,{"$f":"VLOOKUP(C434,Kode!A2:E1008,5,FALSE)","v":{"$error":"#N/A"}},null,null,null,null,null,{"$error":"#DIV/0!"}]
[{"$f":"VLOOKUP(C435,Kode!A2:C1008,2,FALSE)","v":{"$error":"#N/A"}},{"$f":"VLOOKUP(C435,Kode!A2:C1008,3,FALSE)","v":{"$error":"#N/A"}},null,{"$f":"VLOOKUP(C435,Kode!A2:D1008,4,FALSE)","v":{"$error":"#N/A"}},null,null,null,null,null,null,null,null,null,{"$f":"VLOOKUP(C435,Kode!A2:E1008,5,FALSE)","v":{"$error":"#N/A"}},null,null,null,null,null,{"$error":"#DIV/0!"}]
[{"$f":"VLOOKUP(C436,Kode!A2:C1008,2,FALSE)","v":{"$error":"#N/A"}},{"$f":"VLOOKUP(C436,Kode!A2:C1008,3,FALSE)","v":{"$error":"#N/A"}},null,{"$f":"VLOOKUP(C436,Kode!A2:D1008,4,FALSE)","v":{"$error":"#N/A"}},null,null,null,null,null,null,null,null,null,{"$f":"VLOOKUP(C436,Kode!A2:E1008,5,FALSE)","v":{"$error":"#N/A"}},null,null,null,null,null,{"$error":"#DIV/0!"}]
[{"$f":"VLOOKUP(C437,Kode!A2:C1008,2,FALSE)","v":{"$error":"#N/A"}},{"$f":"VLOOKUP(C437,Kode!A2:C1008,3,FALSE)","v":{"$error":"#N/A"}},null,{"$f":"VLOOKUP(C437,Kode!A2:D1008,4,FALSE)","v":{"$error":"#N/A"}},null,null,null,null,null,null,null,null,null,{"$f":"VLOOKUP(C437,Kode!A2:E1008,5,FALSE)","v":{"$error":"#N/A"}},null,null,null,null,null,{"$error":"#DIV/0!"}]
[{"$f":"VLOOKUP(C438,Kode!A2:C1008,2,FALSE)","v":{"$error":"#N/A"}},{"$f":"VLOOKUP(C438,Kode!A2:C1008,3,FALSE)","v":{"$error":"#N/A"}},null,{"$f":"VLOOKUP(C438,Kode!A2:D1008,4,FALSE)","v":{"$error":"#N/A"}},null,null,null,null,null,null,null,null,null,{"$f":"VLOOKUP(C438,Kode!A2:E1008,5,FALSE)","v":{"$error":"#N/A"}},null,null,null,null,null,{"$error":"#DIV/0!"}]
[{"$f":"VLOOKUP(C439,Kode!A2:C1008,2,FALSE)","v":{"$error":"#N/A"}},{"$f":"VLOOKUP(C439,Kode!A2:C1008,3,FALSE)","v":{"$error":"#N/A"}},null,{"$f":"VLOOKUP(C439,Kode!A2:D1008,4,FALSE)","v":{"$error":"#N/A"}},null,null,null,null,null,null,null,null,null,{"$f":"VLOOKUP(C439,Kode!A2:E1008,5,FALSE)","v":{"$error":"#N/A"}},null,null,null,null,null,{"$error":"#DIV/0!"}]
[{"$f":"VLOOKUP(C440,Kode!A2:C1008,2,FALSE)","v":{"$error":"#N/A"}},{"$f":"VLOOKUP(C440,Kode!A2:C1008,3,FALSE)","v":{"$error":"#N/A"}},null,{"$f":"VLOOKUP(C440,Kode!A2:D1008,4,FALSE)","v":{"$error":"#N/A"}},null,null,null,null,null,null,null,null,null,{"$f":"VLOOKUP(C440,Kode!A2:E1008,5,FALSE)","v":{"$error":"#N/A"}},null,null,null,null,null,{"$error":"#DIV/0!"}]
[{"$f":"VLOOKUP(C441,Kode!A2:C1008,2,FALSE)","v":{"$error":"#N/A"}},{"$f":"VLOOKUP(C441,Kode!A2:C1008,3,FALSE)","v":{"$error":"#N/A"}},null,{"$f":"VLOOKUP(C441,Kode!A2:D1008,4,FALSE)","v":{"$error":"#N/A"}},null,null,null,null,null,null,null,null,null,{"$f":"VLOOKUP(C441,Kode!A2:E1008,5,FALSE)","v":{"$error":"#N/A"}},null,null,null,null,null,{"$error":"#DIV/0!"}]
[{"$f":"VLOOKUP(C442,Kode!A2:C1008,2,FALSE)","v":{"$error":"#N/A"}},{"$f":"VLOOKUP(C442,Kode!A2:C1008,3,FALSE)","v":{"$error":"#N/A"}},null,{"$f":"VLOOKUP(C442,Kode!A2:D1008,4,FALSE)","v":{"$error":"#N/A"}},null,null,null,null,null,null,null,null,null,{"$f":"VLOOKUP(C442,Kode!A2:E1008,5,FALSE)","v":{"$error":"#N/A"}},null,null,null,null,null,{"$error":"#DIV/0!"}]
[{"$f":"VLOOKUP(C443,Kode!A2:C1008,2,FALSE)","v":{"$error":"#N/A"}},{"$f":"VLOOKUP(C443,Kode!A2:C1008,3,FALSE)","v":{"$error":"#N/A"}},null,{"$f":"VLOOKUP(C443,Kode!A2:D1008,4,FALSE)","v":{"$error":"#N/A"}},null,null,null,null,null,null,null,null,null,{"$f":"VLOOKUP(C443,Kode!A2:E1008,5,FALSE)","v":{"$error":"#N/A"}},null,null,null,null,null,{"$error":"#DIV/0!"}]
[{"$f":"VLOOKUP(C444,Kode!A2:C1008,2,FALSE)","v":{"$error":"#N/A"}},{"$f":"VLOOKUP(C444,Kode!A2:C1008,3,FALSE)","v":{"$error":"#N/A"}},null,{"$f":"VLOOKUP(C444,Kode!A2:D1008,4,FALSE)","v":{"$error":"#N/A"}},null,null,null,null,null,null,null,null,null,{"$f":"VLOOKUP(C444,Kode!A2:E1008,5,FALSE)","v":{"$error":"#N/A"}},null,null,null,null,null,{"$error":"#DIV/0!"}]
[{"$f":"VLOOKUP(C445,Kode!A2:C1008,2,FALSE)","v":{"$error":"#N/A"}},{"$f":"VLOOKUP(C445,Kode!A2:C1008,3,FALSE)","v":{"$error":"#N/A"}},null,{"$f":"VLOOKUP(C445,Kode!A2:D1008,4,FALSE)","v":{"$error":"#N/A"}},null,null,null,null,null,null,null,null,null,{"$f":"VLOOKUP(C445,Kode!A2:E1008,5,FALSE)","v":{"$error":"#N/A"}},null,null,null,null,null,{"$error":"#DIV/0!"}]
[{"$f":"VLOOKUP(C446,Kode!A2:C1008,2,FALSE)","v":{"$error":"#N/A"}},{"$f":"VLOOKUP(C446,Kode!A2:C1008,3,FALSE)","v":{"$error":"#N/A"}},null,{"$f":"VLOOKUP(C446,Kode!A2:D1008,4,FALSE)","v":{"$error":"#N/A"}},null,null,null,null,null,null,null,null,null,{"$f":"VLOOKUP(C446,Kode!A2:E1008,5,FALSE)","v":{"$error":"#N/A"}},null,null,null,null,null,{"$error":"#DIV/0!"}]
[{"$f":"VLOOKUP(C447,Kode!A2:C1008,2,FALSE)","v":{"$error":"#N/A"}},{"$f":"VLOOKUP(C447,Kode!A2:C1008,3,FALSE)","v":{"$error":"#N/A"}},null,{"$f":"VLOOKUP(C447,Kode!A2:D1008,4,FALSE)","v":{"$error":"#N/A"}},null,null,null,null,null,null,null,null,null,{"$f":"VLOOKUP(C447,Kode!A2:E1008,5,FALSE)","v":{"$error":"#N/A"}},null,null,null,null,null,{"$error":"#DIV/0!"}]
[{"$f":"VLOOKUP(C448,Kode!A2:C1008,2,FALSE)","v":{"$error":"#N/A"}},{"$f":"VLOOKUP(C448,Kode!A2:C1008,3,FALSE)","v":{"$error":"#N/A"}},null,{"$f":"VLOOKUP(C448,Kode!A2:D1008,4,FALSE)","v":{"$error":"#N/A"}},null,null,null,null,null,null,null,null,null,{"$f":"VLOOKUP(C448,Kode!A2:E1008,5,FALSE)","v":{"$error":"#N/A"}},null,null,null,null,null,{"$error":"#DIV/0!"}]
[{"$f":"VLOOKUP(C449,Kode!A2:C1008,2,FALSE)","v":{"$error":"#N/A"}},{"$f":"VLOOKUP(C449,Kode!A2:C1008,3,FALSE)","v":{"$error":"#N/A"}},null,{"$f":"VLOOKUP(C449,Kode!A2:D1008,4,FALSE)","v":{"$error":"#N/A"}},null,null,null,null,null,null,null,null,null,{"$f":"VLOOKUP(C449,Kode!A2:E1008,5,FALSE)","v":{"$error":"#N/A"}},null,null,null,null,null,{"$error":"#DIV/0!"}]
[{"$f":"VLOOKUP(C450,Kode!A2:C1008,2,FALSE)","v":{"$error":"#N/A"}},{"$f":"VLOOKUP(C450,Kode!A2:C1008,3,FALSE)","v":{"$error":"#N/A"}},null,{"$f":"VLOOKUP(C450,Kode!A2:D1008,4,FALSE)","v":{"$error":"#N/A"}},null,null,null,null,null,null,null,null,null,{"$f":"VLOOKUP(C450,Kode!A2:E1008,5,FALSE)","v":{"$error":"#N/A"}},null,null,null,null,null,{"$f":"R450/P450*100","v":{"$error":"#DIV/0!"}}]
[{"$f":"VLOOKUP(C451,Kode!A2:C1008,2,FALSE)","v":{"$error":"#N/A"}},{"$f":"VLOOKUP(C451,Kode!A2:C1008,3,FALSE)","v":{"$error":"#N/A"}},null,{"$f":"VLOOKUP(C451,Kode!A2:D1008,4,FALSE)","v":{"$error":"#N/A"}},null,null,null,null,null,null,null,null,null,{"$f":"VLOOKUP(C451,Kode!A2:E1008,5,FALSE)","v":{"$error":"#N/A"}},null,null,null,null,null,{"$error":"#DIV/0!"}]
[{"$f":"VLOOKUP(C452,Kode!A2:C1008,2,FALSE)","v":{"$error":"#N/A"}},{"$f":"VLOOKUP(C452,Kode!A2:C1008,3,FALSE)","v":{"$error":"#N/A"}},null,{"$f":"VLOOKUP(C452,Kode!A2:D1008,4,FALSE)","v":{"$error":"#N/A"}},null,null,null,null,null,null,null,null,null,{"$f":"VLOOKUP(C452,Kode!A2:E1008,5,FALSE)","v":{"$error":"#N/A"}},null,null,null,null,null,{"$error":"#DIV/0!"}]
[{"$f":"VLOOKUP(C453,Kode!A2:C1008,2,FALSE)","v":{"$error":"#N/A"}},{"$f":"VLOOKUP(C453,Kode!A2:C1008,3,FALSE)","v":{"$error":"#N/A"}},null,{"$f":"VLOOKUP(C453,Kode!A2:D1008,4,FALSE)","v":{"$error":"#N/A"}},null,null,null,null,null,null,null,null,null,{"$f":"VLOOKUP(C453,Kode!A2:E1008,5,FALSE)","v":{"$error":"#N/A"}},null,null,null,null,null,{"$error":"#DIV/0!"}]
[{"$f":"VLOOKUP(C454,Kode!A2:C1008,2,FALSE)","v":{"$error":"#N/A"}},{"$f":"VLOOKUP(C454,Kode!A2:C1008,3,FALSE)","v":{"$error":"#N/A"}},null,{"$f":"VLOOKUP(C454,Kode!A2:D1008,4,FALSE)","v":{"$error":"#N/A"}},null,null,null,null,null,null,null,null,null,{"$f":"VLOOKUP(C454,Kode!A2:E1008,5,FALSE)","v":{"$error":"#N/A"}},null,null,null,null,null,{"$error":"#DIV/0!"}]
[{"$f":"VLOOKUP(C455,Kode!A2:C1008,2,FALSE)","v":{"$error":"#N/A"}},{"$f":"VLOOKUP(C455,Kode!A2:C1008,3,FALSE)","v":{"$error":"#N/A"}},null,{"$f":"VLOOKUP(C455,Kode!A2:D1008,4,FALSE)","v":{"$error":"#N/A"}},null,null,null,null,null,null,null,null,null,{"$f":"VLOOKUP(C455,Kode!A2:E1008,5,FALSE)","v":{"$error":"#N/A"}},null,null,null,null,null,{"$error":"#DIV/0!"}]
[{"$f":"VLOOKUP(C456,Kode!A2:C1008,2,FALSE)","v":{"$error":"#N/A"}},{"$f":"VLOOKUP(C456,Kode!A2:C1008,3,FALSE)","v":{"$error":"#N/A"}},null,{"$f":"VLOOKUP(C456,Kode!A2:D1008,4,FALSE)","v":{"$error":"#N/A"}},null,null,null,null,null,null,null,null,null,{"$f":"VLOOKUP(C456,Kode!A2:E1008,5,FALSE)","v":{"$error":"#N/A"}},null,null,null,null,null,{"$error":"#DIV/0!"}]
[{"$f":"VLOOKUP(C457,Kode!A2:C1008,2,FALSE)","v":{"$error":"#N/A"}},{"$f":"VLOOKUP(C457,Kode!A2:C1008,3,FALSE)","v":{"$error":"#N/A"}},null,{"$f":"VLOOKUP(C457,Kode!A2:D1008,4,FALSE)","v":{"$error":"#N/A"}},null,null,null,null,null,null,null,null,null,{"$f":"VLOOKUP(C457,Kode!A2:E1008,5,FALSE)","v":{"$error":"#N/A"}},null,null,null,null,null,{"$error":"#DIV/0!"}]
[{"$f":"VLOOKUP(C458,Kode!A2:C1008,2,FALSE)","v":{"$error":"#N/A"}},{"$f":"VLOOKUP(C458,Kode!A2:C1008,3,FALSE)","v":{"$error":"#N/A"}},null,{"$f":"VLOOKUP(C458,Kode!A2:D1008,4,FALSE)","v":{"$error":"#N/A"}},null,null,null,null,null,null,null,null,null,{"$f":"VLOOKUP(C458,Kode!A2:E1008,5,FALSE)","v":{"$error":"#N/A"}},null,null,null,null,null,{"$error":"#DIV/0!"}]
[{"$f":"VLOOKUP(C459,Kode!A2:C1008,2,FALSE)","v":{"$error":"#N/A"}},{"$f":"VLOOKUP(C459,Kode!A2:C1008,3,FALSE)","v":{"$error":"#N/A"}},null,{"$f":"VLOOKUP(C459,Kode!A2:D1008,4,FALSE)","v":{"$error":"#N/A"}},null,null,null,null,null,null,null,null,null,{"$f":"VLOOKUP(C459,Kode!A2:E1008,5,FALSE)","v":{"$error":"#N/A"}},null,null,null,null,null,{"$error":"#DIV/0!"}]
[{"$f":"VLOOKUP(C460,Kode!A2:C1008,2,FALSE)","v":{"$error":"#N/A"}},{"$f":"VLOOKUP(C460,Kode!A2:C1008,3,FALSE)","v":{"$error":"#N/A"}},null,{"$f":"VLOOKUP(C460,Kode!A2:D1008,4,FALSE)","v":{"$error":"#N/A"}},null,null,null,null,null,null,null,null,null,{"$f":"VLOOKUP(C460,Kode!A2:E1008,5,FALSE)","v":{"$error":"#N/A"}},null,null,null,null,null,{"$error":"#DIV/0!"}]
[{"$f":"VLOOKUP(C461,Kode!A2:C1008,2,FALSE)","v":{"$error":"#N/A"}},{"$f":"VLOOKUP(C461,Kode!A2:C1008,3,FALSE)","v":{"$error":"#N/A"}},null,{"$f":"VLOOKUP(C461,Kode!A2:D1008,4,FALSE)","v":{"$error":"#N/A"}},null,null,null,null,null,null,null,null,null,{"$f":"VLOOKUP(C461,Kode!A2:E1008,5,FALSE)","v":{"$error":"#N/A"}},null,null,null,null,null,{"$error":"#DIV/0!"}]
[{"$f":"VLOOKUP(C462,Kode!A2:C1008,2,FALSE)","v":{"$error":"#N/A"}},{"$f":"VLOOKUP(C462,Kode!A2:C1008,3,FALSE)","v":{"$error":"#N/A"}},null,{"$f":"VLOOKUP(C462,Kode!A2:D1008,4,FALSE)","v":{"$error":"#N/A"}},null,null,null,null,null,null,null,null,null,{"$f":"VLOOKUP(C462,Kode!A2:E1008,5,FALSE)","v":{"$error":"#N/A"}},null,null,null,null,null,{"$error":"#DIV/0!"}]
[{"$f":"VLOOKUP(C463,Kode!A2:C1008,2,FALSE)","v":{"$error":"#N/A"}},{"$f":"VLOOKUP(C463,Kode!A2:C1008,3,FALSE)","v":{"$error":"#N/A"}},null,{"$f":"VLOOKUP(C463,Kode!A2:D1008,4,FALSE)","v":{"$error":"#N/A"}},null,null,null,null,null,null,null,null,null,{"$f":"VLOOKUP(C463,Kode!A2:E1008,5,FALSE)","v":{"$error":"#N/A"}},null,null,null,null,null,{"$error":"#DIV/0!"}]
[{"$f":"VLOOKUP(C464,Kode!A2:C1008,2,FALSE)","v":{"$error":"#N/A"}},{"$f":"VLOOKUP(C464,Kode!A2:C1008,3,FALSE)","v":{"$error":"#N/A"}},null,{"$f":"VLOOKUP(C464,Kode!A2:D1008,4,FALSE)","v":{"$error":"#N/A"}},null,null,null,null,null,null,null,null,null,{"$f":"VLOOKUP(C464,Kode!A2:E1008,5,FALSE)","v":{"$error":"#N/A"}},null,null,null,null,null,{"$error":"#DIV/0!"}]
[{"$f":"VLOOKUP(C465,Kode!A2:C1008,2,FALSE)","v":{"$error":"#N/A"}},{"$f":"VLOOKUP(C465,Kode!A2:C1008,3,FALSE)","v":{"$error":"#N/A"}},null,{"$f":"VLOOKUP(C465,Kode!A2:D1008,4,FALSE)","v":{"$error":"#N/A"}},null,null,null,null,null,null,null,null,null,{"$f":"VLOOKUP(C465,Kode!A2:E1008,5,FALSE)","v":{"$error":"#N/A"}},null,null,null,null,null,{"$error":"#DIV/0!"}]
[{"$f":"VLOOKUP(C466,Kode!A2:C1008,2,FALSE)","v":{"$error":"#N/A"}},{"$f":"VLOOKUP(C466,Kode!A2:C1008,3,FALSE)","v":{"$error":"#N/A"}},null,{"$f":"VLOOKUP(C466,Kode!A2:D1008,4,FALSE)","v":{"$error":"#N/A"}},null,null,null,null,null,null,null,null,null,{"$f":"VLOOKUP(C466,Kode!A2:E1008,5,FALSE)","v":{"$error":"#N/A"}},null,null,null,null,null,{"$error":"#DIV/0!"}]
[{"$f":"VLOOKUP(C467,Kode!A2:C1008,2,FALSE)","v":{"$error":"#N/A"}},{"$f":"VLOOKUP(C467,Kode!A2:C1008,3,FALSE)","v":{"$error":"#N/A"}},null,{"$f":"VLOOKUP(C467,Kode!A2:D1008,4,FALSE)","v":{"$error":"#N/A"}},null,null,null,null,null,null,null,null,null,{"$f":"VLOOKUP(C467,Kode!A2:E1008,5,FALSE)","v":{"$error":"#N/A"}},null,null,null,null,null,{"$error":"#DIV/0!"}]
[{"$f":"VLOOKUP(C468,Kode!A2:C1008,2,FALSE)","v":{"$error":"#N/A"}},{"$f":"VLOOKUP(C468,Kode!A2:C1008,3,FALSE)","v":{"$error":"#N/A"}},null,{"$f":"VLOOKUP(C468,Kode!A2:D1008,4,FALSE)","v":{"$error":"#N/A"}},null,null,null,null,null,null,null,null,null,{"$f":"VLOOKUP(C468,Kode!A2:E1008,5,FALSE)","v":{"$error":"#N/A"}},null,null,null,null,null,{"$error":"#DIV/0!"}]
[{"$f":"VLOOKUP(C469,Kode!A2:C1008,2,FALSE)","v":{"$error":"#N/A"}},{"$f":"VLOOKUP(C469,Kode!A2:C1008,3,FALSE)","v":{"$error":"#N/A"}},null,{"$f":"VLOOKUP(C469,Kode!A2:D1008,4,FALSE)","v":{"$error":"#N/A"}},null,null,null,null,null,null,null,null,null,{"$f":"VLOOKUP(C469,Kode!A2:E1008,5,FALSE)","v":{"$error":"#N/A"}},null,null,null,null,null,{"$error":"#DIV/0!"}]
[{"$f":"VLOOKUP(C470,Kode!A2:C1008,2,FALSE)","v":{"$error":"#N/A"}},{"$f":"VLOOKUP(C470,Kode!A2:C1008,3,FALSE)","v":{"$error":"#N/A"}},null,{"$f":"VLOOKUP(C470,Kode!A2:D1008,4,FALSE)","v":{"$error":"#N/A"}},null,null,null,null,null,null,null,null,null,{"$f":"VLOOKUP(C470,Kode!A2:E1008,5,FALSE)","v":{"$error":"#N/A"}},null,null,null,null,null,{"$error":"#DIV/0!"}]
[{"$f":"VLOOKUP(C471,Kode!A2:C1008,2,FALSE)","v":{"$error":"#N/A"}},{"$f":"VLOOKUP(C471,Kode!A2:C1008,3,FALSE)","v":{"$error":"#N/A"}},null,{"$f":"VLOOKUP(C471,Kode!A2:D1008,4,FALSE)","v":{"$error":"#N/A"}},null,null,null,null,null,null,null,null,null,{"$f":"VLOOKUP(C471,Kode!A2:E1008,5,FALSE)","v":{"$error":"#N/A"}},null,null,null,null,null,{"$error":"#DIV/0!"}]
[{"$f":"VLOOKUP(C472,Kode!A2:C1008,2,FALSE)","v":{"$error":"#N/A"}},{"$f":"VLOOKUP(C472,Kode!A2:C1008,3,FALSE)","v":{"$error":"#N/A"}},null,{"$f":"VLOOKUP(C472,Kode!A2:D1008,4,FALSE)","v":{"$error":"#N/A"}},null,null,null,null,null,null,null,null,null,{"$f":"VLOOKUP(C472,Kode!A2:E1008,5,FALSE)","v":{"$error":"#N/A"}},null,null,null,null,null,{"$error":"#DIV/0!"}]
[{"$f":"VLOOKUP(C473,Kode!A2:C1008,2,FALSE)","v":{"$error":"#N/A"}},{"$f":"VLOOKUP(C473,Kode!A2:C1008,3,FALSE)","v":{"$error":"#N/A"}},null,{"$f":"VLOOKUP(C473,Kode!A2:D1008,4,FALSE)","v":{"$error":"#N/A"}},null,null,null,null,null,null,null,null,null,{"$f":"VLOOKUP(C473,Kode!A2:E1008,5,FALSE)","v":{"$error":"#N/A"}},null,null,null,null,null,{"$error":"#DIV/0!"}]
[{"$f":"VLOOKUP(C474,Kode!A2:C1008,2,FALSE)","v":{"$error":"#N/A"}},{"$f":"VLOOKUP(C474,Kode!A2:C1008,3,FALSE)","v":{"$error":"#N/A"}},null,{"$f":"VLOOKUP(C474,Kode!A2:D1008,4,FALSE)","v":{"$error":"#N/A"}},null,null,null,null,null,null,null,null,null,{"$f":"VLOOKUP(C474,Kode!A2:E1008,5,FALSE)","v":{"$error":"#N/A"}},null,null,null,null,null,{"$error":"#DIV/0!"}]
[{"$f":"VLOOKUP(C475,Kode!A2:C1008,2,FALSE)","v":{"$error":"#N/A"}},{"$f":"VLOOKUP(C475,Kode!A2:C1008,3,FALSE)","v":{"$error":"#N/A"}},null,{"$f":"VLOOKUP(C475,Kode!A2:D1008,4,FALSE)","v":{"$error":"#N/A"}},null,null,null,null,null,null,null,null,null,{"$f":"VLOOKUP(C475,Kode!A2:E1008,5,FALSE)","v":{"$error":"#N/A"}},null,null,null,null,null,{"$error":"#DIV/0!"}]
[{"$f":"VLOOKUP(C476,Kode!A2:C1008,2,FALSE)","v":{"$error":"#N/A"}},{"$f":"VLOOKUP(C476,Kode!A2:C1008,3,FALSE)","v":{"$error":"#N/A"}},null,{"$f":"VLOOKUP(C476,Kode!A2:D1008,4,FALSE)","v":{"$error":"#N/A"}},null,null,null,null,null,null,null,null,null,{"$f":"VLOOKUP(C476,Kode!A2:E1008,5,FALSE)","v":{"$error":"#N/A"}},null,null,null,null,null,{"$error":"#DIV/0!"}]
[{"$f":"VLOOKUP(C477,Kode!A2:C1008,2,FALSE)","v":{"$error":"#N/A"}},{"$f":"VLOOKUP(C477,Kode!A2:C1008,3,FALSE)","v":{"$error":"#N/A"}},null,{"$f":"VLOOKUP(C477,Kode!A2:D1008,4,FALSE)","v":{"$error":"#N/A"}},null,null,null,null,null,null,null,null,null,{"$f":"VLOOKUP(C477,Kode!A2:E1008,5,FALSE)","v":{"$error":"#N/A"}},null,null,null,null,null,{"$error":"#DIV/0!"}]
[{"$f":"VLOOKUP(C478,Kode!A2:C1008,2,FALSE)","v":{"$error":"#N/A"}},{"$f":"VLOOKUP(C478,Kode!A2:C1008,3,FALSE)","v":{"$error":"#N/A"}},null,{"$f":"VLOOKUP(C478,Kode!A2:D1008,4,FALSE)","v":{"$error":"#N/A"}},null,null,null,null,null,null,null,null,null,{"$f":"VLOOKUP(C478,Kode!A2:E1008,5,FALSE)","v":{"$error":"#N/A"}},null,null,null,null,null,{"$error":"#DIV/0!"}]
[{"$f":"VLOOKUP(C479,Kode!A2:C1008,2,FALSE)","v":{"$error":"#N/A"}},{"$f":"VLOOKUP(C479,Kode!A2:C1008,3,FALSE)","v":{"$error":"#N/A"}},null,{"$f":"VLOOKUP(C479,Kode!A2:D1008,4,FALSE)","v":{"$error":"#N/A"}},null,null,null,null,null,null,null,null,null,{"$f":"VLOOKUP(C479,Kode!A2:E1008,5,FALSE)","v":{"$error":"#N/A"}},null,null,null,null,null,{"$error":"#DIV/0!"}]
[{"$f":"VLOOKUP(C480,Kode!A2:C1008,2,FALSE)","v":{"$error":"#N/A"}},{"$f":"VLOOKUP(C480,Kode!A2:C1008,3,FALSE)","v":{"$error":"#N/A"}},null,{"$f":"VLOOKUP(C480,Kode!A2:D1008,4,FALSE)","v":{"$error":"#N/A"}},null,null,null,null,null,null,null,null,null,{"$f":"VLOOKUP(C480,Kode!A2:E1008,5,FALSE)","v":{"$error":"#N/A"}},null,null,null,null,null,{"$error":"#DIV/0!"}]
[{"$f":"VLOOKUP(C481,Kode!A2:C1008,2,FALSE)","v":{"$error":"#N/A"}},{"$f":"VLOOKUP(C481,Kode!A2:C1008,3,FALSE)","v":{"$error":"#N/A"}},null,{"$f":"VLOOKUP(C481,Kode!A2:D1008,4,FALSE)","v":{"$error":"#N/A"}},null,null,null,null,null,null,null,null,null,{"$f":"VLOOKUP(C481,Kode!A2:E1008,5,FALSE)","v":{"$error":"#N/A"}},null,null,null,null,null,{"$error":"#DIV/0!"}]
[{"$f":"VLOOKUP(C482,Kode!A2:C1008,2,FALSE)","v":{"$error":"#N/A"}},{"$f":"VLOOKUP(C482,Kode!A2:C1008,3,FALSE)","v":{"$error":"#N/A"}},null,{"$f":"VLOOKUP(C482,Kode!A2:D1008,4,FALSE)","v":{"$error":"#N/A"}},null,null,null,null,null,null,null,null,null,{"$f":"VLOOKUP(C482,Kode!A2:E1008,5,FALSE)","v":{"$error":"#N/A"}},null,null,null,null,null,{"$error":"#DIV/0!"}]
[{"$f":"VLOOKUP(C483,Kode!A2:C1008,2,FALSE)","v":{"$error":"#N/A"}},{"$f":"VLOOKUP(C483,Kode!A2:C1008,3,FALSE)","v":{"$error":"#N/A"}},null,{"$f":"VLOOKUP(C483,Kode!A2:D1008,4,FALSE)","v":{"$error":"#N/A"}},null,null,null,null,null,null,null,null,null,{"$f":"VLOOKUP(C483,Kode!A2:E1008,5,FALSE)","v":{"$error":"#N/A"}},null,null,null,null,null,{"$error":"#DIV/0!"}]
[{"$f":"VLOOKUP(C484,Kode!A2:C1008,2,FALSE)","v":{"$error":"#N/A"}},{"$f":"VLOOKUP(C484,Kode!A2:C1008,3,FALSE)","v":{"$error":"#N/A"}},null,{"$f":"VLOOKUP(C484,Kode!A2:D1008,4,FALSE)","v":{"$error":"#N/A"}},null,null,null,null,null,null,null,null,null,{"$f":"VLOOKUP(C484,Kode!A2:E1008,5,FALSE)","v":{"$error":"#N/A"}},null,null,null,null,null,{"$error":"#DIV/0!"}]
[{"$f":"VLOOKUP(C485,Kode!A2:C1008,2,FALSE)","v":{"$error":"#N/A"}},{"$f":"VLOOKUP(C485,Kode!A2:C1008,3,FALSE)","v":{"$error":"#N/A"}},null,{"$f":"VLOOKUP(C485,Kode!A2:D1008,4,FALSE)","v":{"$error":"#N/A"}},null,null,null,null,null,null,null,null,null,{"$f":"VLOOKUP(C485,Kode!A2:E1008,5,FALSE)","v":{"$error":"#N/A"}},null,null,null,null,null,{"$error":"#DIV/0!"}]
[{"$f":"VLOOKUP(C486,Kode!A2:C1008,2,FALSE)","v":{"$error":"#N/A"}},{"$f":"VLOOKUP(C486,Kode!A2:C1008,3,FALSE)","v":{"$error":"#N/A"}},null,{"$f":"VLOOKUP(C486,Kode!A2:D1008,4,FALSE)","v":{"$error":"#N/A"}},null,null,null,null,null,null,null,null,null,{"$f":"VLOOKUP(C486,Kode!A2:E1008,5,FALSE)","v":{"$error":"#N/A"}},null,null,null,null,null,{"$error":"#DIV/0!"}]
[{"$f":"VLOOKUP(C487,Kode!A2:C1008,2,FALSE)","v":{"$error":"#N/A"}},{"$f":"VLOOKUP(C487,Kode!A2:C1008,3,FALSE)","v":{"$error":"#N/A"}},null,{"$f":"VLOOKUP(C487,Kode!A2:D1008,4,FALSE)","v":{"$error":"#N/A"}},null,null,null,null,null,null,null,null,null,{"$f":"VLOOKUP(C487,Kode!A2:E1008,5,FALSE)","v":{"$error":"#N/A"}},null,null,null,null,null,{"$error":"#DIV/0!"}]
[{"$f":"VLOOKUP(C488,Kode!A2:C1008,2,FALSE)","v":{"$error":"#N/A"}},{"$f":"VLOOKUP(C488,Kode!A2:C1008,3,FALSE)","v":{"$error":"#N/A"}},null,{"$f":"VLOOKUP(C488,Kode!A2:D1008,4,FALSE)","v":{"$error":"#N/A"}},null,null,null,null,null,null,null,null,null,{"$f":"VLOOKUP(C488,Kode!A2:E1008,5,FALSE)","v":{"$error":"#N/A"}},null,null,null,null,null,{"$error":"#DIV/0!"}]
[{"$f":"VLOOKUP(C489,Kode!A2:C1008,2,FALSE)","v":{"$error":"#N/A"}},{"$f":"VLOOKUP(C489,Kode!A2:C1008,3,FALSE)","v":{"$error":"#N/A"}},null,{"$f":"VLOOKUP(C489,Kode!A2:D1008,4,FALSE)","v":{"$error":"#N/A"}},null,null,null,null,null,null,null,null,null,{"$f":"VLOOKUP(C489,Kode!A2:E1008,5,FALSE)","v":{"$error":"#N/A"}},null,null,null,null,null,{"$error":"#DIV/0!"}]
[{"$f":"VLOOKUP(C490,Kode!A2:C1008,2,FALSE)","v":{"$error":"#N/A"}},{"$f":"VLOOKUP(C490,Kode!A2:C1008,3,FALSE)","v":{"$error":"#N/A"}},null,{"$f":"VLOOKUP(C490,Kode!A2:D1008,4,FALSE)","v":{"$error":"#N/A"}},null,null,null,null,null,null,null,null,null,{"$f":"VLOOKUP(C490,Kode!A2:E1008,5,FALSE)","v":{"$error":"#N/A"}},null,null,null,null,null,{"$error":"#DIV/0!"}]
[{"$f":"VLOOKUP(C491,Kode!A2:C1008,2,FALSE)","v":{"$error":"#N/A"}},{"$f":"VLOOKUP(C491,Kode!A2:C1008,3,FALSE)","v":{"$error":"#N/A"}},null,{"$f":"VLOOKUP(C491,Kode!A2:D1008,4,FALSE)","v":{"$error":"#N/A"}},null,null,null,null,null,null,null,null,null,{"$f":"VLOOKUP(C491,Kode!A2:E1008,5,FALSE)","v":{"$error":"#N/A"}},null,null,null,null,null,{"$error":"#DIV/0!"}]
[{"$f":"VLOOKUP(C492,Kode!A2:C1008,2,FALSE)","v":{"$error":"#N/A"}},{"$f":"VLOOKUP(C492,Kode!A2:C1008,3,FALSE)","v":{"$error":"#N/A"}},null,{"$f":"VLOOKUP(C492,Kode!A2:D1008,4,FALSE)","v":{"$error":"#N/A"}},null,null,null,null,null,null,null,null,null,{"$f":"VLOOKUP(C492,Kode!A2:E1008,5,FALSE)","v":{"$error":"#N/A"}},null,null,null,null,null,{"$error":"#DIV/0!"}]
[{"$f":"VLOOKUP(C493,Kode!A2:C1008,2,FALSE)","v":{"$error":"#N/A"}},{"$f":"VLOOKUP(C493,Kode!A2:C1008,3,FALSE)","v":{"$error":"#N/A"}},null,{"$f":"VLOOKUP(C493,Kode!A2:D1008,4,FALSE)","v":{"$error":"#N/A"}},null,null,null,null,null,null,null,null,null,{"$f":"VLOOKUP(C493,Kode!A2:E1008,5,FALSE)","v":{"$error":"#N/A"}},null,null,null,null,null,{"$error":"#DIV/0!"}]
[{"$f":"VLOOKUP(C494,Kode!A2:C1008,2,FALSE)","v":{"$error":"#N/A"}},{"$f":"VLOOKUP(C494,Kode!A2:C1008,3,FALSE)","v":{"$error":"#N/A"}},null,{"$f":"VLOOKUP(C494,Kode!A2:D1008,4,FALSE)","v":{"$error":"#N/A"}},null,null,null,null,null,null,null,null,null,{"$f":"VLOOKUP(C494,Kode!A2:E1008,5,FALSE)","v":{"$error":"#N/A"}},null,null,null,null,null,{"$error":"#DIV/0!"}]
[{"$f":"VLOOKUP(C495,Kode!A2:C1008,2,FALSE)","v":{"$error":"#N/A"}},{"$f":"VLOOKUP(C495,Kode!A2:C1008,3,FALSE)","v":{"$error":"#N/A"}},null,{"$f":"VLOOKUP(C495,Kode!A2:D1008,4,FALSE)","v":{"$error":"#N/A"}},null,null,null,null,null,null,null,null,null,{"$f":"VLOOKUP(C495,Kode!A2:E1008,5,FALSE)","v":{"$error":"#N/A"}},null,null,null,null,null,{"$error":"#DIV/0!"}]
[{"$f":"VLOOKUP(C496,Kode!A2:C1008,2,FALSE)","v":{"$error":"#N/A"}},{"$f":"VLOOKUP(C496,Kode!A2:C1008,3,FALSE)","v":{"$error":"#N/A"}},null,{"$f":"VLOOKUP(C496,Kode!A2:D1008,4,FALSE)","v":{"$error":"#N/A"}},null,null,null,null,null,null,null,null,null,{"$f":"VLOOKUP(C496,Kode!A2:E1008,5,FALSE)","v":{"$error":"#N/A"}},null,null,null,null,null,{"$error":"#DIV/0!"}]
[{"$f":"VLOOKUP(C497,Kode!A2:C1008,2,FALSE)","v":{"$error":"#N/A"}},{"$f":"VLOOKUP(C497,Kode!A2:C1008,3,FALSE)","v":{"$error":"#N/A"}},null,{"$f":"VLOOKUP(C497,Kode!A2:D1008,4,FALSE)","v":{"$error":"#N/A"}},null,null,null,null,null,null,null,null,null,{"$f":"VLOOKUP(C497,Kode!A2:E1008,5,FALSE)","v":{"$error":"#N/A"}},null,null,null,null,null,{"$error":"#DIV/0!"}]
[{"$f":"VLOOKUP(C498,Kode!A2:C1008,2,FALSE)","v":{"$error":"#N/A"}},{"$f":"VLOOKUP(C498,Kode!A2:C1008,3,FALSE)","v":{"$error":"#N/A"}},null,{"$f":"VLOOKUP(C498,Kode!A2:D1008,4,FALSE)","v":{"$error":"#N/A"}},null,null,null,null,null,null,null,null,null,{"$f":"VLOOKUP(C498,Kode!A2:E1008,5,FALSE)","v":{"$error":"#N/A"}},null,null,null,null,null,{"$error":"#DIV/0!"}]
[{"$f":"VLOOKUP(C499,Kode!A2:C1008,2,FALSE)","v":{"$error":"#N/A"}},{"$f":"VLOOKUP(C499,Kode!A2:C1008,3,FALSE)","v":{"$error":"#N/A"}},null,{"$f":"VLOOKUP(C499,Kode!A2:D1008,4,FALSE)","v":{"$error":"#N/A"}},null,null,null,null,null,null,null,null,null,{"$f":"VLOOKUP(C499,Kode!A2:E1008,5,FALSE)","v":{"$error":"#N/A"}},null,null,null,null,null,{"$error":"#DIV/0!"}]
[{"$f":"VLOOKUP(C500,Kode!A2:C1008,2,FALSE)","v":{"$error":"#N/A"}},{"$f":"VLOOKUP(C500,Kode!A2:C1008,3,FALSE)","v":{"$error":"#N/A"}},null,{"$f":"VLOOKUP(C500,Kode!A2:D1008,4,FALSE)","v":{"$error":"#N/A"}},null,null,null,null,null,null,null,null,null,{"$f":"VLOOKUP(C500,Kode!A2:E1008,5,FALSE)","v":{"$error":"#N/A"}},null,null,null,null,null,{"$error":"#DIV/0!"}]
[{"$f":"VLOOKUP(C501,Kode!A2:C1008,2,FALSE)","v":{"$error":"#N/A"}},{"$f":"VLOOKUP(C501,Kode!A2:C1008,3,FALSE)","v":{"$error":"#N/A"}},null,{"$f":"VLOOKUP(C501,Kode!A2:D1008,4,FALSE)","v":{"$error":"#N/A"}},null,null,null,null,null,null,null,null,null,{"$f":"VLOOKUP(C501,Kode!A2:E1008,5,FALSE)","v":{"$error":"#N/A"}},null,null,null,null,null,{"$error":"#DIV/0!"}]
[{"$f":"VLOOKUP(C502,Kode!A2:C1008,2,FALSE)","v":{"$error":"#N/A"}},{"$f":"VLOOKUP(C502,Kode!A2:C1008,3,FALSE)","v":{"$error":"#N/A"}},null,{"$f":"VLOOKUP(C502,Kode!A2:D1008,4,FALSE)","v":{"$error":"#N/A"}},null,null,null,null,null,null,null,null,null,{"$f":"VLOOKUP(C502,Kode!A2:E1008,5,FALSE)","v":{"$error":"#N/A"}},null,null,null,null,null,{"$error":"#DIV/0!"}]
[{"$f":"VLOOKUP(C503,Kode!A2:C1008,2,FALSE)","v":{"$error":"#N/A"}},{"$f":"VLOOKUP(C503,Kode!A2:C1008,3,FALSE)","v":{"$error":"#N/A"}},null,{"$f":"VLOOKUP(C503,Kode!A2:D1008,4,FALSE)","v":{"$error":"#N/A"}},null,null,null,null,null,null,null,null,null,{"$f":"VLOOKUP(C503,Kode!A2:E1008,5,FALSE)","v":{"$error":"#N/A"}},null,null,null,null,null,{"$error":"#DIV/0!"}]
[{"$f":"VLOOKUP(C504,Kode!A2:C1008,2,FALSE)","v":{"$error":"#N/A"}},{"$f":"VLOOKUP(C504,Kode!A2:C1008,3,FALSE)","v":{"$error":"#N/A"}},null,{"$f":"VLOOKUP(C504,Kode!A2:D1008,4,FALSE)","v":{"$error":"#N/A"}},null,null,null,null,null,null,null,null,null,{"$f":"VLOOKUP(C504,Kode!A2:E1008,5,FALSE)","v":{"$error":"#N/A"}},null,null,null,null,null,{"$error":"#DIV/0!"}]
[{"$f":"VLOOKUP(C505,Kode!A2:C1008,2,FALSE)","v":{"$error":"#N/A"}},{"$f":"VLOOKUP(C505,Kode!A2:C1008,3,FALSE)","v":{"$error":"#N/A"}},null,{"$f":"VLOOKUP(C505,Kode!A2:D1008,4,FALSE)","v":{"$error":"#N/A"}},null,null,null,null,null,null,null,null,null,{"$f":"VLOOKUP(C505,Kode!A2:E1008,5,FALSE)","v":{"$error":"#N/A"}},null,null,null,null,null,{"$error":"#DIV/0!"}]
[{"$f":"VLOOKUP(C506,Kode!A2:C1008,2,FALSE)","v":{"$error":"#N/A"}},{"$f":"VLOOKUP(C506,Kode!A2:C1008,3,FALSE)","v":{"$error":"#N/A"}},null,{"$f":"VLOOKUP(C506,Kode!A2:D1008,4,FALSE)","v":{"$error":"#N/A"}},null,null,null,null,null,null,null,null,null,{"$f":"VLOOKUP(C506,Kode!A2:E1008,5,FALSE)","v":{"$error":"#N/A"}},null,null,null,null,null,{"$error":"#DIV/0!"}]
[{"$f":"VLOOKUP(C507,Kode!A2:C1008,2,FALSE)","v":{"$error":"#N/A"}},{"$f":"VLOOKUP(C507,Kode!A2:C1008,3,FALSE)","v":{"$error":"#N/A"}},null,{"$f":"VLOOKUP(C507,Kode!A2:D1008,4,FALSE)","v":{"$error":"#N/A"}},null,null,null,null,null,null,null,null,null,{"$f":"VLOOKUP(C507,Kode!A2:E1008,5,FALSE)","v":{"$error":"#N/A"}},null,null,null,null,null,{"$error":"#DIV/0!"}]
[{"$f":"VLOOKUP(C508,Kode!A2:C1008,2,FALSE)","v":{"$error":"#N/A"}},{"$f":"VLOOKUP(C508,Kode!A2:C1008,3,FALSE)","v":{"$error":"#N/A"}},null,{"$f":"VLOOKUP(C508,Kode!A2:D1008,4,FALSE)","v":{"$error":"#N/A"}},null,null,null,null,null,null,null,null,null,{"$f":"VLOOKUP(C508,Kode!A2:E1008,5,FALSE)","v":{"$error":"#N/A"}},null,null,null,null,null,{"$error":"#DIV/0!"}]
[{"$f":"VLOOKUP(C509,Kode!A2:C1008,2,FALSE)","v":{"$error":"#N/A"}},{"$f":"VLOOKUP(C509,Kode!A2:C1008,3,FALSE)","v":{"$error":"#N/A"}},null,{"$f":"VLOOKUP(C509,Kode!A2:D1008,4,FALSE)","v":{"$error":"#N/A"}},null,null,null,null,null,null,null,null,null,{"$f":"VLOOKUP(C509,Kode!A2:E1008,5,FALSE)","v":{"$error":"#N/A"}},null,null,null,null,null,{"$error":"#DIV/0!"}]
[{"$f":"VLOOKUP(C510,Kode!A2:C1008,2,FALSE)","v":{"$error":"#N/A"}},{"$f":"VLOOKUP(C510,Kode!A2:C1008,3,FALSE)","v":{"$error":"#N/A"}},null,{"$f":"VLOOKUP(C510,Kode!A2:D1008,4,FALSE)","v":{"$error":"#N/A"}},null,null,null,null,null,null,null,null,null,{"$f":"VLOOKUP(C510,Kode!A2:E1008,5,FALSE)","v":{"$error":"#N/A"}},null,null,null,null,null,{"$error":"#DIV/0!"}]
[{"$f":"VLOOKUP(C511,Kode!A2:C1008,2,FALSE)","v":{"$error":"#N/A"}},{"$f":"VLOOKUP(C511,Kode!A2:C1008,3,FALSE)","v":{"$error":"#N/A"}},null,{"$f":"VLOOKUP(C511,Kode!A2:D1008,4,FALSE)","v":{"$error":"#N/A"}},null,null,null,null,null,null,null,null,null,{"$f":"VLOOKUP(C511,Kode!A2:E1008,5,FALSE)","v":{"$error":"#N/A"}},null,null,null,null,null,{"$error":"#DIV/0!"}]
[{"$f":"VLOOKUP(C512,Kode!A2:C1008,2,FALSE)","v":{"$error":"#N/A"}},{"$f":"VLOOKUP(C512,Kode!A2:C1008,3,FALSE)","v":{"$error":"#N/A"}},null,{"$f":"VLOOKUP(C512,Kode!A2:D1008,4,FALSE)","v":{"$error":"#N/A"}},null,null,null,null,null,null,null,null,null,{"$f":"VLOOKUP(C512,Kode!A2:E1008,5,FALSE)","v":{"$error":"#N/A"}},null,null,null,null,null,{"$error":"#DIV/0!"}]
[{"$f":"VLOOKUP(C513,Kode!A2:C1008,2,FALSE)","v":{"$error":"#N/A"}},{"$f":"VLOOKUP(C513,Kode!A2:C1008,3,FALSE)","v":{"$error":"#N/A"}},null,{"$f":"VLOOKUP(C513,Kode!A2:D1008,4,FALSE)","v":{"$error":"#N/A"}},null,null,null,null,null,null,null,null,null,{"$f":"VLOOKUP(C513,Kode!A2:E1008,5,FALSE)","v":{"$error":"#N/A"}},null,null,null,null,null,{"$error":"#DIV/0!"}]
[{"$f":"VLOOKUP(C514,Kode!A2:C1008,2,FALSE)","v":{"$error":"#N/A"}},{"$f":"VLOOKUP(C514,Kode!A2:C1008,3,FALSE)","v":{"$error":"#N/A"}},null,{"$f":"VLOOKUP(C514,Kode!A2:D1008,4,FALSE)","v":{"$error":"#N/A"}},null,null,null,null,null,null,null,null,null,{"$f":"VLOOKUP(C514,Kode!A2:E1008,5,FALSE)","v":{"$error":"#N/A"}},null,null,null,null,null,{"$f":"R514/P514*100","v":{"$error":"#DIV/0!"}}]
[{"$f":"VLOOKUP(C515,Kode!A2:C1008,2,FALSE)","v":{"$error":"#N/A"}},{"$f":"VLOOKUP(C515,Kode!A2:C1008,3,FALSE)","v":{"$error":"#N/A"}},null,{"$f":"VLOOKUP(C515,Kode!A2:D1008,4,FALSE)","v":{"$error":"#N/A"}},null,null,null,null,null,null,null,null,null,{"$f":"VLOOKUP(C515,Kode!A2:E1008,5,FALSE)","v":{"$error":"#N/A"}},null,null,null,null,null,{"$error":"#DIV/0!"}]
[{"$f":"VLOOKUP(C516,Kode!A2:C1008,2,FALSE)","v":{"$error":"#N/A"}},{"$f":"VLOOKUP(C516,Kode!A2:C1008,3,FALSE)","v":{"$error":"#N/A"}},null,{"$f":"VLOOKUP(C516,Kode!A2:D1008,4,FALSE)","v":{"$error":"#N/A"}},null,null,null,null,null,null,null,null,null,{"$f":"VLOOKUP(C516,Kode!A2:E1008,5,FALSE)","v":{"$error":"#N/A"}},null,null,null,null,null,{"$error":"#DIV/0!"}]
[{"$f":"VLOOKUP(C517,Kode!A2:C1008,2,FALSE)","v":{"$error":"#N/A"}},{"$f":"VLOOKUP(C517,Kode!A2:C1008,3,FALSE)","v":{"$error":"#N/A"}},null,{"$f":"VLOOKUP(C517,Kode!A2:D1008,4,FALSE)","v":{"$error":"#N/A"}},null,null,null,null,null,null,null,null,null,{"$f":"VLOOKUP(C517,Kode!A2:E1008,5,FALSE)","v":{"$error":"#N/A"}},null,null,null,null,null,{"$error":"#DIV/0!"}]
[{"$f":"VLOOKUP(C518,Kode!A2:C1008,2,FALSE)","v":{"$error":"#N/A"}},{"$f":"VLOOKUP(C518,Kode!A2:C1008,3,FALSE)","v":{"$error":"#N/A"}},null,{"$f":"VLOOKUP(C518,Kode!A2:D1008,4,FALSE)","v":{"$error":"#N/A"}},null,null,null,null,null,null,null,null,null,{"$f":"VLOOKUP(C518,Kode!A2:E1008,5,FALSE)","v":{"$error":"#N/A"}},null,null,null,null,null,{"$error":"#DIV/0!"}]
[{"$f":"VLOOKUP(C519,Kode!A2:C1008,2,FALSE)","v":{"$error":"#N/A"}},{"$f":"VLOOKUP(C519,Kode!A2:C1008,3,FALSE)","v":{"$error":"#N/A"}},null,{"$f":"VLOOKUP(C519,Kode!A2:D1008,4,FALSE)","v":{"$error":"#N/A"}},null,null,null,null,null,null,null,null,null,{"$f":"VLOOKUP(C519,Kode!A2:E1008,5,FALSE)","v":{"$error":"#N/A"}},null,null,null,null,null,{"$error":"#DIV/0!"}]
[{"$f":"VLOOKUP(C520,Kode!A2:C1008,2,FALSE)","v":{"$error":"#N/A"}},{"$f":"VLOOKUP(C520,Kode!A2:C1008,3,FALSE)","v":{"$error":"#N/A"}},null,{"$f":"VLOOKUP(C520,Kode!A2:D1008,4,FALSE)","v":{"$error":"#N/A"}},null,null,null,null,null,null,null,null,null,{"$f":"VLOOKUP(C520,Kode!A2:E1008,5,FALSE)","v":{"$error":"#N/A"}},null,null,null,null,null,{"$error":"#DIV/0!"}]
[{"$f":"VLOOKUP(C521,Kode!A2:C1008,2,FALSE)","v":{"$error":"#N/A"}},{"$f":"VLOOKUP(C521,Kode!A2:C1008,3,FALSE)","v":{"$error":"#N/A"}},null,{"$f":"VLOOKUP(C521,Kode!A2:D1008,4,FALSE)","v":{"$error":"#N/A"}},null,null,null,null,null,null,null,null,null,{"$f":"VLOOKUP(C521,Kode!A2:E1008,5,FALSE)","v":{"$error":"#N/A"}},null,null,null,null,null,{"$error":"#DIV/0!"}]
[{"$f":"VLOOKUP(C522,Kode!A2:C1008,2,FALSE)","v":{"$error":"#N/A"}},{"$f":"VLOOKUP(C522,Kode!A2:C1008,3,FALSE)","v":{"$error":"#N/A"}},null,{"$f":"VLOOKUP(C522,Kode!A2:D1008,4,FALSE)","v":{"$error":"#N/A"}},null,null,null,null,null,null,null,null,null,{"$f":"VLOOKUP(C522,Kode!A2:E1008,5,FALSE)","v":{"$error":"#N/A"}},null,null,null,null,null,{"$error":"#DIV/0!"}]
[{"$f":"VLOOKUP(C523,Kode!A2:C1008,2,FALSE)","v":{"$error":"#N/A"}},{"$f":"VLOOKUP(C523,Kode!A2:C1008,3,FALSE)","v":{"$error":"#N/A"}},null,{"$f":"VLOOKUP(C523,Kode!A2:D1008,4,FALSE)","v":{"$error":"#N/A"}},null,null,null,null,null,null,null,null,null,{"$f":"VLOOKUP(C523,Kode!A2:E1008,5,FALSE)","v":{"$error":"#N/A"}},null,null,null,null,null,{"$error":"#DIV/0!"}]
[{"$f":"VLOOKUP(C524,Kode!A2:C1008,2,FALSE)","v":{"$error":"#N/A"}},{"$f":"VLOOKUP(C524,Kode!A2:C1008,3,FALSE)","v":{"$error":"#N/A"}},null,{"$f":"VLOOKUP(C524,Kode!A2:D1008,4,FALSE)","v":{"$error":"#N/A"}},null,null,null,null,null,null,null,null,null,{"$f":"VLOOKUP(C524,Kode!A2:E1008,5,FALSE)","v":{"$error":"#N/A"}},null,null,null,null,null,{"$error":"#DIV/0!"}]
[{"$f":"VLOOKUP(C525,Kode!A2:C1008,2,FALSE)","v":{"$error":"#N/A"}},{"$f":"VLOOKUP(C525,Kode!A2:C1008,3,FALSE)","v":{"$error":"#N/A"}},null,{"$f":"VLOOKUP(C525,Kode!A2:D1008,4,FALSE)","v":{"$error":"#N/A"}},null,null,null,null,null,null,null,null,null,{"$f":"VLOOKUP(C525,Kode!A2:E1008,5,FALSE)","v":{"$error":"#N/A"}},null,null,null,null,null,{"$error":"#DIV/0!"}]
[{"$f":"VLOOKUP(C526,Kode!A2:C1008,2,FALSE)","v":{"$error":"#N/A"}},{"$f":"VLOOKUP(C526,Kode!A2:C1008,3,FALSE)","v":{"$error":"#N/A"}},null,{"$f":"VLOOKUP(C526,Kode!A2:D1008,4,FALSE)","v":{"$error":"#N/A"}},null,null,null,null,null,null,null,null,null,{"$f":"VLOOKUP(C526,Kode!A2:E1008,5,FALSE)","v":{"$error":"#N/A"}},null,null,null,null,null,{"$error":"#DIV/0!"}]
[{"$f":"VLOOKUP(C527,Kode!A2:C1008,2,FALSE)","v":{"$error":"#N/A"}},{"$f":"VLOOKUP(C527,Kode!A2:C1008,3,FALSE)","v":{"$error":"#N/A"}},null,{"$f":"VLOOKUP(C527,Kode!A2:D1008,4,FALSE)","v":{"$error":"#N/A"}},null,null,null,null,null,null,null,null,null,{"$f":"VLOOKUP(C527,Kode!A2:E1008,5,FALSE)","v":{"$error":"#N/A"}},null,null,null,null,null,{"$error":"#DIV/0!"}]
[{"$f":"VLOOKUP(C528,Kode!A2:C1008,2,FALSE)","v":{"$error":"#N/A"}},{"$f":"VLOOKUP(C528,Kode!A2:C1008,3,FALSE)","v":{"$error":"#N/A"}},null,{"$f":"VLOOKUP(C528,Kode!A2:D1008,4,FALSE)","v":{"$error":"#N/A"}},null,null,null,null,null,null,null,null,null,{"$f":"VLOOKUP(C528,Kode!A2:E1008,5,FALSE)","v":{"$error":"#N/A"}},null,null,null,null,null,{"$error":"#DIV/0!"}]
[{"$f":"VLOOKUP(C529,Kode!A2:C1008,2,FALSE)","v":{"$error":"#N/A"}},{"$f":"VLOOKUP(C529,Kode!A2:C1008,3,FALSE)","v":{"$error":"#N/A"}},null,{"$f":"VLOOKUP(C529,Kode!A2:D1008,4,FALSE)","v":{"$error":"#N/A"}},null,null,null,null,null,null,null,null,null,{"$f":"VLOOKUP(C529,Kode!A2:E1008,5,FALSE)","v":{"$error":"#N/A"}},null,null,null,null,null,{"$error":"#DIV/0!"}]
[{"$f":"VLOOKUP(C530,Kode!A2:C1008,2,FALSE)","v":{"$error":"#N/A"}},{"$f":"VLOOKUP(C530,Kode!A2:C1008,3,FALSE)","v":{"$error":"#N/A"}},null,{"$f":"VLOOKUP(C530,Kode!A2:D1008,4,FALSE)","v":{"$error":"#N/A"}},null,null,null,null,null,null,null,null,null,{"$f":"VLOOKUP(C530,Kode!A2:E1008,5,FALSE)","v":{"$error":"#N/A"}},null,null,null,null,null,{"$error":"#DIV/0!"}]
[{"$f":"VLOOKUP(C531,Kode!A2:C1008,2,FALSE)","v":{"$error":"#N/A"}},{"$f":"VLOOKUP(C531,Kode!A2:C1008,3,FALSE)","v":{"$error":"#N/A"}},null,{"$f":"VLOOKUP(C531,Kode!A2:D1008,4,FALSE)","v":{"$error":"#N/A"}},null,null,null,null,null,null,null,null,null,{"$f":"VLOOKUP(C531,Kode!A2:E1008,5,FALSE)","v":{"$error":"#N/A"}},null,null,null,null,null,{"$error":"#DIV/0!"}]
[{"$f":"VLOOKUP(C532,Kode!A2:C1008,2,FALSE)","v":{"$error":"#N/A"}},{"$f":"VLOOKUP(C532,Kode!A2:C1008,3,FALSE)","v":{"$error":"#N/A"}},null,{"$f":"VLOOKUP(C532,Kode!A2:D1008,4,FALSE)","v":{"$error":"#N/A"}},null,null,null,null,null,null,null,null,null,{"$f":"VLOOKUP(C532,Kode!A2:E1008,5,FALSE)","v":{"$error":"#N/A"}},null,null,null,null,null,{"$error":"#DIV/0!"}]
[{"$f":"VLOOKUP(C533,Kode!A2:C1008,2,FALSE)","v":{"$error":"#N/A"}},{"$f":"VLOOKUP(C533,Kode!A2:C1008,3,FALSE)","v":{"$error":"#N/A"}},null,{"$f":"VLOOKUP(C533,Kode!A2:D1008,4,FALSE)","v":{"$error":"#N/A"}},null,null,null,null,null,null,null,null,null,{"$f":"VLOOKUP(C533,Kode!A2:E1008,5,FALSE)","v":{"$error":"#N/A"}},null,null,null,null,null,{"$error":"#DIV/0!"}]
[{"$f":"VLOOKUP(C534,Kode!A2:C1008,2,FALSE)","v":{"$error":"#N/A"}},{"$f":"VLOOKUP(C534,Kode!A2:C1008,3,FALSE)","v":{"$error":"#N/A"}},null,{"$f":"VLOOKUP(C534,Kode!A2:D1008,4,FALSE)","v":{"$error":"#N/A"}},null,null,null,null,null,null,null,null,null,{"$f":"VLOOKUP(C534,Kode!A2:E1008,5,FALSE)","v":{"$error":"#N/A"}},null,null,null,null,null,{"$error":"#DIV/0!"}]
[{"$f":"VLOOKUP(C535,Kode!A2:C1008,2,FALSE)","v":{"$error":"#N/A"}},{"$f":"VLOOKUP(C535,Kode!A2:C1008,3,FALSE)","v":{"$error":"#N/A"}},null,{"$f":"VLOOKUP(C535,Kode!A2:D1008,4,FALSE)","v":{"$error":"#N/A"}},null,null,null,null,null,null,null,null,null,{"$f":"VLOOKUP(C535,Kode!A2:E1008,5,FALSE)","v":{"$error":"#N/A"}},null,null,null,null,null,{"$error":"#DIV/0!"}]
[{"$f":"VLOOKUP(C536,Kode!A2:C1008,2,FALSE)","v":{"$error":"#N/A"}},{"$f":"VLOOKUP(C536,Kode!A2:C1008,3,FALSE)","v":{"$error":"#N/A"}},null,{"$f":"VLOOKUP(C536,Kode!A2:D1008,4,FALSE)","v":{"$error":"#N/A"}},null,null,null,null,null,null,null,null,null,{"$f":"VLOOKUP(C536,Kode!A2:E1008,5,FALSE)","v":{"$error":"#N/A"}},null,null,null,null,null,{"$error":"#DIV/0!"}]
[{"$f":"VLOOKUP(C537,Kode!A2:C1008,2,FALSE)","v":{"$error":"#N/A"}},{"$f":"VLOOKUP(C537,Kode!A2:C1008,3,FALSE)","v":{"$error":"#N/A"}},null,{"$f":"VLOOKUP(C537,Kode!A2:D1008,4,FALSE)","v":{"$error":"#N/A"}},null,null,null,null,null,null,null,null,null,{"$f":"VLOOKUP(C537,Kode!A2:E1008,5,FALSE)","v":{"$error":"#N/A"}},null,null,null,null,null,{"$error":"#DIV/0!"}]
[{"$f":"VLOOKUP(C538,Kode!A2:C1008,2,FALSE)","v":{"$error":"#N/A"}},{"$f":"VLOOKUP(C538,Kode!A2:C1008,3,FALSE)","v":{"$error":"#N/A"}},null,{"$f":"VLOOKUP(C538,Kode!A2:D1008,4,FALSE)","v":{"$error":"#N/A"}},null,null,null,null,null,null,null,null,null,{"$f":"VLOOKUP(C538,Kode!A2:E1008,5,FALSE)","v":{"$error":"#N/A"}},null,null,null,null,null,{"$error":"#DIV/0!"}]
[{"$f":"VLOOKUP(C539,Kode!A2:C1008,2,FALSE)","v":{"$error":"#N/A"}},{"$f":"VLOOKUP(C539,Kode!A2:C1008,3,FALSE)","v":{"$error":"#N/A"}},null,{"$f":"VLOOKUP(C539,Kode!A2:D1008,4,FALSE)","v":{"$error":"#N/A"}},null,null,null,null,null,null,null,null,null,{"$f":"VLOOKUP(C539,Kode!A2:E1008,5,FALSE)","v":{"$error":"#N/A"}},null,null,null,null,null,{"$error":"#DIV/0!"}]
[{"$f":"VLOOKUP(C540,Kode!A2:C1008,2,FALSE)","v":{"$error":"#N/A"}},{"$f":"VLOOKUP(C540,Kode!A2:C1008,3,FALSE)","v":{"$error":"#N/A"}},null,{"$f":"VLOOKUP(C540,Kode!A2:D1008,4,FALSE)","v":{"$error":"#N/A"}},null,null,null,null,null,null,null,null,null,{"$f":"VLOOKUP(C540,Kode!A2:E1008,5,FALSE)","v":{"$error":"#N/A"}},null,null,null,null,null,{"$error":"#DIV/0!"}]
[{"$f":"VLOOKUP(C541,Kode!A2:C1008,2,FALSE)","v":{"$error":"#N/A"}},{"$f":"VLOOKUP(C541,Kode!A2:C1008,3,FALSE)","v":{"$error":"#N/A"}},null,{"$f":"VLOOKUP(C541,Kode!A2:D1008,4,FALSE)","v":{"$error":"#N/A"}},null,null,null,null,null,null,null,null,null,{"$f":"VLOOKUP(C541,Kode!A2:E1008,5,FALSE)","v":{"$error":"#N/A"}},null,null,null,null,null,{"$error":"#DIV/0!"}]
[{"$f":"VLOOKUP(C542,Kode!A2:C1008,2,FALSE)","v":{"$error":"#N/A"}},{"$f":"VLOOKUP(C542,Kode!A2:C1008,3,FALSE)","v":{"$error":"#N/A"}},null,{"$f":"VLOOKUP(C542,Kode!A2:D1008,4,FALSE)","v":{"$error":"#N/A"}},null,null,null,null,null,null,null,null,null,{"$f":"VLOOKUP(C542,Kode!A2:E1008,5,FALSE)","v":{"$error":"#N/A"}},null,null,null,null,null,{"$error":"#DIV/0!"}]
[{"$f":"VLOOKUP(C543,Kode!A2:C1008,2,FALSE)","v":{"$error":"#N/A"}},{"$f":"VLOOKUP(C543,Kode!A2:C1008,3,FALSE)","v":{"$error":"#N/A"}},null,{"$f":"VLOOKUP(C543,Kode!A2:D1008,4,FALSE)","v":{"$error":"#N/A"}},null,null,null,null,null,null,null,null,null,{"$f":"VLOOKUP(C543,Kode!A2:E1008,5,FALSE)","v":{"$error":"#N/A"}},null,null,null,null,null,{"$error":"#DIV/0!"}]
[{"$f":"VLOOKUP(C544,Kode!A2:C1008,2,FALSE)","v":{"$error":"#N/A"}},{"$f":"VLOOKUP(C544,Kode!A2:C1008,3,FALSE)","v":{"$error":"#N/A"}},null,{"$f":"VLOOKUP(C544,Kode!A2:D1008,4,FALSE)","v":{"$error":"#N/A"}},null,null,null,null,null,null,null,null,null,{"$f":"VLOOKUP(C544,Kode!A2:E1008,5,FALSE)","v":{"$error":"#N/A"}},null,null,null,null,null,{"$error":"#DIV/0!"}]
[{"$f":"VLOOKUP(C545,Kode!A2:C1008,2,FALSE)","v":{"$error":"#N/A"}},{"$f":"VLOOKUP(C545,Kode!A2:C1008,3,FALSE)","v":{"$error":"#N/A"}},null,{"$f":"VLOOKUP(C545,Kode!A2:D1008,4,FALSE)","v":{"$error":"#N/A"}},null,null,null,null,null,null,null,null,null,{"$f":"VLOOKUP(C545,Kode!A2:E1008,5,FALSE)","v":{"$error":"#N/A"}},null,null,null,null,null,{"$error":"#DIV/0!"}]
[{"$f":"VLOOKUP(C546,Kode!A2:C1008,2,FALSE)","v":{"$error":"#N/A"}},{"$f":"VLOOKUP(C546,Kode!A2:C1008,3,FALSE)","v":{"$error":"#N/A"}},null,{"$f":"VLOOKUP(C546,Kode!A2:D1008,4,FALSE)","v":{"$error":"#N/A"}},null,null,null,null,null,null,null,null,null,{"$f":"VLOOKUP(C546,Kode!A2:E1008,5,FALSE)","v":{"$error":"#N/A"}},null,null,null,null,null,{"$error":"#DIV/0!"}]
[{"$f":"VLOOKUP(C547,Kode!A2:C1008,2,FALSE)","v":{"$error":"#N/A"}},{"$f":"VLOOKUP(C547,Kode!A2:C1008,3,FALSE)","v":{"$error":"#N/A"}},null,{"$f":"VLOOKUP(C547,Kode!A2:D1008,4,FALSE)","v":{"$error":"#N/A"}},null,null,null,null,null,null,null,null,null,{"$f":"VLOOKUP(C547,Kode!A2:E1008,5,FALSE)","v":{"$error":"#N/A"}},null,null,null,null,null,{"$error":"#DIV/0!"}]
[{"$f":"VLOOKUP(C548,Kode!A2:C1008,2,FALSE)","v":{"$error":"#N/A"}},{"$f":"VLOOKUP(C548,Kode!A2:C1008,3,FALSE)","v":{"$error":"#N/A"}},null,{"$f":"VLOOKUP(C548,Kode!A2:D1008,4,FALSE)","v":{"$error":"#N/A"}},null,null,null,null,null,null,null,null,null,{"$f":"VLOOKUP(C548,Kode!A2:E1008,5,FALSE)","v":{"$error":"#N/A"}},null,null,null,null,null,{"$error":"#DIV/0!"}]
[{"$f":"VLOOKUP(C549,Kode!A2:C1008,2,FALSE)","v":{"$error":"#N/A"}},{"$f":"VLOOKUP(C549,Kode!A2:C1008,3,FALSE)","v":{"$error":"#N/A"}},null,{"$f":"VLOOKUP(C549,Kode!A2:D1008,4,FALSE)","v":{"$error":"#N/A"}},null,null,null,null,null,null,null,null,null,{"$f":"VLOOKUP(C549,Kode!A2:E1008,5,FALSE)","v":{"$error":"#N/A"}},null,null,null,null,null,{"$error":"#DIV/0!"}]
[{"$f":"VLOOKUP(C550,Kode!A2:C1008,2,FALSE)","v":{"$error":"#N/A"}},{"$f":"VLOOKUP(C550,Kode!A2:C1008,3,FALSE)","v":{"$error":"#N/A"}},null,{"$f":"VLOOKUP(C550,Kode!A2:D1008,4,FALSE)","v":{"$error":"#N/A"}},null,null,null,null,null,null,null,null,null,{"$f":"VLOOKUP(C550,Kode!A2:E1008,5,FALSE)","v":{"$error":"#N/A"}},null,null,null,null,null,{"$error":"#DIV/0!"}]
[{"$f":"VLOOKUP(C551,Kode!A2:C1008,2,FALSE)","v":{"$error":"#N/A"}},{"$f":"VLOOKUP(C551,Kode!A2:C1008,3,FALSE)","v":{"$error":"#N/A"}},null,{"$f":"VLOOKUP(C551,Kode!A2:D1008,4,FALSE)","v":{"$error":"#N/A"}},null,null,null,null,null,null,null,null,null,{"$f":"VLOOKUP(C551,Kode!A2:E1008,5,FALSE)","v":{"$error":"#N/A"}},null,null,null,null,null,{"$error":"#DIV/0!"}]
[{"$f":"VLOOKUP(C552,Kode!A2:C1008,2,FALSE)","v":{"$error":"#N/A"}},{"$f":"VLOOKUP(C552,Kode!A2:C1008,3,FALSE)","v":{"$error":"#N/A"}},null,{"$f":"VLOOKUP(C552,Kode!A2:D1008,4,FALSE)","v":{"$error":"#N/A"}},null,null,null,null,null,null,null,null,null,{"$f":"VLOOKUP(C552,Kode!A2:E1008,5,FALSE)","v":{"$error":"#N/A"}},null,null,null,null,null,{"$error":"#DIV/0!"}]
[{"$f":"VLOOKUP(C553,Kode!A2:C1008,2,FALSE)","v":{"$error":"#N/A"}},{"$f":"VLOOKUP(C553,Kode!A2:C1008,3,FALSE)","v":{"$error":"#N/A"}},null,{"$f":"VLOOKUP(C553,Kode!A2:D1008,4,FALSE)","v":{"$error":"#N/A"}},null,null,null,null,null,null,null,null,null,{"$f":"VLOOKUP(C553,Kode!A2:E1008,5,FALSE)","v":{"$error":"#N/A"}},null,null,null,null,null,{"$error":"#DIV/0!"}]
[{"$f":"VLOOKUP(C554,Kode!A2:C1008,2,FALSE)","v":{"$error":"#N/A"}},{"$f":"VLOOKUP(C554,Kode!A2:C1008,3,FALSE)","v":{"$error":"#N/A"}},null,{"$f":"VLOOKUP(C554,Kode!A2:D1008,4,FALSE)","v":{"$error":"#N/A"}},null,null,null,null,null,null,null,null,null,{"$f":"VLOOKUP(C554,Kode!A2:E1008,5,FALSE)","v":{"$error":"#N/A"}},null,null,null,null,null,{"$error":"#DIV/0!"}]
[{"$f":"VLOOKUP(C555,Kode!A2:C1008,2,FALSE)","v":{"$error":"#N/A"}},{"$f":"VLOOKUP(C555,Kode!A2:C1008,3,FALSE)","v":{"$error":"#N/A"}},null,{"$f":"VLOOKUP(C555,Kode!A2:D1008,4,FALSE)","v":{"$error":"#N/A"}},null,null,null,null,null,null,null,null,null,{"$f":"VLOOKUP(C555,Kode!A2:E1008,5,FALSE)","v":{"$error":"#N/A"}},null,null,null,null,null,{"$error":"#DIV/0!"}]
[{"$f":"VLOOKUP(C556,Kode!A2:C1008,2,FALSE)","v":{"$error":"#N/A"}},{"$f":"VLOOKUP(C556,Kode!A2:C1008,3,FALSE)","v":{"$error":"#N/A"}},null,{"$f":"VLOOKUP(C556,Kode!A2:D1008,4,FALSE)","v":{"$error":"#N/A"}},null,null,null,null,null,null,null,null,null,{"$f":"VLOOKUP(C556,Kode!A2:E1008,5,FALSE)","v":{"$error":"#N/A"}},null,null,null,null,null,{"$error":"#DIV/0!"}]
[{"$f":"VLOOKUP(C557,Kode!A2:C1008,2,FALSE)","v":{"$error":"#N/A"}},{"$f":"VLOOKUP(C557,Kode!A2:C1008,3,FALSE)","v":{"$error":"#N/A"}},null,{"$f":"VLOOKUP(C557,Kode!A2:D1008,4,FALSE)","v":{"$error":"#N/A"}},null,null,null,null,null,null,null,null,null,{"$f":"VLOOKUP(C557,Kode!A2:E1008,5,FALSE)","v":{"$error":"#N/A"}},null,null,null,null,null,{"$error":"#DIV/0!"}]
[{"$f":"VLOOKUP(C558,Kode!A2:C1008,2,FALSE)","v":{"$error":"#N/A"}},{"$f":"VLOOKUP(C558,Kode!A2:C1008,3,FALSE)","v":{"$error":"#N/A"}},null,{"$f":"VLOOKUP(C558,Kode!A2:D1008,4,FALSE)","v":{"$error":"#N/A"}},null,null,null,null,null,null,null,null,null,{"$f":"VLOOKUP(C558,Kode!A2:E1008,5,FALSE)","v":{"$error":"#N/A"}},null,null,null,null,null,{"$error":"#DIV/0!"}]
[{"$f":"VLOOKUP(C559,Kode!A2:C1008,2,FALSE)","v":{"$error":"#N/A"}},{"$f":"VLOOKUP(C559,Kode!A2:C1008,3,FALSE)","v":{"$error":"#N/A"}},null,{"$f":"VLOOKUP(C559,Kode!A2:D1008,4,FALSE)","v":{"$error":"#N/A"}},null,null,null,null,null,null,null,null,null,{"$f":"VLOOKUP(C559,Kode!A2:E1008,5,FALSE)","v":{"$error":"#N/A"}},null,null,null,null,null,{"$error":"#DIV/0!"}]
[{"$f":"VLOOKUP(C560,Kode!A2:C1008,2,FALSE)","v":{"$error":"#N/A"}},{"$f":"VLOOKUP(C560,Kode!A2:C1008,3,FALSE)","v":{"$error":"#N/A"}},null,{"$f":"VLOOKUP(C560,Kode!A2:D1008,4,FALSE)","v":{"$error":"#N/A"}},null,null,null,null,null,null,null,null,null,{"$f":"VLOOKUP(C560,Kode!A2:E1008,5,FALSE)","v":{"$error":"#N/A"}},null,null,null,null,null,{"$error":"#DIV/0!"}]
[{"$f":"VLOOKUP(C561,Kode!A2:C1008,2,FALSE)","v":{"$error":"#N/A"}},{"$f":"VLOOKUP(C561,Kode!A2:C1008,3,FALSE)","v":{"$error":"#N/A"}},null,{"$f":"VLOOKUP(C561,Kode!A2:D1008,4,FALSE)","v":{"$error":"#N/A"}},null,null,null,null,null,null,null,null,null,{"$f":"VLOOKUP(C561,Kode!A2:E1008,5,FALSE)","v":{"$error":"#N/A"}},null,null,null,null,null,{"$error":"#DIV/0!"}]
[{"$f":"VLOOKUP(C562,Kode!A2:C1008,2,FALSE)","v":{"$error":"#N/A"}},{"$f":"VLOOKUP(C562,Kode!A2:C1008,3,FALSE)","v":{"$error":"#N/A"}},null,{"$f":"VLOOKUP(C562,Kode!A2:D1008,4,FALSE)","v":{"$error":"#N/A"}},null,null,null,null,null,null,null,null,null,{"$f":"VLOOKUP(C562,Kode!A2:E1008,5,FALSE)","v":{"$error":"#N/A"}},null,null,null,null,null,{"$error":"#DIV/0!"}]
[{"$f":"VLOOKUP(C563,Kode!A2:C1008,2,FALSE)","v":{"$error":"#N/A"}},{"$f":"VLOOKUP(C563,Kode!A2:C1008,3,FALSE)","v":{"$error":"#N/A"}},null,{"$f":"VLOOKUP(C563,Kode!A2:D1008,4,FALSE)","v":{"$error":"#N/A"}},null,null,null,null,null,null,null,null,null,{"$f":"VLOOKUP(C563,Kode!A2:E1008,5,FALSE)","v":{"$error":"#N/A"}},null,null,null,null,null,{"$error":"#DIV/0!"}]
[{"$f":"VLOOKUP(C564,Kode!A2:C1008,2,FALSE)","v":{"$error":"#N/A"}},{"$f":"VLOOKUP(C564,Kode!A2:C1008,3,FALSE)","v":{"$error":"#N/A"}},null,{"$f":"VLOOKUP(C564,Kode!A2:D1008,4,FALSE)","v":{"$error":"#N/A"}},null,null,null,null,null,null,null,null,null,{"$f":"VLOOKUP(C564,Kode!A2:E1008,5,FALSE)","v":{"$error":"#N/A"}},null,null,null,null,null,{"$error":"#DIV/0!"}]
[{"$f":"VLOOKUP(C565,Kode!A2:C1008,2,FALSE)","v":{"$error":"#N/A"}},{"$f":"VLOOKUP(C565,Kode!A2:C1008,3,FALSE)","v":{"$error":"#N/A"}},null,{"$f":"VLOOKUP(C565,Kode!A2:D1008,4,FALSE)","v":{"$error":"#N/A"}},null,null,null,null,null,null,null,null,null,{"$f":"VLOOKUP(C565,Kode!A2:E1008,5,FALSE)","v":{"$error":"#N/A"}},null,null,null,null,null,{"$error":"#DIV/0!"}]
[{"$f":"VLOOKUP(C566,Kode!A2:C1008,2,FALSE)","v":{"$error":"#N/A"}},{"$f":"VLOOKUP(C566,Kode!A2:C1008,3,FALSE)","v":{"$error":"#N/A"}},null,{"$f":"VLOOKUP(C566,Kode!A2:D1008,4,FALSE)","v":{"$error":"#N/A"}},null,null,null,null,null,null,null,null,null,{"$f":"VLOOKUP(C566,Kode!A2:E1008,5,FALSE)","v":{"$error":"#N/A"}},null,null,null,null,null,{"$error":"#DIV/0!"}]
[{"$f":"VLOOKUP(C567,Kode!A2:C1008,2,FALSE)","v":{"$error":"#N/A"}},{"$f":"VLOOKUP(C567,Kode!A2:C1008,3,FALSE)","v":{"$error":"#N/A"}},null,{"$f":"VLOOKUP(C567,Kode!A2:D1008,4,FALSE)","v":{"$error":"#N/A"}},null,null,null,null,null,null,null,null,null,{"$f":"VLOOKUP(C567,Kode!A2:E1008,5,FALSE)","v":{"$error":"#N/A"}},null,null,null,null,null,{"$error":"#DIV/0!"}]
[{"$f":"VLOOKUP(C568,Kode!A2:C1008,2,FALSE)","v":{"$error":"#N/A"}},{"$f":"VLOOKUP(C568,Kode!A2:C1008,3,FALSE)","v":{"$error":"#N/A"}},null,{"$f":"VLOOKUP(C568,Kode!A2:D1008,4,FALSE)","v":{"$error":"#N/A"}},null,null,null,null,null,null,null,null,null,{"$f":"VLOOKUP(C568,Kode!A2:E1008,5,FALSE)","v":{"$error":"#N/A"}},null,null,null,null,null,{"$error":"#DIV/0!"}]
[{"$f":"VLOOKUP(C569,Kode!A2:C1008,2,FALSE)","v":{"$error":"#N/A"}},{"$f":"VLOOKUP(C569,Kode!A2:C1008,3,FALSE)","v":{"$error":"#N/A"}},null,{"$f":"VLOOKUP(C569,Kode!A2:D1008,4,FALSE)","v":{"$error":"#N/A"}},null,null,null,null,null,null,null,null,null,{"$f":"VLOOKUP(C569,Kode!A2:E1008,5,FALSE)","v":{"$error":"#N/A"}},null,null,null,null,null,{"$error":"#DIV/0!"}]
[{"$f":"VLOOKUP(C570,Kode!A2:C1008,2,FALSE)","v":{"$error":"#N/A"}},{"$f":"VLOOKUP(C570,Kode!A2:C1008,3,FALSE)","v":{"$error":"#N/A"}},null,{"$f":"VLOOKUP(C570,Kode!A2:D1008,4,FALSE)","v":{"$error":"#N/A"}},null,null,null,null,null,null,null,null,null,{"$f":"VLOOKUP(C570,Kode!A2:E1008,5,FALSE)","v":{"$error":"#N/A"}},null,null,null,null,null,{"$error":"#DIV/0!"}]
[{"$f":"VLOOKUP(C571,Kode!A2:C1008,2,FALSE)","v":{"$error":"#N/A"}},{"$f":"VLOOKUP(C571,Kode!A2:C1008,3,FALSE)","v":{"$error":"#N/A"}},null,{"$f":"VLOOKUP(C571,Kode!A2:D1008,4,FALSE)","v":{"$error":"#N/A"}},null,null,null,null,null,null,null,null,null,{"$f":"VLOOKUP(C571,Kode!A2:E1008,5,FALSE)","v":{"$error":"#N/A"}},null,null,null,null,null,{"$error":"#DIV/0!"}]
[{"$f":"VLOOKUP(C572,Kode!A2:C1008,2,FALSE)","v":{"$error":"#N/A"}},{"$f":"VLOOKUP(C572,Kode!A2:C1008,3,FALSE)","v":{"$error":"#N/A"}},null,{"$f":"VLOOKUP(C572,Kode!A2:D1008,4,FALSE)","v":{"$error":"#N/A"}},null,null,null,null,null,null,null,null,null,{"$f":"VLOOKUP(C572,Kode!A2:E1008,5,FALSE)","v":{"$error":"#N/A"}},null,null,null,null,null,{"$error":"#DIV/0!"}]
[{"$f":"VLOOKUP(C573,Kode!A2:C1008,2,FALSE)","v":{"$error":"#N/A"}},{"$f":"VLOOKUP(C573,Kode!A2:C1008,3,FALSE)","v":{"$error":"#N/A"}},null,{"$f":"VLOOKUP(C573,Kode!A2:D1008,4,FALSE)","v":{"$error":"#N/A"}},null,null,null,null,null,null,null,null,null,{"$f":"VLOOKUP(C573,Kode!A2:E1008,5,FALSE)","v":{"$error":"#N/A"}},null,null,null,null,null,{"$error":"#DIV/0!"}]
[{"$f":"VLOOKUP(C574,Kode!A2:C1008,2,FALSE)","v":{"$error":"#N/A"}},{"$f":"VLOOKUP(C574,Kode!A2:C1008,3,FALSE)","v":{"$error":"#N/A"}},null,{"$f":"VLOOKUP(C574,Kode!A2:D1008,4,FALSE)","v":{"$error":"#N/A"}},null,null,null,null,null,null,null,null,null,{"$f":"VLOOKUP(C574,Kode!A2:E1008,5,FALSE)","v":{"$error":"#N/A"}},null,null,null,null,null,{"$error":"#DIV/0!"}]
[{"$f":"VLOOKUP(C575,Kode!A2:C1008,2,FALSE)","v":{"$error":"#N/A"}},{"$f":"VLOOKUP(C575,Kode!A2:C1008,3,FALSE)","v":{"$error":"#N/A"}},null,{"$f":"VLOOKUP(C575,Kode!A2:D1008,4,FALSE)","v":{"$error":"#N/A"}},null,null,null,null,null,null,null,null,null,{"$f":"VLOOKUP(C575,Kode!A2:E1008,5,FALSE)","v":{"$error":"#N/A"}},null,null,null,null,null,{"$error":"#DIV/0!"}]
[{"$f":"VLOOKUP(C576,Kode!A2:C1008,2,FALSE)","v":{"$error":"#N/A"}},{"$f":"VLOOKUP(C576,Kode!A2:C1008,3,FALSE)","v":{"$error":"#N/A"}},null,{"$f":"VLOOKUP(C576,Kode!A2:D1008,4,FALSE)","v":{"$error":"#N/A"}},null,null,null,null,null,null,null,null,null,{"$f":"VLOOKUP(C576,Kode!A2:E1008,5,FALSE)","v":{"$error":"#N/A"}},null,null,null,null,null,{"$error":"#DIV/0!"}]
[{"$f":"VLOOKUP(C577,Kode!A2:C1008,2,FALSE)","v":{"$error":"#N/A"}},{"$f":"VLOOKUP(C577,Kode!A2:C1008,3,FALSE)","v":{"$error":"#N/A"}},null,{"$f":"VLOOKUP(C577,Kode!A2:D1008,4,FALSE)","v":{"$error":"#N/A"}},null,null,null,null,null,null,null,null,null,{"$f":"VLOOKUP(C577,Kode!A2:E1008,5,FALSE)","v":{"$error":"#N/A"}},null,null,null,null,null,{"$error":"#DIV/0!"}]
[{"$f":"VLOOKUP(C578,Kode!A2:C1008,2,FALSE)","v":{"$error":"#N/A"}},{"$f":"VLOOKUP(C578,Kode!A2:C1008,3,FALSE)","v":{"$error":"#N/A"}},null,{"$f":"VLOOKUP(C578,Kode!A2:D1008,4,FALSE)","v":{"$error":"#N/A"}},null,null,null,null,null,null,null,null,null,{"$f":"VLOOKUP(C578,Kode!A2:E1008,5,FALSE)","v":{"$error":"#N/A"}},null,null,null,null,null,{"$f":"R578/P578*100","v":{"$error":"#DIV/0!"}}]
[{"$f":"VLOOKUP(C579,Kode!A2:C1008,2,FALSE)","v":{"$error":"#N/A"}},{"$f":"VLOOKUP(C579,Kode!A2:C1008,3,FALSE)","v":{"$error":"#N/A"}},null,{"$f":"VLOOKUP(C579,Kode!A2:D1008,4,FALSE)","v":{"$error":"#N/A"}},null,null,null,null,null,null,null,null,null,{"$f":"VLOOKUP(C579,Kode!A2:E1008,5,FALSE)","v":{"$error":"#N/A"}},null,null,null,null,null,{"$error":"#DIV/0!"}]
[{"$f":"VLOOKUP(C580,Kode!A2:C1008,2,FALSE)","v":{"$error":"#N/A"}},{"$f":"VLOOKUP(C580,Kode!A2:C1008,3,FALSE)","v":{"$error":"#N/A"}},null,{"$f":"VLOOKUP(C580,Kode!A2:D1008,4,FALSE)","v":{"$error":"#N/A"}},null,null,null,null,null,null,null,null,null,{"$f":"VLOOKUP(C580,Kode!A2:E1008,5,FALSE)","v":{"$error":"#N/A"}},null,null,null,null,null,{"$error":"#DIV/0!"}]
[{"$f":"VLOOKUP(C581,Kode!A2:C1008,2,FALSE)","v":{"$error":"#N/A"}},{"$f":"VLOOKUP(C581,Kode!A2:C1008,3,FALSE)","v":{"$error":"#N/A"}},null,{"$f":"VLOOKUP(C581,Kode!A2:D1008,4,FALSE)","v":{"$error":"#N/A"}},null,null,null,null,null,null,null,null,null,{"$f":"VLOOKUP(C581,Kode!A2:E1008,5,FALSE)","v":{"$error":"#N/A"}},null,null,null,null,null,{"$error":"#DIV/0!"}]
[{"$f":"VLOOKUP(C582,Kode!A2:C1008,2,FALSE)","v":{"$error":"#N/A"}},{"$f":"VLOOKUP(C582,Kode!A2:C1008,3,FALSE)","v":{"$error":"#N/A"}},null,{"$f":"VLOOKUP(C582,Kode!A2:D1008,4,FALSE)","v":{"$error":"#N/A"}},null,null,null,null,null,null,null,null,null,{"$f":"VLOOKUP(C582,Kode!A2:E1008,5,FALSE)","v":{"$error":"#N/A"}},null,null,null,null,null,{"$error":"#DIV/0!"}]
[{"$f":"VLOOKUP(C583,Kode!A2:C1008,2,FALSE)","v":{"$error":"#N/A"}},{"$f":"VLOOKUP(C583,Kode!A2:C1008,3,FALSE)","v":{"$error":"#N/A"}},null,{"$f":"VLOOKUP(C583,Kode!A2:D1008,4,FALSE)","v":{"$error":"#N/A"}},null,null,null,null,null,null,null,null,null,{"$f":"VLOOKUP(C583,Kode!A2:E1008,5,FALSE)","v":{"$error":"#N/A"}},null,null,null,null,null,{"$error":"#DIV/0!"}]
[{"$f":"VLOOKUP(C584,Kode!A2:C1008,2,FALSE)","v":{"$error":"#N/A"}},{"$f":"VLOOKUP(C584,Kode!A2:C1008,3,FALSE)","v":{"$error":"#N/A"}},null,{"$f":"VLOOKUP(C584,Kode!A2:D1008,4,FALSE)","v":{"$error":"#N/A"}},null,null,null,null,null,null,null,null,null,{"$f":"VLOOKUP(C584,Kode!A2:E1008,5,FALSE)","v":{"$error":"#N/A"}},null,null,null,null,null,{"$error":"#DIV/0!"}]
[{"$f":"VLOOKUP(C585,Kode!A2:C1008,2,FALSE)","v":{"$error":"#N/A"}},{"$f":"VLOOKUP(C585,Kode!A2:C1008,3,FALSE)","v":{"$error":"#N/A"}},null,{"$f":"VLOOKUP(C585,Kode!A2:D1008,4,FALSE)","v":{"$error":"#N/A"}},null,null,null,null,null,null,null,null,null,{"$f":"VLOOKUP(C585,Kode!A2:E1008,5,FALSE)","v":{"$error":"#N/A"}},null,null,null,null,null,{"$error":"#DIV/0!"}]
[{"$f":"VLOOKUP(C586,Kode!A2:C1008,2,FALSE)","v":{"$error":"#N/A"}},{"$f":"VLOOKUP(C586,Kode!A2:C1008,3,FALSE)","v":{"$error":"#N/A"}},null,{"$f":"VLOOKUP(C586,Kode!A2:D1008,4,FALSE)","v":{"$error":"#N/A"}},null,null,null,null,null,null,null,null,null,{"$f":"VLOOKUP(C586,Kode!A2:E1008,5,FALSE)","v":{"$error":"#N/A"}},null,null,null,null,null,{"$error":"#DIV/0!"}]
[{"$f":"VLOOKUP(C587,Kode!A2:C1008,2,FALSE)","v":{"$error":"#N/A"}},{"$f":"VLOOKUP(C587,Kode!A2:C1008,3,FALSE)","v":{"$error":"#N/A"}},null,{"$f":"VLOOKUP(C587,Kode!A2:D1008,4,FALSE)","v":{"$error":"#N/A"}},null,null,null,null,null,null,null,null,null,{"$f":"VLOOKUP(C587,Kode!A2:E1008,5,FALSE)","v":{"$error":"#N/A"}},null,null,null,null,null,{"$error":"#DIV/0!"}]
[{"$f":"VLOOKUP(C588,Kode!A2:C1008,2,FALSE)","v":{"$error":"#N/A"}},{"$f":"VLOOKUP(C588,Kode!A2:C1008,3,FALSE)","v":{"$error":"#N/A"}},null,{"$f":"VLOOKUP(C588,Kode!A2:D1008,4,FALSE)","v":{"$error":"#N/A"}},null,null,null,null,null,null,null,null,null,{"$f":"VLOOKUP(C588,Kode!A2:E1008,5,FALSE)","v":{"$error":"#N/A"}},null,null,null,null,null,{"$error":"#DIV/0!"}]
[{"$f":"VLOOKUP(C589,Kode!A2:C1008,2,FALSE)","v":{"$error":"#N/A"}},{"$f":"VLOOKUP(C589,Kode!A2:C1008,3,FALSE)","v":{"$error":"#N/A"}},null,{"$f":"VLOOKUP(C589,Kode!A2:D1008,4,FALSE)","v":{"$error":"#N/A"}},null,null,null,null,null,null,null,null,null,{"$f":"VLOOKUP(C589,Kode!A2:E1008,5,FALSE)","v":{"$error":"#N/A"}},null,null,null,null,null,{"$error":"#DIV/0!"}]
[{"$f":"VLOOKUP(C590,Kode!A2:C1008,2,FALSE)","v":{"$error":"#N/A"}},{"$f":"VLOOKUP(C590,Kode!A2:C1008,3,FALSE)","v":{"$error":"#N/A"}},null,{"$f":"VLOOKUP(C590,Kode!A2:D1008,4,FALSE)","v":{"$error":"#N/A"}},null,null,null,null,null,null,null,null,null,{"$f":"VLOOKUP(C590,Kode!A2:E1008,5,FALSE)","v":{"$error":"#N/A"}},null,null,null,null,null,{"$error":"#DIV/0!"}]
[{"$f":"VLOOKUP(C591,Kode!A2:C1008,2,FALSE)","v":{"$error":"#N/A"}},{"$f":"VLOOKUP(C591,Kode!A2:C1008,3,FALSE)","v":{"$error":"#N/A"}},null,{"$f":"VLOOKUP(C591,Kode!A2:D1008,4,FALSE)","v":{"$error":"#N/A"}},null,null,null,null,null,null,null,null,null,{"$f":"VLOOKUP(C591,Kode!A2:E1008,5,FALSE)","v":{"$error":"#N/A"}},null,null,null,null,null,{"$error":"#DIV/0!"}]
[{"$f":"VLOOKUP(C592,Kode!A2:C1008,2,FALSE)","v":{"$error":"#N/A"}},{"$f":"VLOOKUP(C592,Kode!A2:C1008,3,FALSE)","v":{"$error":"#N/A"}},null,{"$f":"VLOOKUP(C592,Kode!A2:D1008,4,FALSE)","v":{"$error":"#N/A"}},null,null,null,null,null,null,null,null,null,{"$f":"VLOOKUP(C592,Kode!A2:E1008,5,FALSE)","v":{"$error":"#N/A"}},null,null,null,null,null,{"$error":"#DIV/0!"}]
[{"$f":"VLOOKUP(C593,Kode!A2:C1008,2,FALSE)","v":{"$error":"#N/A"}},{"$f":"VLOOKUP(C593,Kode!A2:C1008,3,FALSE)","v":{"$error":"#N/A"}},null,{"$f":"VLOOKUP(C593,Kode!A2:D1008,4,FALSE)","v":{"$error":"#N/A"}},null,null,null,null,null,null,null,null,null,{"$f":"VLOOKUP(C593,Kode!A2:E1008,5,FALSE)","v":{"$error":"#N/A"}},null,null,null,null,null,{"$error":"#DIV/0!"}]
[{"$f":"VLOOKUP(C594,Kode!A2:C1008,2,FALSE)","v":{"$error":"#N/A"}},{"$f":"VLOOKUP(C594,Kode!A2:C1008,3,FALSE)","v":{"$error":"#N/A"}},null,{"$f":"VLOOKUP(C594,Kode!A2:D1008,4,FALSE)","v":{"$error":"#N/A"}},null,null,null,null,null,null,null,null,null,{"$f":"VLOOKUP(C594,Kode!A2:E1008,5,FALSE)","v":{"$error":"#N/A"}},null,null,null,null,null,{"$error":"#DIV/0!"}]
[{"$f":"VLOOKUP(C595,Kode!A2:C1008,2,FALSE)","v":{"$error":"#N/A"}},{"$f":"VLOOKUP(C595,Kode!A2:C1008,3,FALSE)","v":{"$error":"#N/A"}},null,{"$f":"VLOOKUP(C595,Kode!A2:D1008,4,FALSE)","v":{"$error":"#N/A"}},null,null,null,null,null,null,null,null,null,{"$f":"VLOOKUP(C595,Kode!A2:E1008,5,FALSE)","v":{"$error":"#N/A"}},null,null,null,null,null,{"$error":"#DIV/0!"}]
[{"$f":"VLOOKUP(C596,Kode!A2:C1008,2,FALSE)","v":{"$error":"#N/A"}},{"$f":"VLOOKUP(C596,Kode!A2:C1008,3,FALSE)","v":{"$error":"#N/A"}},null,{"$f":"VLOOKUP(C596,Kode!A2:D1008,4,FALSE)","v":{"$error":"#N/A"}},null,null,null,null,null,null,null,null,null,{"$f":"VLOOKUP(C596,Kode!A2:E1008,5,FALSE)","v":{"$error":"#N/A"}},null,null,null,null,null,{"$error":"#DIV/0!"}]
[{"$f":"VLOOKUP(C597,Kode!A2:C1008,2,FALSE)","v":{"$error":"#N/A"}},{"$f":"VLOOKUP(C597,Kode!A2:C1008,3,FALSE)","v":{"$error":"#N/A"}},null,{"$f":"VLOOKUP(C597,Kode!A2:D1008,4,FALSE)","v":{"$error":"#N/A"}},null,null,null,null,null,null,null,null,null,{"$f":"VLOOKUP(C597,Kode!A2:E1008,5,FALSE)","v":{"$error":"#N/A"}},null,null,null,null,null,{"$error":"#DIV/0!"}]
[{"$f":"VLOOKUP(C598,Kode!A2:C1008,2,FALSE)","v":{"$error":"#N/A"}},{"$f":"VLOOKUP(C598,Kode!A2:C1008,3,FALSE)","v":{"$error":"#N/A"}},null,{"$f":"VLOOKUP(C598,Kode!A2:D1008,4,FALSE)","v":{"$error":"#N/A"}},null,null,null,null,null,null,null,null,null,{"$f":"VLOOKUP(C598,Kode!A2:E1008,5,FALSE)","v":{"$error":"#N/A"}},null,null,null,null,null,{"$error":"#DIV/0!"}]
[{"$f":"VLOOKUP(C599,Kode!A2:C1008,2,FALSE)","v":{"$error":"#N/A"}},{"$f":"VLOOKUP(C599,Kode!A2:C1008,3,FALSE)","v":{"$error":"#N/A"}},null,{"$f":"VLOOKUP(C599,Kode!A2:D1008,4,FALSE)","v":{"$error":"#N/A"}},null,null,null,null,null,null,null,null,null,{"$f":"VLOOKUP(C599,Kode!A2:E1008,5,FALSE)","v":{"$error":"#N/A"}},null,null,null,null,null,{"$error":"#DIV/0!"}]
[{"$f":"VLOOKUP(C600,Kode!A2:C1008,2,FALSE)","v":{"$error":"#N/A"}},{"$f":"VLOOKUP(C600,Kode!A2:C1008,3,FALSE)","v":{"$error":"#N/A"}},null,{"$f":"VLOOKUP(C600,Kode!A2:D1008,4,FALSE)","v":{"$error":"#N/A"}},null,null,null,null,null,null,null,null,null,{"$f":"VLOOKUP(C600,Kode!A2:E1008,5,FALSE)","v":{"$error":"#N/A"}},null,null,null,null,null,{"$error":"#DIV/0!"}]
[{"$f":"VLOOKUP(C601,Kode!A2:C1008,2,FALSE)","v":{"$error":"#N/A"}},{"$f":"VLOOKUP(C601,Kode!A2:C1008,3,FALSE)","v":{"$error":"#N/A"}},null,{"$f":"VLOOKUP(C601,Kode!A2:D1008,4,FALSE)","v":{"$error":"#N/A"}},null,null,null,null,null,null,null,null,null,{"$f":"VLOOKUP(C601,Kode!A2:E1008,5,FALSE)","v":{"$error":"#N/A"}},null,null,null,null,null,{"$error":"#DIV/0!"}]
[{"$f":"VLOOKUP(C602,Kode!A2:C1008,2,FALSE)","v":{"$error":"#N/A"}},{"$f":"VLOOKUP(C602,Kode!A2:C1008,3,FALSE)","v":{"$error":"#N/A"}},null,{"$f":"VLOOKUP(C602,Kode!A2:D1008,4,FALSE)","v":{"$error":"#N/A"}},null,null,null,null,null,null,null,null,null,{"$f":"VLOOKUP(C602,Kode!A2:E1008,5,FALSE)","v":{"$error":"#N/A"}},null,null,null,null,null,{"$error":"#DIV/0!"}]
[{"$f":"VLOOKUP(C603,Kode!A2:C1008,2,FALSE)","v":{"$error":"#N/A"}},{"$f":"VLOOKUP(C603,Kode!A2:C1008,3,FALSE)","v":{"$error":"#N/A"}},null,{"$f":"VLOOKUP(C603,Kode!A2:D1008,4,FALSE)","v":{"$error":"#N/A"}},null,null,null,null,null,null,null,null,null,{"$f":"VLOOKUP(C603,Kode!A2:E1008,5,FALSE)","v":{"$error":"#N/A"}},null,null,null,null,null,{"$error":"#DIV/0!"}]
[{"$f":"VLOOKUP(C604,Kode!A2:C1008,2,FALSE)","v":{"$error":"#N/A"}},{"$f":"VLOOKUP(C604,Kode!A2:C1008,3,FALSE)","v":{"$error":"#N/A"}},null,{"$f":"VLOOKUP(C604,Kode!A2:D1008,4,FALSE)","v":{"$error":"#N/A"}},null,null,null,null,null,null,null,null,null,{"$f":"VLOOKUP(C604,Kode!A2:E1008,5,FALSE)","v":{"$error":"#N/A"}},null,null,null,null,null,{"$error":"#DIV/0!"}]
[{"$f":"VLOOKUP(C605,Kode!A2:C1008,2,FALSE)","v":{"$error":"#N/A"}},{"$f":"VLOOKUP(C605,Kode!A2:C1008,3,FALSE)","v":{"$error":"#N/A"}},null,{"$f":"VLOOKUP(C605,Kode!A2:D1008,4,FALSE)","v":{"$error":"#N/A"}},null,null,null,null,null,null,null,null,null,{"$f":"VLOOKUP(C605,Kode!A2:E1008,5,FALSE)","v":{"$error":"#N/A"}},null,null,null,null,null,{"$error":"#DIV/0!"}]
[{"$f":"VLOOKUP(C606,Kode!A2:C1008,2,FALSE)","v":{"$error":"#N/A"}},{"$f":"VLOOKUP(C606,Kode!A2:C1008,3,FALSE)","v":{"$error":"#N/A"}},null,{"$f":"VLOOKUP(C606,Kode!A2:D1008,4,FALSE)","v":{"$error":"#N/A"}},null,null,null,null,null,null,null,null,null,{"$f":"VLOOKUP(C606,Kode!A2:E1008,5,FALSE)","v":{"$error":"#N/A"}},null,null,null,null,null,{"$error":"#DIV/0!"}]
[{"$f":"VLOOKUP(C607,Kode!A2:C1008,2,FALSE)","v":{"$error":"#N/A"}},{"$f":"VLOOKUP(C607,Kode!A2:C1008,3,FALSE)","v":{"$error":"#N/A"}},null,{"$f":"VLOOKUP(C607,Kode!A2:D1008,4,FALSE)","v":{"$error":"#N/A"}},null,null,null,null,null,null,null,null,null,{"$f":"VLOOKUP(C607,Kode!A2:E1008,5,FALSE)","v":{"$error":"#N/A"}},null,null,null,null,null,{"$error":"#DIV/0!"}]
[{"$f":"VLOOKUP(C608,Kode!A2:C1008,2,FALSE)","v":{"$error":"#N/A"}},{"$f":"VLOOKUP(C608,Kode!A2:C1008,3,FALSE)","v":{"$error":"#N/A"}},null,{"$f":"VLOOKUP(C608,Kode!A2:D1008,4,FALSE)","v":{"$error":"#N/A"}},null,null,null,null,null,null,null,null,null,{"$f":"VLOOKUP(C608,Kode!A2:E1008,5,FALSE)","v":{"$error":"#N/A"}},null,null,null,null,null,{"$error":"#DIV/0!"}]
[{"$f":"VLOOKUP(C609,Kode!A2:C1008,2,FALSE)","v":{"$error":"#N/A"}},{"$f":"VLOOKUP(C609,Kode!A2:C1008,3,FALSE)","v":{"$error":"#N/A"}},null,{"$f":"VLOOKUP(C609,Kode!A2:D1008,4,FALSE)","v":{"$error":"#N/A"}},null,null,null,null,null,null,null,null,null,{"$f":"VLOOKUP(C609,Kode!A2:E1008,5,FALSE)","v":{"$error":"#N/A"}},null,null,null,null,null,{"$error":"#DIV/0!"}]
[{"$f":"VLOOKUP(C610,Kode!A2:C1008,2,FALSE)","v":{"$error":"#N/A"}},{"$f":"VLOOKUP(C610,Kode!A2:C1008,3,FALSE)","v":{"$error":"#N/A"}},null,{"$f":"VLOOKUP(C610,Kode!A2:D1008,4,FALSE)","v":{"$error":"#N/A"}},null,null,null,null,null,null,null,null,null,{"$f":"VLOOKUP(C610,Kode!A2:E1008,5,FALSE)","v":{"$error":"#N/A"}},null,null,null,null,null,{"$error":"#DIV/0!"}]
[{"$f":"VLOOKUP(C611,Kode!A2:C1008,2,FALSE)","v":{"$error":"#N/A"}},{"$f":"VLOOKUP(C611,Kode!A2:C1008,3,FALSE)","v":{"$error":"#N/A"}},null,{"$f":"VLOOKUP(C611,Kode!A2:D1008,4,FALSE)","v":{"$error":"#N/A"}},null,null,null,null,null,null,null,null,null,{"$f":"VLOOKUP(C611,Kode!A2:E1008,5,FALSE)","v":{"$error":"#N/A"}},null,null,null,null,null,{"$error":"#DIV/0!"}]
[{"$f":"VLOOKUP(C612,Kode!A2:C1008,2,FALSE)","v":{"$error":"#N/A"}},{"$f":"VLOOKUP(C612,Kode!A2:C1008,3,FALSE)","v":{"$error":"#N/A"}},null,{"$f":"VLOOKUP(C612,Kode!A2:D1008,4,FALSE)","v":{"$error":"#N/A"}},null,null,null,null,null,null,null,null,null,{"$f":"VLOOKUP(C612,Kode!A2:E1008,5,FALSE)","v":{"$error":"#N/A"}},null,null,null,null,null,{"$error":"#DIV/0!"}]
[{"$f":"VLOOKUP(C613,Kode!A2:C1008,2,FALSE)","v":{"$error":"#N/A"}},{"$f":"VLOOKUP(C613,Kode!A2:C1008,3,FALSE)","v":{"$error":"#N/A"}},null,{"$f":"VLOOKUP(C613,Kode!A2:D1008,4,FALSE)","v":{"$error":"#N/A"}},null,null,null,null,null,null,null,null,null,{"$f":"VLOOKUP(C613,Kode!A2:E1008,5,FALSE)","v":{"$error":"#N/A"}},null,null,null,null,null,{"$error":"#DIV/0!"}]
[{"$f":"VLOOKUP(C614,Kode!A2:C1008,2,FALSE)","v":{"$error":"#N/A"}},{"$f":"VLOOKUP(C614,Kode!A2:C1008,3,FALSE)","v":{"$error":"#N/A"}},null,{"$f":"VLOOKUP(C614,Kode!A2:D1008,4,FALSE)","v":{"$error":"#N/A"}},null,null,null,null,null,null,null,null,null,{"$f":"VLOOKUP(C614,Kode!A2:E1008,5,FALSE)","v":{"$error":"#N/A"}},null,null,null,null,null,{"$error":"#DIV/0!"}]
[{"$f":"VLOOKUP(C615,Kode!A2:C1008,2,FALSE)","v":{"$error":"#N/A"}},{"$f":"VLOOKUP(C615,Kode!A2:C1008,3,FALSE)","v":{"$error":"#N/A"}},null,{"$f":"VLOOKUP(C615,Kode!A2:D1008,4,FALSE)","v":{"$error":"#N/A"}},null,null,null,null,null,null,null,null,null,{"$f":"VLOOKUP(C615,Kode!A2:E1008,5,FALSE)","v":{"$error":"#N/A"}},null,null,null,null,null,{"$error":"#DIV/0!"}]
[{"$f":"VLOOKUP(C616,Kode!A2:C1008,2,FALSE)","v":{"$error":"#N/A"}},{"$f":"VLOOKUP(C616,Kode!A2:C1008,3,FALSE)","v":{"$error":"#N/A"}},null,{"$f":"VLOOKUP(C616,Kode!A2:D1008,4,FALSE)","v":{"$error":"#N/A"}},null,null,null,null,null,null,null,null,null,{"$f":"VLOOKUP(C616,Kode!A2:E1008,5,FALSE)","v":{"$error":"#N/A"}},null,null,null,null,null,{"$error":"#DIV/0!"}]
[{"$f":"VLOOKUP(C617,Kode!A2:C1008,2,FALSE)","v":{"$error":"#N/A"}},{"$f":"VLOOKUP(C617,Kode!A2:C1008,3,FALSE)","v":{"$error":"#N/A"}},null,{"$f":"VLOOKUP(C617,Kode!A2:D1008,4,FALSE)","v":{"$error":"#N/A"}},null,null,null,null,null,null,null,null,null,{"$f":"VLOOKUP(C617,Kode!A2:E1008,5,FALSE)","v":{"$error":"#N/A"}},null,null,null,null,null,{"$error":"#DIV/0!"}]
[{"$f":"VLOOKUP(C618,Kode!A2:C1008,2,FALSE)","v":{"$error":"#N/A"}},{"$f":"VLOOKUP(C618,Kode!A2:C1008,3,FALSE)","v":{"$error":"#N/A"}},null,{"$f":"VLOOKUP(C618,Kode!A2:D1008,4,FALSE)","v":{"$error":"#N/A"}},null,null,null,null,null,null,null,null,null,{"$f":"VLOOKUP(C618,Kode!A2:E1008,5,FALSE)","v":{"$error":"#N/A"}},null,null,null,null,null,{"$error":"#DIV/0!"}]
[{"$f":"VLOOKUP(C619,Kode!A2:C1008,2,FALSE)","v":{"$error":"#N/A"}},{"$f":"VLOOKUP(C619,Kode!A2:C1008,3,FALSE)","v":{"$error":"#N/A"}},null,{"$f":"VLOOKUP(C619,Kode!A2:D1008,4,FALSE)","v":{"$error":"#N/A"}},null,null,null,null,null,null,null,null,null,{"$f":"VLOOKUP(C619,Kode!A2:E1008,5,FALSE)","v":{"$error":"#N/A"}},null,null,null,null,null,{"$error":"#DIV/0!"}]
[{"$f":"VLOOKUP(C620,Kode!A2:C1008,2,FALSE)","v":{"$error":"#N/A"}},{"$f":"VLOOKUP(C620,Kode!A2:C1008,3,FALSE)","v":{"$error":"#N/A"}},null,{"$f":"VLOOKUP(C620,Kode!A2:D1008,4,FALSE)","v":{"$error":"#N/A"}},null,null,null,null,null,null,null,null,null,{"$f":"VLOOKUP(C620,Kode!A2:E1008,5,FALSE)","v":{"$error":"#N/A"}},null,null,null,null,null,{"$error":"#DIV/0!"}]
[{"$f":"VLOOKUP(C621,Kode!A2:C1008,2,FALSE)","v":{"$error":"#N/A"}},{"$f":"VLOOKUP(C621,Kode!A2:C1008,3,FALSE)","v":{"$error":"#N/A"}},null,{"$f":"VLOOKUP(C621,Kode!A2:D1008,4,FALSE)","v":{"$error":"#N/A"}},null,null,null,null,null,null,null,null,null,{"$f":"VLOOKUP(C621,Kode!A2:E1008,5,FALSE)","v":{"$error":"#N/A"}},null,null,null,null,null,{"$error":"#DIV/0!"}]
[{"$f":"VLOOKUP(C622,Kode!A2:C1008,2,FALSE)","v":{"$error":"#N/A"}},{"$f":"VLOOKUP(C622,Kode!A2:C1008,3,FALSE)","v":{"$error":"#N/A"}},null,{"$f":"VLOOKUP(C622,Kode!A2:D1008,4,FALSE)","v":{"$error":"#N/A"}},null,null,null,null,null,null,null,null,null,{"$f":"VLOOKUP(C622,Kode!A2:E1008,5,FALSE)","v":{"$error":"#N/A"}},null,null,null,null,null,{"$error":"#DIV/0!"}]
[{"$f":"VLOOKUP(C623,Kode!A2:C1008,2,FALSE)","v":{"$error":"#N/A"}},{"$f":"VLOOKUP(C623,Kode!A2:C1008,3,FALSE)","v":{"$error":"#N/A"}},null,{"$f":"VLOOKUP(C623,Kode!A2:D1008,4,FALSE)","v":{"$error":"#N/A"}},null,null,null,null,null,null,null,null,null,{"$f":"VLOOKUP(C623,Kode!A2:E1008,5,FALSE)","v":{"$error":"#N/A"}},null,null,null,null,null,{"$error":"#DIV/0!"}]
[{"$f":"VLOOKUP(C624,Kode!A2:C1008,2,FALSE)","v":{"$error":"#N/A"}},{"$f":"VLOOKUP(C624,Kode!A2:C1008,3,FALSE)","v":{"$error":"#N/A"}},null,{"$f":"VLOOKUP(C624,Kode!A2:D1008,4,FALSE)","v":{"$error":"#N/A"}},null,null,null,null,null,null,null,null,null,{"$f":"VLOOKUP(C624,Kode!A2:E1008,5,FALSE)","v":{"$error":"#N/A"}},null,null,null,null,null,{"$error":"#DIV/0!"}]
[{"$f":"VLOOKUP(C625,Kode!A2:C1008,2,FALSE)","v":{"$error":"#N/A"}},{"$f":"VLOOKUP(C625,Kode!A2:C1008,3,FALSE)","v":{"$error":"#N/A"}},null,{"$f":"VLOOKUP(C625,Kode!A2:D1008,4,FALSE)","v":{"$error":"#N/A"}},null,null,null,null,null,null,null,null,null,{"$f":"VLOOKUP(C625,Kode!A2:E1008,5,FALSE)","v":{"$error":"#N/A"}},null,null,null,null,null,{"$error":"#DIV/0!"}]
[{"$f":"VLOOKUP(C626,Kode!A2:C1008,2,FALSE)","v":{"$error":"#N/A"}},{"$f":"VLOOKUP(C626,Kode!A2:C1008,3,FALSE)","v":{"$error":"#N/A"}},null,{"$f":"VLOOKUP(C626,Kode!A2:D1008,4,FALSE)","v":{"$error":"#N/A"}},null,null,null,null,null,null,null,null,null,{"$f":"VLOOKUP(C626,Kode!A2:E1008,5,FALSE)","v":{"$error":"#N/A"}},null,null,null,null,null,{"$error":"#DIV/0!"}]
[{"$f":"VLOOKUP(C627,Kode!A2:C1008,2,FALSE)","v":{"$error":"#N/A"}},{"$f":"VLOOKUP(C627,Kode!A2:C1008,3,FALSE)","v":{"$error":"#N/A"}},null,{"$f":"VLOOKUP(C627,Kode!A2:D1008,4,FALSE)","v":{"$error":"#N/A"}},null,null,null,null,null,null,null,null,null,{"$f":"VLOOKUP(C627,Kode!A2:E1008,5,FALSE)","v":{"$error":"#N/A"}},null,null,null,null,null,{"$error":"#DIV/0!"}]
[{"$f":"VLOOKUP(C628,Kode!A2:C1008,2,FALSE)","v":{"$error":"#N/A"}},{"$f":"VLOOKUP(C628,Kode!A2:C1008,3,FALSE)","v":{"$error":"#N/A"}},null,{"$f":"VLOOKUP(C628,Kode!A2:D1008,4,FALSE)","v":{"$error":"#N/A"}},null,null,null,null,null,null,null,null,null,{"$f":"VLOOKUP(C628,Kode!A2:E1008,5,FALSE)","v":{"$error":"#N/A"}},null,null,null,null,null,{"$error":"#DIV/0!"}]
[{"$f":"VLOOKUP(C629,Kode!A2:C1008,2,FALSE)","v":{"$error":"#N/A"}},{"$f":"VLOOKUP(C629,Kode!A2:C1008,3,FALSE)","v":{"$error":"#N/A"}},null,{"$f":"VLOOKUP(C629,Kode!A2:D1008,4,FALSE)","v":{"$error":"#N/A"}},null,null,null,null,null,null,null,null,null,{"$f":"VLOOKUP(C629,Kode!A2:E1008,5,FALSE)","v":{"$error":"#N/A"}},null,null,null,null,null,{"$error":"#DIV/0!"}]
[{"$f":"VLOOKUP(C630,Kode!A2:C1008,2,FALSE)","v":{"$error":"#N/A"}},{"$f":"VLOOKUP(C630,Kode!A2:C1008,3,FALSE)","v":{"$error":"#N/A"}},null,{"$f":"VLOOKUP(C630,Kode!A2:D1008,4,FALSE)","v":{"$error":"#N/A"}},null,null,null,null,null,null,null,null,null,{"$f":"VLOOKUP(C630,Kode!A2:E1008,5,FALSE)","v":{"$error":"#N/A"}},null,null,null,null,null,{"$error":"#DIV/0!"}]
[{"$f":"VLOOKUP(C631,Kode!A2:C1008,2,FALSE)","v":{"$error":"#N/A"}},{"$f":"VLOOKUP(C631,Kode!A2:C1008,3,FALSE)","v":{"$error":"#N/A"}},null,{"$f":"VLOOKUP(C631,Kode!A2:D1008,4,FALSE)","v":{"$error":"#N/A"}},null,null,null,null,null,null,null,null,null,{"$f":"VLOOKUP(C631,Kode!A2:E1008,5,FALSE)","v":{"$error":"#N/A"}},null,null,null,null,null,{"$error":"#DIV/0!"}]
[{"$f":"VLOOKUP(C632,Kode!A2:C1008,2,FALSE)","v":{"$error":"#N/A"}},{"$f":"VLOOKUP(C632,Kode!A2:C1008,3,FALSE)","v":{"$error":"#N/A"}},null,{"$f":"VLOOKUP(C632,Kode!A2:D1008,4,FALSE)","v":{"$error":"#N/A"}},null,null,null,null,null,null,null,null,null,{"$f":"VLOOKUP(C632,Kode!A2:E1008,5,FALSE)","v":{"$error":"#N/A"}},null,null,null,null,null,{"$error":"#DIV/0!"}]
[{"$f":"VLOOKUP(C633,Kode!A2:C1008,2,FALSE)","v":{"$error":"#N/A"}},{"$f":"VLOOKUP(C633,Kode!A2:C1008,3,FALSE)","v":{"$error":"#N/A"}},null,{"$f":"VLOOKUP(C633,Kode!A2:D1008,4,FALSE)","v":{"$error":"#N/A"}},null,null,null,null,null,null,null,null,null,{"$f":"VLOOKUP(C633,Kode!A2:E1008,5,FALSE)","v":{"$error":"#N/A"}},null,null,null,null,null,{"$error":"#DIV/0!"}]
[{"$f":"VLOOKUP(C634,Kode!A2:C1008,2,FALSE)","v":{"$error":"#N/A"}},{"$f":"VLOOKUP(C634,Kode!A2:C1008,3,FALSE)","v":{"$error":"#N/A"}},null,{"$f":"VLOOKUP(C634,Kode!A2:D1008,4,FALSE)","v":{"$error":"#N/A"}},null,null,null,null,null,null,null,null,null,{"$f":"VLOOKUP(C634,Kode!A2:E1008,5,FALSE)","v":{"$error":"#N/A"}},null,null,null,null,null,{"$error":"#DIV/0!"}]
[{"$f":"VLOOKUP(C635,Kode!A2:C1008,2,FALSE)","v":{"$error":"#N/A"}},{"$f":"VLOOKUP(C635,Kode!A2:C1008,3,FALSE)","v":{"$error":"#N/A"}},null,{"$f":"VLOOKUP(C635,Kode!A2:D1008,4,FALSE)","v":{"$error":"#N/A"}},null,null,null,null,null,null,null,null,null,{"$f":"VLOOKUP(C635,Kode!A2:E1008,5,FALSE)","v":{"$error":"#N/A"}},null,null,null,null,null,{"$error":"#DIV/0!"}]
[{"$f":"VLOOKUP(C636,Kode!A2:C1008,2,FALSE)","v":{"$error":"#N/A"}},{"$f":"VLOOKUP(C636,Kode!A2:C1008,3,FALSE)","v":{"$error":"#N/A"}},null,{"$f":"VLOOKUP(C636,Kode!A2:D1008,4,FALSE)","v":{"$error":"#N/A"}},null,null,null,null,null,null,null,null,null,{"$f":"VLOOKUP(C636,Kode!A2:E1008,5,FALSE)","v":{"$error":"#N/A"}},null,null,null,null,null,{"$error":"#DIV/0!"}]
[{"$f":"VLOOKUP(C637,Kode!A2:C1008,2,FALSE)","v":{"$error":"#N/A"}},{"$f":"VLOOKUP(C637,Kode!A2:C1008,3,FALSE)","v":{"$error":"#N/A"}},null,{"$f":"VLOOKUP(C637,Kode!A2:D1008,4,FALSE)","v":{"$error":"#N/A"}},null,null,null,null,null,null,null,null,null,{"$f":"VLOOKUP(C637,Kode!A2:E1008,5,FALSE)","v":{"$error":"#N/A"}},null,null,null,null,null,{"$error":"#DIV/0!"}]
[{"$f":"VLOOKUP(C638,Kode!A2:C1008,2,FALSE)","v":{"$error":"#N/A"}},{"$f":"VLOOKUP(C638,Kode!A2:C1008,3,FALSE)","v":{"$error":"#N/A"}},null,{"$f":"VLOOKUP(C638,Kode!A2:D1008,4,FALSE)","v":{"$error":"#N/A"}},null,null,null,null,null,null,null,null,null,{"$f":"VLOOKUP(C638,Kode!A2:E1008,5,FALSE)","v":{"$error":"#N/A"}},null,null,null,null,null,{"$error":"#DIV/0!"}]
[{"$f":"VLOOKUP(C639,Kode!A2:C1008,2,FALSE)","v":{"$error":"#N/A"}},{"$f":"VLOOKUP(C639,Kode!A2:C1008,3,FALSE)","v":{"$error":"#N/A"}},null,{"$f":"VLOOKUP(C639,Kode!A2:D1008,4,FALSE)","v":{"$error":"#N/A"}},null,null,null,null,null,null,null,null,null,{"$f":"VLOOKUP(C639,Kode!A2:E1008,5,FALSE)","v":{"$error":"#N/A"}},null,null,null,null,null,{"$error":"#DIV/0!"}]
[{"$f":"VLOOKUP(C640,Kode!A2:C1008,2,FALSE)","v":{"$error":"#N/A"}},{"$f":"VLOOKUP(C640,Kode!A2:C1008,3,FALSE)","v":{"$error":"#N/A"}},null,{"$f":"VLOOKUP(C640,Kode!A2:D1008,4,FALSE)","v":{"$error":"#N/A"}},null,null,null,null,null,null,null,null,null,{"$f":"VLOOKUP(C640,Kode!A2:E1008,5,FALSE)","v":{"$error":"#N/A"}},null,null,null,null,null,{"$error":"#DIV/0!"}]
[{"$f":"VLOOKUP(C641,Kode!A2:C1008,2,FALSE)","v":{"$error":"#N/A"}},{"$f":"VLOOKUP(C641,Kode!A2:C1008,3,FALSE)","v":{"$error":"#N/A"}},null,{"$f":"VLOOKUP(C641,Kode!A2:D1008,4,FALSE)","v":{"$error":"#N/A"}},null,null,null,null,null,null,null,null,null,{"$f":"VLOOKUP(C641,Kode!A2:E1008,5,FALSE)","v":{"$error":"#N/A"}},null,null,null,null,null,{"$error":"#DIV/0!"}]
[{"$f":"VLOOKUP(C642,Kode!A2:C1008,2,FALSE)","v":{"$error":"#N/A"}},{"$f":"VLOOKUP(C642,Kode!A2:C1008,3,FALSE)","v":{"$error":"#N/A"}},null,{"$f":"VLOOKUP(C642,Kode!A2:D1008,4,FALSE)","v":{"$error":"#N/A"}},null,null,null,null,null,null,null,null,null,{"$f":"VLOOKUP(C642,Kode!A2:E1008,5,FALSE)","v":{"$error":"#N/A"}},null,null,null,null,null,{"$f":"R642/P642*100","v":{"$error":"#DIV/0!"}}]
[{"$f":"VLOOKUP(C643,Kode!A2:C1008,2,FALSE)","v":{"$error":"#N/A"}},{"$f":"VLOOKUP(C643,Kode!A2:C1008,3,FALSE)","v":{"$error":"#N/A"}},null,{"$f":"VLOOKUP(C643,Kode!A2:D1008,4,FALSE)","v":{"$error":"#N/A"}},null,null,null,null,null,null,null,null,null,{"$f":"VLOOKUP(C643,Kode!A2:E1008,5,FALSE)","v":{"$error":"#N/A"}},null,null,null,null,null,{"$error":"#DIV/0!"}]
[{"$f":"VLOOKUP(C644,Kode!A2:C1008,2,FALSE)","v":{"$error":"#N/A"}},{"$f":"VLOOKUP(C644,Kode!A2:C1008,3,FALSE)","v":{"$error":"#N/A"}},null,{"$f":"VLOOKUP(C644,Kode!A2:D1008,4,FALSE)","v":{"$error":"#N/A"}},null,null,null,null,null,null,null,null,null,{"$f":"VLOOKUP(C644,Kode!A2:E1008,5,FALSE)","v":{"$error":"#N/A"}},null,null,null,null,null,{"$error":"#DIV/0!"}]
[{"$f":"VLOOKUP(C645,Kode!A2:C1008,2,FALSE)","v":{"$error":"#N/A"}},{"$f":"VLOOKUP(C645,Kode!A2:C1008,3,FALSE)","v":{"$error":"#N/A"}},null,{"$f":"VLOOKUP(C645,Kode!A2:D1008,4,FALSE)","v":{"$error":"#N/A"}},null,null,null,null,null,null,null,null,null,{"$f":"VLOOKUP(C645,Kode!A2:E1008,5,FALSE)","v":{"$error":"#N/A"}},null,null,null,null,null,{"$error":"#DIV/0!"}]
[{"$f":"VLOOKUP(C646,Kode!A2:C1008,2,FALSE)","v":{"$error":"#N/A"}},{"$f":"VLOOKUP(C646,Kode!A2:C1008,3,FALSE)","v":{"$error":"#N/A"}},null,{"$f":"VLOOKUP(C646,Kode!A2:D1008,4,FALSE)","v":{"$error":"#N/A"}},null,null,null,null,null,null,null,null,null,{"$f":"VLOOKUP(C646,Kode!A2:E1008,5,FALSE)","v":{"$error":"#N/A"}},null,null,null,null,null,{"$error":"#DIV/0!"}]
[{"$f":"VLOOKUP(C647,Kode!A2:C1008,2,FALSE)","v":{"$error":"#N/A"}},{"$f":"VLOOKUP(C647,Kode!A2:C1008,3,FALSE)","v":{"$error":"#N/A"}},null,{"$f":"VLOOKUP(C647,Kode!A2:D1008,4,FALSE)","v":{"$error":"#N/A"}},null,null,null,null,null,null,null,null,null,{"$f":"VLOOKUP(C647,Kode!A2:E1008,5,FALSE)","v":{"$error":"#N/A"}},null,null,null,null,null,{"$error":"#DIV/0!"}]
[{"$f":"VLOOKUP(C648,Kode!A2:C1008,2,FALSE)","v":{"$error":"#N/A"}},{"$f":"VLOOKUP(C648,Kode!A2:C1008,3,FALSE)","v":{"$error":"#N/A"}},null,{"$f":"VLOOKUP(C648,Kode!A2:D1008,4,FALSE)","v":{"$error":"#N/A"}},null,null,null,null,null,null,null,null,null,{"$f":"VLOOKUP(C648,Kode!A2:E1008,5,FALSE)","v":{"$error":"#N/A"}},null,null,null,null,null,{"$error":"#DIV/0!"}]
[{"$f":"VLOOKUP(C649,Kode!A2:C1008,2,FALSE)","v":{"$error":"#N/A"}},{"$f":"VLOOKUP(C649,Kode!A2:C1008,3,FALSE)","v":{"$error":"#N/A"}},null,{"$f":"VLOOKUP(C649,Kode!A2:D1008,4,FALSE)","v":{"$error":"#N/A"}},null,null,null,null,null,null,null,null,null,{"$f":"VLOOKUP(C649,Kode!A2:E1008,5,FALSE)","v":{"$error":"#N/A"}},null,null,null,null,null,{"$error":"#DIV/0!"}]
[{"$f":"VLOOKUP(C650,Kode!A2:C1008,2,FALSE)","v":{"$error":"#N/A"}},{"$f":"VLOOKUP(C650,Kode!A2:C1008,3,FALSE)","v":{"$error":"#N/A"}},null,{"$f":"VLOOKUP(C650,Kode!A2:D1008,4,FALSE)","v":{"$error":"#N/A"}},null,null,null,null,null,null,null,null,null,{"$f":"VLOOKUP(C650,Kode!A2:E1008,5,FALSE)","v":{"$error":"#N/A"}},null,null,null,null,null,{"$error":"#DIV/0!"}]
[{"$f":"VLOOKUP(C651,Kode!A2:C1008,2,FALSE)","v":{"$error":"#N/A"}},{"$f":"VLOOKUP(C651,Kode!A2:C1008,3,FALSE)","v":{"$error":"#N/A"}},null,{"$f":"VLOOKUP(C651,Kode!A2:D1008,4,FALSE)","v":{"$error":"#N/A"}},null,null,null,null,null,null,null,null,null,{"$f":"VLOOKUP(C651,Kode!A2:E1008,5,FALSE)","v":{"$error":"#N/A"}},null,null,null,null,null,{"$error":"#DIV/0!"}]
[{"$f":"VLOOKUP(C652,Kode!A2:C1008,2,FALSE)","v":{"$error":"#N/A"}},{"$f":"VLOOKUP(C652,Kode!A2:C1008,3,FALSE)","v":{"$error":"#N/A"}},null,{"$f":"VLOOKUP(C652,Kode!A2:D1008,4,FALSE)","v":{"$error":"#N/A"}},null,null,null,null,null,null,null,null,null,{"$f":"VLOOKUP(C652,Kode!A2:E1008,5,FALSE)","v":{"$error":"#N/A"}},null,null,null,null,null,{"$error":"#DIV/0!"}]
[{"$f":"VLOOKUP(C653,Kode!A2:C1008,2,FALSE)","v":{"$error":"#N/A"}},{"$f":"VLOOKUP(C653,Kode!A2:C1008,3,FALSE)","v":{"$error":"#N/A"}},null,{"$f":"VLOOKUP(C653,Kode!A2:D1008,4,FALSE)","v":{"$error":"#N/A"}},null,null,null,null,null,null,null,null,null,{"$f":"VLOOKUP(C653,Kode!A2:E1008,5,FALSE)","v":{"$error":"#N/A"}},null,null,null,null,null,{"$error":"#DIV/0!"}]
[{"$f":"VLOOKUP(C654,Kode!A2:C1008,2,FALSE)","v":{"$error":"#N/A"}},{"$f":"VLOOKUP(C654,Kode!A2:C1008,3,FALSE)","v":{"$error":"#N/A"}},null,{"$f":"VLOOKUP(C654,Kode!A2:D1008,4,FALSE)","v":{"$error":"#N/A"}},null,null,null,null,null,null,null,null,null,{"$f":"VLOOKUP(C654,Kode!A2:E1008,5,FALSE)","v":{"$error":"#N/A"}},null,null,null,null,null,{"$error":"#DIV/0!"}]
[{"$f":"VLOOKUP(C655,Kode!A2:C1008,2,FALSE)","v":{"$error":"#N/A"}},{"$f":"VLOOKUP(C655,Kode!A2:C1008,3,FALSE)","v":{"$error":"#N/A"}},null,{"$f":"VLOOKUP(C655,Kode!A2:D1008,4,FALSE)","v":{"$error":"#N/A"}},null,null,null,null,null,null,null,null,null,{"$f":"VLOOKUP(C655,Kode!A2:E1008,5,FALSE)","v":{"$error":"#N/A"}},null,null,null,null,null,{"$error":"#DIV/0!"}]
[{"$f":"VLOOKUP(C656,Kode!A2:C1008,2,FALSE)","v":{"$error":"#N/A"}},{"$f":"VLOOKUP(C656,Kode!A2:C1008,3,FALSE)","v":{"$error":"#N/A"}},null,{"$f":"VLOOKUP(C656,Kode!A2:D1008,4,FALSE)","v":{"$error":"#N/A"}},null,null,null,null,null,null,null,null,null,{"$f":"VLOOKUP(C656,Kode!A2:E1008,5,FALSE)","v":{"$error":"#N/A"}},null,null,null,null,null,{"$error":"#DIV/0!"}]
[{"$f":"VLOOKUP(C657,Kode!A2:C1008,2,FALSE)","v":{"$error":"#N/A"}},{"$f":"VLOOKUP(C657,Kode!A2:C1008,3,FALSE)","v":{"$error":"#N/A"}},null,{"$f":"VLOOKUP(C657,Kode!A2:D1008,4,FALSE)","v":{"$error":"#N/A"}},null,null,null,null,null,null,null,null,null,{"$f":"VLOOKUP(C657,Kode!A2:E1008,5,FALSE)","v":{"$error":"#N/A"}},null,null,null,null,null,{"$error":"#DIV/0!"}]
[{"$f":"VLOOKUP(C658,Kode!A2:C1008,2,FALSE)","v":{"$error":"#N/A"}},{"$f":"VLOOKUP(C658,Kode!A2:C1008,3,FALSE)","v":{"$error":"#N/A"}},null,{"$f":"VLOOKUP(C658,Kode!A2:D1008,4,FALSE)","v":{"$error":"#N/A"}},null,null,null,null,null,null,null,null,null,{"$f":"VLOOKUP(C658,Kode!A2:E1008,5,FALSE)","v":{"$error":"#N/A"}},null,null,null,null,null,{"$error":"#DIV/0!"}]
[{"$f":"VLOOKUP(C659,Kode!A2:C1008,2,FALSE)","v":{"$error":"#N/A"}},{"$f":"VLOOKUP(C659,Kode!A2:C1008,3,FALSE)","v":{"$error":"#N/A"}},null,{"$f":"VLOOKUP(C659,Kode!A2:D1008,4,FALSE)","v":{"$error":"#N/A"}},null,null,null,null,null,null,null,null,null,{"$f":"VLOOKUP(C659,Kode!A2:E1008,5,FALSE)","v":{"$error":"#N/A"}},null,null,null,null,null,{"$error":"#DIV/0!"}]
[{"$f":"VLOOKUP(C660,Kode!A2:C1008,2,FALSE)","v":{"$error":"#N/A"}},{"$f":"VLOOKUP(C660,Kode!A2:C1008,3,FALSE)","v":{"$error":"#N/A"}},null,{"$f":"VLOOKUP(C660,Kode!A2:D1008,4,FALSE)","v":{"$error":"#N/A"}},null,null,null,null,null,null,null,null,null,{"$f":"VLOOKUP(C660,Kode!A2:E1008,5,FALSE)","v":{"$error":"#N/A"}},null,null,null,null,null,{"$error":"#DIV/0!"}]
[{"$f":"VLOOKUP(C661,Kode!A2:C1008,2,FALSE)","v":{"$error":"#N/A"}},{"$f":"VLOOKUP(C661,Kode!A2:C1008,3,FALSE)","v":{"$error":"#N/A"}},null,{"$f":"VLOOKUP(C661,Kode!A2:D1008,4,FALSE)","v":{"$error":"#N/A"}},null,null,null,null,null,null,null,null,null,{"$f":"VLOOKUP(C661,Kode!A2:E1008,5,FALSE)","v":{"$error":"#N/A"}},null,null,null,null,null,{"$error":"#DIV/0!"}]
[{"$f":"VLOOKUP(C662,Kode!A2:C1008,2,FALSE)","v":{"$error":"#N/A"}},{"$f":"VLOOKUP(C662,Kode!A2:C1008,3,FALSE)","v":{"$error":"#N/A"}},null,{"$f":"VLOOKUP(C662,Kode!A2:D1008,4,FALSE)","v":{"$error":"#N/A"}},null,null,null,null,null,null,null,null,null,{"$f":"VLOOKUP(C662,Kode!A2:E1008,5,FALSE)","v":{"$error":"#N/A"}},null,null,null,null,null,{"$error":"#DIV/0!"}]
[{"$f":"VLOOKUP(C663,Kode!A2:C1008,2,FALSE)","v":{"$error":"#N/A"}},{"$f":"VLOOKUP(C663,Kode!A2:C1008,3,FALSE)","v":{"$error":"#N/A"}},null,{"$f":"VLOOKUP(C663,Kode!A2:D1008,4,FALSE)","v":{"$error":"#N/A"}},null,null,null,null,null,null,null,null,null,{"$f":"VLOOKUP(C663,Kode!A2:E1008,5,FALSE)","v":{"$error":"#N/A"}},null,null,null,null,null,{"$error":"#DIV/0!"}]
[{"$f":"VLOOKUP(C664,Kode!A2:C1008,2,FALSE)","v":{"$error":"#N/A"}},{"$f":"VLOOKUP(C664,Kode!A2:C1008,3,FALSE)","v":{"$error":"#N/A"}},null,{"$f":"VLOOKUP(C664,Kode!A2:D1008,4,FALSE)","v":{"$error":"#N/A"}},null,null,null,null,null,null,null,null,null,{"$f":"VLOOKUP(C664,Kode!A2:E1008,5,FALSE)","v":{"$error":"#N/A"}},null,null,null,null,null,{"$error":"#DIV/0!"}]
[{"$f":"VLOOKUP(C665,Kode!A2:C1008,2,FALSE)","v":{"$error":"#N/A"}},{"$f":"VLOOKUP(C665,Kode!A2:C1008,3,FALSE)","v":{"$error":"#N/A"}},null,{"$f":"VLOOKUP(C665,Kode!A2:D1008,4,FALSE)","v":{"$error":"#N/A"}},null,null,null,null,null,null,null,null,null,{"$f":"VLOOKUP(C665,Kode!A2:E1008,5,FALSE)","v":{"$error":"#N/A"}},null,null,null,null,null,{"$error":"#DIV/0!"}]
[{"$f":"VLOOKUP(C666,Kode!A2:C1008,2,FALSE)","v":{"$error":"#N/A"}},{"$f":"VLOOKUP(C666,Kode!A2:C1008,3,FALSE)","v":{"$error":"#N/A"}},null,{"$f":"VLOOKUP(C666,Kode!A2:D1008,4,FALSE)","v":{"$error":"#N/A"}},null,null,null,null,null,null,null,null,null,{"$f":"VLOOKUP(C666,Kode!A2:E1008,5,FALSE)","v":{"$error":"#N/A"}},null,null,null,null,null,{"$error":"#DIV/0!"}]
[{"$f":"VLOOKUP(C667,Kode!A2:C1008,2,FALSE)","v":{"$error":"#N/A"}},{"$f":"VLOOKUP(C667,Kode!A2:C1008,3,FALSE)","v":{"$error":"#N/A"}},null,{"$f":"VLOOKUP(C667,Kode!A2:D1008,4,FALSE)","v":{"$error":"#N/A"}},null,null,null,null,null,null,null,null,null,{"$f":"VLOOKUP(C667,Kode!A2:E1008,5,FALSE)","v":{"$error":"#N/A"}},null,null,null,null,null,{"$error":"#DIV/0!"}]
[{"$f":"VLOOKUP(C668,Kode!A2:C1008,2,FALSE)","v":{"$error":"#N/A"}},{"$f":"VLOOKUP(C668,Kode!A2:C1008,3,FALSE)","v":{"$error":"#N/A"}},null,{"$f":"VLOOKUP(C668,Kode!A2:D1008,4,FALSE)","v":{"$error":"#N/A"}},null,null,null,null,null,null,null,null,null,{"$f":"VLOOKUP(C668,Kode!A2:E1008,5,FALSE)","v":{"$error":"#N/A"}},null,null,null,null,null,{"$error":"#DIV/0!"}]
[{"$f":"VLOOKUP(C669,Kode!A2:C1008,2,FALSE)","v":{"$error":"#N/A"}},{"$f":"VLOOKUP(C669,Kode!A2:C1008,3,FALSE)","v":{"$error":"#N/A"}},null,{"$f":"VLOOKUP(C669,Kode!A2:D1008,4,FALSE)","v":{"$error":"#N/A"}},null,null,null,null,null,null,null,null,null,{"$f":"VLOOKUP(C669,Kode!A2:E1008,5,FALSE)","v":{"$error":"#N/A"}},null,null,null,null,null,{"$error":"#DIV/0!"}]
[{"$f":"VLOOKUP(C670,Kode!A2:C1008,2,FALSE)","v":{"$error":"#N/A"}},{"$f":"VLOOKUP(C670,Kode!A2:C1008,3,FALSE)","v":{"$error":"#N/A"}},null,{"$f":"VLOOKUP(C670,Kode!A2:D1008,4,FALSE)","v":{"$error":"#N/A"}},null,null,null,null,null,null,null,null,null,{"$f":"VLOOKUP(C670,Kode!A2:E1008,5,FALSE)","v":{"$error":"#N/A"}},null,null,null,null,null,{"$error":"#DIV/0!"}]
[{"$f":"VLOOKUP(C671,Kode!A2:C1008,2,FALSE)","v":{"$error":"#N/A"}},{"$f":"VLOOKUP(C671,Kode!A2:C1008,3,FALSE)","v":{"$error":"#N/A"}},null,{"$f":"VLOOKUP(C671,Kode!A2:D1008,4,FALSE)","v":{"$error":"#N/A"}},null,null,null,null,null,null,null,null,null,{"$f":"VLOOKUP(C671,Kode!A2:E1008,5,FALSE)","v":{"$error":"#N/A"}},null,null,null,null,null,{"$error":"#DIV/0!"}]
[{"$f":"VLOOKUP(C672,Kode!A2:C1008,2,FALSE)","v":{"$error":"#N/A"}},{"$f":"VLOOKUP(C672,Kode!A2:C1008,3,FALSE)","v":{"$error":"#N/A"}},null,{"$f":"VLOOKUP(C672,Kode!A2:D1008,4,FALSE)","v":{"$error":"#N/A"}},null,null,null,null,null,null,null,null,null,{"$f":"VLOOKUP(C672,Kode!A2:E1008,5,FALSE)","v":{"$error":"#N/A"}},null,null,null,null,null,{"$error":"#DIV/0!"}]
[{"$f":"VLOOKUP(C673,Kode!A2:C1008,2,FALSE)","v":{"$error":"#N/A"}},{"$f":"VLOOKUP(C673,Kode!A2:C1008,3,FALSE)","v":{"$error":"#N/A"}},null,{"$f":"VLOOKUP(C673,Kode!A2:D1008,4,FALSE)","v":{"$error":"#N/A"}},null,null,null,null,null,null,null,null,null,{"$f":"VLOOKUP(C673,Kode!A2:E1008,5,FALSE)","v":{"$error":"#N/A"}},null,null,null,null,null,{"$error":"#DIV/0!"}]
[{"$f":"VLOOKUP(C674,Kode!A2:C1008,2,FALSE)","v":{"$error":"#N/A"}},{"$f":"VLOOKUP(C674,Kode!A2:C1008,3,FALSE)","v":{"$error":"#N/A"}},null,{"$f":"VLOOKUP(C674,Kode!A2:D1008,4,FALSE)","v":{"$error":"#N/A"}},null,null,null,null,null,null,null,null,null,{"$f":"VLOOKUP(C674,Kode!A2:E1008,5,FALSE)","v":{"$error":"#N/A"}},null,null,null,null,null,{"$error":"#DIV/0!"}]
[{"$f":"VLOOKUP(C675,Kode!A2:C1008,2,FALSE)","v":{"$error":"#N/A"}},{"$f":"VLOOKUP(C675,Kode!A2:C1008,3,FALSE)","v":{"$error":"#N/A"}},null,{"$f":"VLOOKUP(C675,Kode!A2:D1008,4,FALSE)","v":{"$error":"#N/A"}},null,null,null,null,null,null,null,null,null,{"$f":"VLOOKUP(C675,Kode!A2:E1008,5,FALSE)","v":{"$error":"#N/A"}},null,null,null,null,null,{"$error":"#DIV/0!"}]
[{"$f":"VLOOKUP(C676,Kode!A2:C1008,2,FALSE)","v":{"$error":"#N/A"}},{"$f":"VLOOKUP(C676,Kode!A2:C1008,3,FALSE)","v":{"$error":"#N/A"}},null,{"$f":"VLOOKUP(C676,Kode!A2:D1008,4,FALSE)","v":{"$error":"#N/A"}},null,null,null,null,null,null,null,null,null,{"$f":"VLOOKUP(C676,Kode!A2:E1008,5,FALSE)","v":{"$error":"#N/A"}},null,null,null,null,null,{"$error":"#DIV/0!"}]
[{"$f":"VLOOKUP(C677,Kode!A2:C1008,2,FALSE)","v":{"$error":"#N/A"}},{"$f":"VLOOKUP(C677,Kode!A2:C1008,3,FALSE)","v":{"$error":"#N/A"}},null,{"$f":"VLOOKUP(C677,Kode!A2:D1008,4,FALSE)","v":{"$error":"#N/A"}},null,null,null,null,null,null,null,null,null,{"$f":"VLOOKUP(C677,Kode!A2:E1008,5,FALSE)","v":{"$error":"#N/A"}},null,null,null,null,null,{"$error":"#DIV/0!"}]
[{"$f":"VLOOKUP(C678,Kode!A2:C1008,2,FALSE)","v":{"$error":"#N/A"}},{"$f":"VLOOKUP(C678,Kode!A2:C1008,3,FALSE)","v":{"$error":"#N/A"}},null,{"$f":"VLOOKUP(C678,Kode!A2:D1008,4,FALSE)","v":{"$error":"#N/A"}},null,null,null,null,null,null,null,null,null,{"$f":"VLOOKUP(C678,Kode!A2:E1008,5,FALSE)","v":{"$error":"#N/A"}},null,null,null,null,null,{"$error":"#DIV/0!"}]
[{"$f":"VLOOKUP(C679,Kode!A2:C1008,2,FALSE)","v":{"$error":"#N/A"}},{"$f":"VLOOKUP(C679,Kode!A2:C1008,3,FALSE)","v":{"$error":"#N/A"}},null,{"$f":"VLOOKUP(C679,Kode!A2:D1008,4,FALSE)","v":{"$error":"#N/A"}},null,null,null,null,null,null,null,null,null,{"$f":"VLOOKUP(C679,Kode!A2:E1008,5,FALSE)","v":{"$error":"#N/A"}},null,null,null,null,null,{"$error":"#DIV/0!"}]
[{"$f":"VLOOKUP(C680,Kode!A2:C1008,2,FALSE)","v":{"$error":"#N/A"}},{"$f":"VLOOKUP(C680,Kode!A2:C1008,3,FALSE)","v":{"$error":"#N/A"}},null,{"$f":"VLOOKUP(C680,Kode!A2:D1008,4,FALSE)","v":{"$error":"#N/A"}},null,null,null,null,null,null,null,null,null,{"$f":"VLOOKUP(C680,Kode!A2:E1008,5,FALSE)","v":{"$error":"#N/A"}},null,null,null,null,null,{"$error":"#DIV/0!"}]
[{"$f":"VLOOKUP(C681,Kode!A2:C1008,2,FALSE)","v":{"$error":"#N/A"}},{"$f":"VLOOKUP(C681,Kode!A2:C1008,3,FALSE)","v":{"$error":"#N/A"}},null,{"$f":"VLOOKUP(C681,Kode!A2:D1008,4,FALSE)","v":{"$error":"#N/A"}},null,null,null,null,null,null,null,null,null,{"$f":"VLOOKUP(C681,Kode!A2:E1008,5,FALSE)","v":{"$error":"#N/A"}},null,null,null,null,null,{"$error":"#DIV/0!"}]
[{"$f":"VLOOKUP(C682,Kode!A2:C1008,2,FALSE)","v":{"$error":"#N/A"}},{"$f":"VLOOKUP(C682,Kode!A2:C1008,3,FALSE)","v":{"$error":"#N/A"}},null,{"$f":"VLOOKUP(C682,Kode!A2:D1008,4,FALSE)","v":{"$error":"#N/A"}},null,null,null,null,null,null,null,null,null,{"$f":"VLOOKUP(C682,Kode!A2:E1008,5,FALSE)","v":{"$error":"#N/A"}},null,null,null,null,null,{"$error":"#DIV/0!"}]
[{"$f":"VLOOKUP(C683,Kode!A2:C1008,2,FALSE)","v":{"$error":"#N/A"}},{"$f":"VLOOKUP(C683,Kode!A2:C1008,3,FALSE)","v":{"$error":"#N/A"}},null,{"$f":"VLOOKUP(C683,Kode!A2:D1008,4,FALSE)","v":{"$error":"#N/A"}},null,null,null,null,null,null,null,null,null,{"$f":"VLOOKUP(C683,Kode!A2:E1008,5,FALSE)","v":{"$error":"#N/A"}},null,null,null,null,null,{"$error":"#DIV/0!"}]
[{"$f":"VLOOKUP(C684,Kode!A2:C1008,2,FALSE)","v":{"$error":"#N/A"}},{"$f":"VLOOKUP(C684,Kode!A2:C1008,3,FALSE)","v":{"$error":"#N/A"}},null,{"$f":"VLOOKUP(C684,Kode!A2:D1008,4,FALSE)","v":{"$error":"#N/A"}},null,null,null,null,null,null,null,null,null,{"$f":"VLOOKUP(C684,Kode!A2:E1008,5,FALSE)","v":{"$error":"#N/A"}},null,null,null,null,null,{"$error":"#DIV/0!"}]
[{"$f":"VLOOKUP(C685,Kode!A2:C1008,2,FALSE)","v":{"$error":"#N/A"}},{"$f":"VLOOKUP(C685,Kode!A2:C1008,3,FALSE)","v":{"$error":"#N/A"}},null,{"$f":"VLOOKUP(C685,Kode!A2:D1008,4,FALSE)","v":{"$error":"#N/A"}},null,null,null,null,null,null,null,null,null,{"$f":"VLOOKUP(C685,Kode!A2:E1008,5,FALSE)","v":{"$error":"#N/A"}},null,null,null,null,null,{"$error":"#DIV/0!"}]
[{"$f":"VLOOKUP(C686,Kode!A2:C1008,2,FALSE)","v":{"$error":"#N/A"}},{"$f":"VLOOKUP(C686,Kode!A2:C1008,3,FALSE)","v":{"$error":"#N/A"}},null,{"$f":"VLOOKUP(C686,Kode!A2:D1008,4,FALSE)","v":{"$error":"#N/A"}},null,null,null,null,null,null,null,null,null,{"$f":"VLOOKUP(C686,Kode!A2:E1008,5,FALSE)","v":{"$error":"#N/A"}},null,null,null,null,null,{"$error":"#DIV/0!"}]
[{"$f":"VLOOKUP(C687,Kode!A2:C1008,2,FALSE)","v":{"$error":"#N/A"}},{"$f":"VLOOKUP(C687,Kode!A2:C1008,3,FALSE)","v":{"$error":"#N/A"}},null,{"$f":"VLOOKUP(C687,Kode!A2:D1008,4,FALSE)","v":{"$error":"#N/A"}},null,null,null,null,null,null,null,null,null,{"$f":"VLOOKUP(C687,Kode!A2:E1008,5,FALSE)","v":{"$error":"#N/A"}},null,null,null,null,null,{"$error":"#DIV/0!"}]
[{"$f":"VLOOKUP(C688,Kode!A2:C1008,2,FALSE)","v":{"$error":"#N/A"}},{"$f":"VLOOKUP(C688,Kode!A2:C1008,3,FALSE)","v":{"$error":"#N/A"}},null,{"$f":"VLOOKUP(C688,Kode!A2:D1008,4,FALSE)","v":{"$error":"#N/A"}},null,null,null,null,null,null,null,null,null,{"$f":"VLOOKUP(C688,Kode!A2:E1008,5,FALSE)","v":{"$error":"#N/A"}},null,null,null,null,null,{"$error":"#DIV/0!"}]
[{"$f":"VLOOKUP(C689,Kode!A2:C1008,2,FALSE)","v":{"$error":"#N/A"}},{"$f":"VLOOKUP(C689,Kode!A2:C1008,3,FALSE)","v":{"$error":"#N/A"}},null,{"$f":"VLOOKUP(C689,Kode!A2:D1008,4,FALSE)","v":{"$error":"#N/A"}},null,null,null,null,null,null,null,null,null,{"$f":"VLOOKUP(C689,Kode!A2:E1008,5,FALSE)","v":{"$error":"#N/A"}},null,null,null,null,null,{"$error":"#DIV/0!"}]
[{"$f":"VLOOKUP(C690,Kode!A2:C1008,2,FALSE)","v":{"$error":"#N/A"}},{"$f":"VLOOKUP(C690,Kode!A2:C1008,3,FALSE)","v":{"$error":"#N/A"}},null,{"$f":"VLOOKUP(C690,Kode!A2:D1008,4,FALSE)","v":{"$error":"#N/A"}},null,null,null,null,null,null,null,null,null,{"$f":"VLOOKUP(C690,Kode!A2:E1008,5,FALSE)","v":{"$error":"#N/A"}},null,null,null,null,null,{"$error":"#DIV/0!"}]
[{"$f":"VLOOKUP(C691,Kode!A2:C1008,2,FALSE)","v":{"$error":"#N/A"}},{"$f":"VLOOKUP(C691,Kode!A2:C1008,3,FALSE)","v":{"$error":"#N/A"}},null,{"$f":"VLOOKUP(C691,Kode!A2:D1008,4,FALSE)","v":{"$error":"#N/A"}},null,null,null,null,null,null,null,null,null,{"$f":"VLOOKUP(C691,Kode!A2:E1008,5,FALSE)","v":{"$error":"#N/A"}},null,null,null,null,null,{"$error":"#DIV/0!"}]
[{"$f":"VLOOKUP(C692,Kode!A2:C1008,2,FALSE)","v":{"$error":"#N/A"}},{"$f":"VLOOKUP(C692,Kode!A2:C1008,3,FALSE)","v":{"$error":"#N/A"}},null,{"$f":"VLOOKUP(C692,Kode!A2:D1008,4,FALSE)","v":{"$error":"#N/A"}},null,null,null,null,null,null,null,null,null,{"$f":"VLOOKUP(C692,Kode!A2:E1008,5,FALSE)","v":{"$error":"#N/A"}},null,null,null,null,null,{"$error":"#DIV/0!"}]
[{"$f":"VLOOKUP(C693,Kode!A2:C1008,2,FALSE)","v":{"$error":"#N/A"}},{"$f":"VLOOKUP(C693,Kode!A2:C1008,3,FALSE)","v":{"$error":"#N/A"}},null,{"$f":"VLOOKUP(C693,Kode!A2:D1008,4,FALSE)","v":{"$error":"#N/A"}},null,null,null,null,null,null,null,null,null,{"$f":"VLOOKUP(C693,Kode!A2:E1008,5,FALSE)","v":{"$error":"#N/A"}},null,null,null,null,null,{"$error":"#DIV/0!"}]
[{"$f":"VLOOKUP(C694,Kode!A2:C1008,2,FALSE)","v":{"$error":"#N/A"}},{"$f":"VLOOKUP(C694,Kode!A2:C1008,3,FALSE)","v":{"$error":"#N/A"}},null,{"$f":"VLOOKUP(C694,Kode!A2:D1008,4,FALSE)","v":{"$error":"#N/A"}},null,null,null,null,null,null,null,null,null,{"$f":"VLOOKUP(C694,Kode!A2:E1008,5,FALSE)","v":{"$error":"#N/A"}},null,null,null,null,null,{"$error":"#DIV/0!"}]
[{"$f":"VLOOKUP(C695,Kode!A2:C1008,2,FALSE)","v":{"$error":"#N/A"}},{"$f":"VLOOKUP(C695,Kode!A2:C1008,3,FALSE)","v":{"$error":"#N/A"}},null,{"$f":"VLOOKUP(C695,Kode!A2:D1008,4,FALSE)","v":{"$error":"#N/A"}},null,null,null,null,null,null,null,null,null,{"$f":"VLOOKUP(C695,Kode!A2:E1008,5,FALSE)","v":{"$error":"#N/A"}},null,null,null,null,null,{"$error":"#DIV/0!"}]
[{"$f":"VLOOKUP(C696,Kode!A2:C1008,2,FALSE)","v":{"$error":"#N/A"}},{"$f":"VLOOKUP(C696,Kode!A2:C1008,3,FALSE)","v":{"$error":"#N/A"}},null,{"$f":"VLOOKUP(C696,Kode!A2:D1008,4,FALSE)","v":{"$error":"#N/A"}},null,null,null,null,null,null,null,null,null,{"$f":"VLOOKUP(C696,Kode!A2:E1008,5,FALSE)","v":{"$error":"#N/A"}},null,null,null,null,null,{"$error":"#DIV/0!"}]
[{"$f":"VLOOKUP(C697,Kode!A2:C1008,2,FALSE)","v":{"$error":"#N/A"}},{"$f":"VLOOKUP(C697,Kode!A2:C1008,3,FALSE)","v":{"$error":"#N/A"}},null,{"$f":"VLOOKUP(C697,Kode!A2:D1008,4,FALSE)","v":{"$error":"#N/A"}},null,null,null,null,null,null,null,null,null,{"$f":"VLOOKUP(C697,Kode!A2:E1008,5,FALSE)","v":{"$error":"#N/A"}},null,null,null,null,null,{"$error":"#DIV/0!"}]
[{"$f":"VLOOKUP(C698,Kode!A2:C1008,2,FALSE)","v":{"$error":"#N/A"}},{"$f":"VLOOKUP(C698,Kode!A2:C1008,3,FALSE)","v":{"$error":"#N/A"}},null,{"$f":"VLOOKUP(C698,Kode!A2:D1008,4,FALSE)","v":{"$error":"#N/A"}},null,null,null,null,null,null,null,null,null,{"$f":"VLOOKUP(C698,Kode!A2:E1008,5,FALSE)","v":{"$error":"#N/A"}},null,null,null,null,null,{"$error":"#DIV/0!"}]
[{"$f":"VLOOKUP(C699,Kode!A2:C1008,2,FALSE)","v":{"$error":"#N/A"}},{"$f":"VLOOKUP(C699,Kode!A2:C1008,3,FALSE)","v":{"$error":"#N/A"}},null,{"$f":"VLOOKUP(C699,Kode!A2:D1008,4,FALSE)","v":{"$error":"#N/A"}},null,null,null,null,null,null,null,null,null,{"$f":"VLOOKUP(C699,Kode!A2:E1008,5,FALSE)","v":{"$error":"#N/A"}},null,null,null,null,null,{"$error":"#DIV/0!"}]
[{"$f":"VLOOKUP(C700,Kode!A2:C1008,2,FALSE)","v":{"$error":"#N/A"}},{"$f":"VLOOKUP(C700,Kode!A2:C1008,3,FALSE)","v":{"$error":"#N/A"}},null,{"$f":"VLOOKUP(C700,Kode!A2:D1008,4,FALSE)","v":{"$error":"#N/A"}},null,null,null,null,null,null,null,null,null,{"$f":"VLOOKUP(C700,Kode!A2:E1008,5,FALSE)","v":{"$error":"#N/A"}},null,null,null,null,null,{"$error":"#DIV/0!"}]
[{"$f":"VLOOKUP(C701,Kode!A2:C1008,2,FALSE)","v":{"$error":"#N/A"}},{"$f":"VLOOKUP(C701,Kode!A2:C1008,3,FALSE)","v":{"$error":"#N/A"}},null,{"$f":"VLOOKUP(C701,Kode!A2:D1008,4,FALSE)","v":{"$error":"#N/A"}},null,null,null,null,null,null,null,null,null,{"$f":"VLOOKUP(C701,Kode!A2:E1008,5,FALSE)","v":{"$error":"#N/A"}},null,null,null,null,null,{"$error":"#DIV/0!"}]
[{"$f":"VLOOKUP(C702,Kode!A2:C1008,2,FALSE)","v":{"$error":"#N/A"}},{"$f":"VLOOKUP(C702,Kode!A2:C1008,3,FALSE)","v":{"$error":"#N/A"}},null,{"$f":"VLOOKUP(C702,Kode!A2:D1008,4,FALSE)","v":{"$error":"#N/A"}},null,null,null,null,null,null,null,null,null,{"$f":"VLOOKUP(C702,Kode!A2:E1008,5,FALSE)","v":{"$error":"#N/A"}},null,null,null,null,null,{"$error":"#DIV/0!"}]
[{"$f":"VLOOKUP(C703,Kode!A2:C1008,2,FALSE)","v":{"$error":"#N/A"}},{"$f":"VLOOKUP(C703,Kode!A2:C1008,3,FALSE)","v":{"$error":"#N/A"}},null,{"$f":"VLOOKUP(C703,Kode!A2:D1008,4,FALSE)","v":{"$error":"#N/A"}},null,null,null,null,null,null,null,null,null,{"$f":"VLOOKUP(C703,Kode!A2:E1008,5,FALSE)","v":{"$error":"#N/A"}},null,null,null,null,null,{"$error":"#DIV/0!"}]
[{"$f":"VLOOKUP(C704,Kode!A2:C1008,2,FALSE)","v":{"$error":"#N/A"}},{"$f":"VLOOKUP(C704,Kode!A2:C1008,3,FALSE)","v":{"$error":"#N/A"}},null,{"$f":"VLOOKUP(C704,Kode!A2:D1008,4,FALSE)","v":{"$error":"#N/A"}},null,null,null,null,null,null,null,null,null,{"$f":"VLOOKUP(C704,Kode!A2:E1008,5,FALSE)","v":{"$error":"#N/A"}},null,null,null,null,null,{"$error":"#DIV/0!"}]
[{"$f":"VLOOKUP(C705,Kode!A2:C1008,2,FALSE)","v":{"$error":"#N/A"}},{"$f":"VLOOKUP(C705,Kode!A2:C1008,3,FALSE)","v":{"$error":"#N/A"}},null,{"$f":"VLOOKUP(C705,Kode!A2:D1008,4,FALSE)","v":{"$error":"#N/A"}},null,null,null,null,null,null,null,null,null,{"$f":"VLOOKUP(C705,Kode!A2:E1008,5,FALSE)","v":{"$error":"#N/A"}},null,null,null,null,null,{"$error":"#DIV/0!"}]
[{"$f":"VLOOKUP(C706,Kode!A2:C1008,2,FALSE)","v":{"$error":"#N/A"}},{"$f":"VLOOKUP(C706,Kode!A2:C1008,3,FALSE)","v":{"$error":"#N/A"}},null,{"$f":"VLOOKUP(C706,Kode!A2:D1008,4,FALSE)","v":{"$error":"#N/A"}},null,null,null,null,null,null,null,null,null,{"$f":"VLOOKUP(C706,Kode!A2:E1008,5,FALSE)","v":{"$error":"#N/A"}},null,null,null,null,null,{"$f":"R706/P706*100","v":{"$error":"#DIV/0!"}}]
[{"$f":"VLOOKUP(C707,Kode!A2:C1008,2,FALSE)","v":{"$error":"#N/A"}},{"$f":"VLOOKUP(C707,Kode!A2:C1008,3,FALSE)","v":{"$error":"#N/A"}},null,{"$f":"VLOOKUP(C707,Kode!A2:D1008,4,FALSE)","v":{"$error":"#N/A"}},null,null,null,null,null,null,null,null,null,{"$f":"VLOOKUP(C707,Kode!A2:E1008,5,FALSE)","v":{"$error":"#N/A"}},null,null,null,null,null,{"$error":"#DIV/0!"}]
[{"$f":"VLOOKUP(C708,Kode!A2:C1008,2,FALSE)","v":{"$error":"#N/A"}},{"$f":"VLOOKUP(C708,Kode!A2:C1008,3,FALSE)","v":{"$error":"#N/A"}},null,{"$f":"VLOOKUP(C708,Kode!A2:D1008,4,FALSE)","v":{"$error":"#N/A"}},null,null,null,null,null,null,null,null,null,{"$f":"VLOOKUP(C708,Kode!A2:E1008,5,FALSE)","v":{"$error":"#N/A"}},null,null,null,null,null,{"$error":"#DIV/0!"}]
[{"$f":"VLOOKUP(C709,Kode!A2:C1008,2,FALSE)","v":{"$error":"#N/A"}},{"$f":"VLOOKUP(C709,Kode!A2:C1008,3,FALSE)","v":{"$error":"#N/A"}},null,{"$f":"VLOOKUP(C709,Kode!A2:D1008,4,FALSE)","v":{"$error":"#N/A"}},null,null,null,null,null,null,null,null,null,{"$f":"VLOOKUP(C709,Kode!A2:E1008,5,FALSE)","v":{"$error":"#N/A"}},null,null,null,null,null,{"$error":"#DIV/0!"}]
[{"$f":"VLOOKUP(C710,Kode!A2:C1008,2,FALSE)","v":{"$error":"#N/A"}},{"$f":"VLOOKUP(C710,Kode!A2:C1008,3,FALSE)","v":{"$error":"#N/A"}},null,{"$f":"VLOOKUP(C710,Kode!A2:D1008,4,FALSE)","v":{"$error":"#N/A"}},null,null,null,null,null,null,null,null,null,{"$f":"VLOOKUP(C710,Kode!A2:E1008,5,FALSE)","v":{"$error":"#N/A"}},null,null,null,null,null,{"$error":"#DIV/0!"}]
[{"$f":"VLOOKUP(C711,Kode!A2:C1008,2,FALSE)","v":{"$error":"#N/A"}},{"$f":"VLOOKUP(C711,Kode!A2:C1008,3,FALSE)","v":{"$error":"#N/A"}},null,{"$f":"VLOOKUP(C711,Kode!A2:D1008,4,FALSE)","v":{"$error":"#N/A"}},null,null,null,null,null,null,null,null,null,{"$f":"VLOOKUP(C711,Kode!A2:E1008,5,FALSE)","v":{"$error":"#N/A"}},null,null,null,null,null,{"$error":"#DIV/0!"}]
[{"$f":"VLOOKUP(C712,Kode!A2:C1008,2,FALSE)","v":{"$error":"#N/A"}},{"$f":"VLOOKUP(C712,Kode!A2:C1008,3,FALSE)","v":{"$error":"#N/A"}},null,{"$f":"VLOOKUP(C712,Kode!A2:D1008,4,FALSE)","v":{"$error":"#N/A"}},null,null,null,null,null,null,null,null,null,{"$f":"VLOOKUP(C712,Kode!A2:E1008,5,FALSE)","v":{"$error":"#N/A"}},null,null,null,null,null,{"$error":"#DIV/0!"}]
[{"$f":"VLOOKUP(C713,Kode!A2:C1008,2,FALSE)","v":{"$error":"#N/A"}},{"$f":"VLOOKUP(C713,Kode!A2:C1008,3,FALSE)","v":{"$error":"#N/A"}},null,{"$f":"VLOOKUP(C713,Kode!A2:D1008,4,FALSE)","v":{"$error":"#N/A"}},null,null,null,null,null,null,null,null,null,{"$f":"VLOOKUP(C713,Kode!A2:E1008,5,FALSE)","v":{"$error":"#N/A"}},null,null,null,null,null,{"$error":"#DIV/0!"}]
[{"$f":"VLOOKUP(C714,Kode!A2:C1008,2,FALSE)","v":{"$error":"#N/A"}},{"$f":"VLOOKUP(C714,Kode!A2:C1008,3,FALSE)","v":{"$error":"#N/A"}},null,{"$f":"VLOOKUP(C714,Kode!A2:D1008,4,FALSE)","v":{"$error":"#N/A"}},null,null,null,null,null,null,null,null,null,{"$f":"VLOOKUP(C714,Kode!A2:E1008,5,FALSE)","v":{"$error":"#N/A"}},null,null,null,null,null,{"$error":"#DIV/0!"}]
[{"$f":"VLOOKUP(C715,Kode!A2:C1008,2,FALSE)","v":{"$error":"#N/A"}},{"$f":"VLOOKUP(C715,Kode!A2:C1008,3,FALSE)","v":{"$error":"#N/A"}},null,{"$f":"VLOOKUP(C715,Kode!A2:D1008,4,FALSE)","v":{"$error":"#N/A"}},null,null,null,null,null,null,null,null,null,{"$f":"VLOOKUP(C715,Kode!A2:E1008,5,FALSE)","v":{"$error":"#N/A"}},null,null,null,null,null,{"$error":"#DIV/0!"}]
[{"$f":"VLOOKUP(C716,Kode!A2:C1008,2,FALSE)","v":{"$error":"#N/A"}},{"$f":"VLOOKUP(C716,Kode!A2:C1008,3,FALSE)","v":{"$error":"#N/A"}},null,{"$f":"VLOOKUP(C716,Kode!A2:D1008,4,FALSE)","v":{"$error":"#N/A"}},null,null,null,null,null,null,null,null,null,{"$f":"VLOOKUP(C716,Kode!A2:E1008,5,FALSE)","v":{"$error":"#N/A"}},null,null,null,null,null,{"$error":"#DIV/0!"}]
[{"$f":"VLOOKUP(C717,Kode!A2:C1008,2,FALSE)","v":{"$error":"#N/A"}},{"$f":"VLOOKUP(C717,Kode!A2:C1008,3,FALSE)","v":{"$error":"#N/A"}},null,{"$f":"VLOOKUP(C717,Kode!A2:D1008,4,FALSE)","v":{"$error":"#N/A"}},null,null,null,null,null,null,null,null,null,{"$f":"VLOOKUP(C717,Kode!A2:E1008,5,FALSE)","v":{"$error":"#N/A"}},null,null,null,null,null,{"$error":"#DIV/0!"}]
[{"$f":"VLOOKUP(C718,Kode!A2:C1008,2,FALSE)","v":{"$error":"#N/A"}},{"$f":"VLOOKUP(C718,Kode!A2:C1008,3,FALSE)","v":{"$error":"#N/A"}},null,{"$f":"VLOOKUP(C718,Kode!A2:D1008,4,FALSE)","v":{"$error":"#N/A"}},null,null,null,null,null,null,null,null,null,{"$f":"VLOOKUP(C718,Kode!A2:E1008,5,FALSE)","v":{"$error":"#N/A"}},null,null,null,null,null,{"$error":"#DIV/0!"}]
[{"$f":"VLOOKUP(C719,Kode!A2:C1008,2,FALSE)","v":{"$error":"#N/A"}},{"$f":"VLOOKUP(C719,Kode!A2:C1008,3,FALSE)","v":{"$error":"#N/A"}},null,{"$f":"VLOOKUP(C719,Kode!A2:D1008,4,FALSE)","v":{"$error":"#N/A"}},null,null,null,null,null,null,null,null,null,{"$f":"VLOOKUP(C719,Kode!A2:E1008,5,FALSE)","v":{"$error":"#N/A"}},null,null,null,null,null,{"$error":"#DIV/0!"}]
[{"$f":"VLOOKUP(C720,Kode!A2:C1008,2,FALSE)","v":{"$error":"#N/A"}},{"$f":"VLOOKUP(C720,Kode!A2:C1008,3,FALSE)","v":{"$error":"#N/A"}},null,{"$f":"VLOOKUP(C720,Kode!A2:D1008,4,FALSE)","v":{"$error":"#N/A"}},null,null,null,null,null,null,null,null,null,{"$f":"VLOOKUP(C720,Kode!A2:E1008,5,FALSE)","v":{"$error":"#N/A"}},null,null,null,null,null,{"$error":"#DIV/0!"}]
[{"$f":"VLOOKUP(C721,Kode!A2:C1008,2,FALSE)","v":{"$error":"#N/A"}},{"$f":"VLOOKUP(C721,Kode!A2:C1008,3,FALSE)","v":{"$error":"#N/A"}},null,{"$f":"VLOOKUP(C721,Kode!A2:D1008,4,FALSE)","v":{"$error":"#N/A"}},null,null,null,null,null,null,null,null,null,{"$f":"VLOOKUP(C721,Kode!A2:E1008,5,FALSE)","v":{"$error":"#N/A"}},null,null,null,null,null,{"$error":"#DIV/0!"}]
[{"$f":"VLOOKUP(C722,Kode!A2:C1008,2,FALSE)","v":{"$error":"#N/A"}},{"$f":"VLOOKUP(C722,Kode!A2:C1008,3,FALSE)","v":{"$error":"#N/A"}},null,{"$f":"VLOOKUP(C722,Kode!A2:D1008,4,FALSE)","v":{"$error":"#N/A"}},null,null,null,null,null,null,null,null,null,{"$f":"VLOOKUP(C722,Kode!A2:E1008,5,FALSE)","v":{"$error":"#N/A"}},null,null,null,null,null,{"$error":"#DIV/0!"}]
[{"$f":"VLOOKUP(C723,Kode!A2:C1008,2,FALSE)","v":{"$error":"#N/A"}},{"$f":"VLOOKUP(C723,Kode!A2:C1008,3,FALSE)","v":{"$error":"#N/A"}},null,{"$f":"VLOOKUP(C723,Kode!A2:D1008,4,FALSE)","v":{"$error":"#N/A"}},null,null,null,null,null,null,null,null,null,{"$f":"VLOOKUP(C723,Kode!A2:E1008,5,FALSE)","v":{"$error":"#N/A"}},null,null,null,null,null,{"$error":"#DIV/0!"}]
[{"$f":"VLOOKUP(C724,Kode!A2:C1008,2,FALSE)","v":{"$error":"#N/A"}},{"$f":"VLOOKUP(C724,Kode!A2:C1008,3,FALSE)","v":{"$error":"#N/A"}},null,{"$f":"VLOOKUP(C724,Kode!A2:D1008,4,FALSE)","v":{"$error":"#N/A"}},null,null,null,null,null,null,null,null,null,{"$f":"VLOOKUP(C724,Kode!A2:E1008,5,FALSE)","v":{"$error":"#N/A"}},null,null,null,null,null,{"$error":"#DIV/0!"}]
[{"$f":"VLOOKUP(C725,Kode!A2:C1008,2,FALSE)","v":{"$error":"#N/A"}},{"$f":"VLOOKUP(C725,Kode!A2:C1008,3,FALSE)","v":{"$error":"#N/A"}},null,{"$f":"VLOOKUP(C725,Kode!A2:D1008,4,FALSE)","v":{"$error":"#N/A"}},null,null,null,null,null,null,null,null,null,{"$f":"VLOOKUP(C725,Kode!A2:E1008,5,FALSE)","v":{"$error":"#N/A"}},null,null,null,null,null,{"$error":"#DIV/0!"}]
[{"$f":"VLOOKUP(C726,Kode!A2:C1008,2,FALSE)","v":{"$error":"#N/A"}},{"$f":"VLOOKUP(C726,Kode!A2:C1008,3,FALSE)","v":{"$error":"#N/A"}},null,{"$f":"VLOOKUP(C726,Kode!A2:D1008,4,FALSE)","v":{"$error":"#N/A"}},null,null,null,null,null,null,null,null,null,{"$f":"VLOOKUP(C726,Kode!A2:E1008,5,FALSE)","v":{"$error":"#N/A"}},null,null,null,null,null,{"$error":"#DIV/0!"}]
[{"$f":"VLOOKUP(C727,Kode!A2:C1008,2,FALSE)","v":{"$error":"#N/A"}},{"$f":"VLOOKUP(C727,Kode!A2:C1008,3,FALSE)","v":{"$error":"#N/A"}},null,{"$f":"VLOOKUP(C727,Kode!A2:D1008,4,FALSE)","v":{"$error":"#N/A"}},null,null,null,null,null,null,null,null,null,{"$f":"VLOOKUP(C727,Kode!A2:E1008,5,FALSE)","v":{"$error":"#N/A"}},null,null,null,null,null,{"$error":"#DIV/0!"}]
[{"$f":"VLOOKUP(C728,Kode!A2:C1008,2,FALSE)","v":{"$error":"#N/A"}},{"$f":"VLOOKUP(C728,Kode!A2:C1008,3,FALSE)","v":{"$error":"#N/A"}},null,{"$f":"VLOOKUP(C728,Kode!A2:D1008,4,FALSE)","v":{"$error":"#N/A"}},null,null,null,null,null,null,null,null,null,{"$f":"VLOOKUP(C728,Kode!A2:E1008,5,FALSE)","v":{"$error":"#N/A"}},null,null,null,null,null,{"$error":"#DIV/0!"}]
[{"$f":"VLOOKUP(C729,Kode!A2:C1008,2,FALSE)","v":{"$error":"#N/A"}},{"$f":"VLOOKUP(C729,Kode!A2:C1008,3,FALSE)","v":{"$error":"#N/A"}},null,{"$f":"VLOOKUP(C729,Kode!A2:D1008,4,FALSE)","v":{"$error":"#N/A"}},null,null,null,null,null,null,null,null,null,{"$f":"VLOOKUP(C729,Kode!A2:E1008,5,FALSE)","v":{"$error":"#N/A"}},null,null,null,null,null,{"$error":"#DIV/0!"}]
[{"$f":"VLOOKUP(C730,Kode!A2:C1008,2,FALSE)","v":{"$error":"#N/A"}},{"$f":"VLOOKUP(C730,Kode!A2:C1008,3,FALSE)","v":{"$error":"#N/A"}},null,{"$f":"VLOOKUP(C730,Kode!A2:D1008,4,FALSE)","v":{"$error":"#N/A"}},null,null,null,null,null,null,null,null,null,{"$f":"VLOOKUP(C730,Kode!A2:E1008,5,FALSE)","v":{"$error":"#N/A"}},null,null,null,null,null,{"$error":"#DIV/0!"}]
[{"$f":"VLOOKUP(C731,Kode!A2:C1008,2,FALSE)","v":{"$error":"#N/A"}},{"$f":"VLOOKUP(C731,Kode!A2:C1008,3,FALSE)","v":{"$error":"#N/A"}},null,{"$f":"VLOOKUP(C731,Kode!A2:D1008,4,FALSE)","v":{"$error":"#N/A"}},null,null,null,null,null,null,null,null,null,{"$f":"VLOOKUP(C731,Kode!A2:E1008,5,FALSE)","v":{"$error":"#N/A"}},null,null,null,null,null,{"$error":"#DIV/0!"}]
[{"$f":"VLOOKUP(C732,Kode!A2:C1008,2,FALSE)","v":{"$error":"#N/A"}},{"$f":"VLOOKUP(C732,Kode!A2:C1008,3,FALSE)","v":{"$error":"#N/A"}},null,{"$f":"VLOOKUP(C732,Kode!A2:D1008,4,FALSE)","v":{"$error":"#N/A"}},null,null,null,null,null,null,null,null,null,{"$f":"VLOOKUP(C732,Kode!A2:E1008,5,FALSE)","v":{"$error":"#N/A"}},null,null,null,null,null,{"$error":"#DIV/0!"}]
[{"$f":"VLOOKUP(C733,Kode!A2:C1008,2,FALSE)","v":{"$error":"#N/A"}},{"$f":"VLOOKUP(C733,Kode!A2:C1008,3,FALSE)","v":{"$error":"#N/A"}},null,{"$f":"VLOOKUP(C733,Kode!A2:D1008,4,FALSE)","v":{"$error":"#N/A"}},null,null,null,null,null,null,null,null,null,{"$f":"VLOOKUP(C733,Kode!A2:E1008,5,FALSE)","v":{"$error":"#N/A"}},null,null,null,null,null,{"$error":"#DIV/0!"}]
[{"$f":"VLOOKUP(C734,Kode!A2:C1008,2,FALSE)","v":{"$error":"#N/A"}},{"$f":"VLOOKUP(C734,Kode!A2:C1008,3,FALSE)","v":{"$error":"#N/A"}},null,{"$f":"VLOOKUP(C734,Kode!A2:D1008,4,FALSE)","v":{"$error":"#N/A"}},null,null,null,null,null,null,null,null,null,{"$f":"VLOOKUP(C734,Kode!A2:E1008,5,FALSE)","v":{"$error":"#N/A"}},null,null,null,null,null,{"$error":"#DIV/0!"}]
[{"$f":"VLOOKUP(C735,Kode!A2:C1008,2,FALSE)","v":{"$error":"#N/A"}},{"$f":"VLOOKUP(C735,Kode!A2:C1008,3,FALSE)","v":{"$error":"#N/A"}},null,{"$f":"VLOOKUP(C735,Kode!A2:D1008,4,FALSE)","v":{"$error":"#N/A"}},null,null,null,null,null,null,null,null,null,{"$f":"VLOOKUP(C735,Kode!A2:E1008,5,FALSE)","v":{"$error":"#N/A"}},null,null,null,null,null,{"$error":"#DIV/0!"}]
[{"$f":"VLOOKUP(C736,Kode!A2:C1008,2,FALSE)","v":{"$error":"#N/A"}},{"$f":"VLOOKUP(C736,Kode!A2:C1008,3,FALSE)","v":{"$error":"#N/A"}},null,{"$f":"VLOOKUP(C736,Kode!A2:D1008,4,FALSE)","v":{"$error":"#N/A"}},null,null,null,null,null,null,null,null,null,{"$f":"VLOOKUP(C736,Kode!A2:E1008,5,FALSE)","v":{"$error":"#N/A"}},null,null,null,null,null,{"$error":"#DIV/0!"}]
[{"$f":"VLOOKUP(C737,Kode!A2:C1008,2,FALSE)","v":{"$error":"#N/A"}},{"$f":"VLOOKUP(C737,Kode!A2:C1008,3,FALSE)","v":{"$error":"#N/A"}},null,{"$f":"VLOOKUP(C737,Kode!A2:D1008,4,FALSE)","v":{"$error":"#N/A"}},null,null,null,null,null,null,null,null,null,{"$f":"VLOOKUP(C737,Kode!A2:E1008,5,FALSE)","v":{"$error":"#N/A"}},null,null,null,null,null,{"$error":"#DIV/0!"}]
[{"$f":"VLOOKUP(C738,Kode!A2:C1008,2,FALSE)","v":{"$error":"#N/A"}},{"$f":"VLOOKUP(C738,Kode!A2:C1008,3,FALSE)","v":{"$error":"#N/A"}},null,{"$f":"VLOOKUP(C738,Kode!A2:D1008,4,FALSE)","v":{"$error":"#N/A"}},null,null,null,null,null,null,null,null,null,{"$f":"VLOOKUP(C738,Kode!A2:E1008,5,FALSE)","v":{"$error":"#N/A"}},null,null,null,null,null,{"$error":"#DIV/0!"}]
[{"$f":"VLOOKUP(C739,Kode!A2:C1008,2,FALSE)","v":{"$error":"#N/A"}},{"$f":"VLOOKUP(C739,Kode!A2:C1008,3,FALSE)","v":{"$error":"#N/A"}},null,{"$f":"VLOOKUP(C739,Kode!A2:D1008,4,FALSE)","v":{"$error":"#N/A"}},null,null,null,null,null,null,null,null,null,{"$f":"VLOOKUP(C739,Kode!A2:E1008,5,FALSE)","v":{"$error":"#N/A"}},null,null,null,null,null,{"$error":"#DIV/0!"}]
[{"$f":"VLOOKUP(C740,Kode!A2:C1008,2,FALSE)","v":{"$error":"#N/A"}},{"$f":"VLOOKUP(C740,Kode!A2:C1008,3,FALSE)","v":{"$error":"#N/A"}},null,{"$f":"VLOOKUP(C740,Kode!A2:D1008,4,FALSE)","v":{"$error":"#N/A"}},null,null,null,null,null,null,null,null,null,{"$f":"VLOOKUP(C740,Kode!A2:E1008,5,FALSE)","v":{"$error":"#N/A"}},null,null,null,null,null,{"$error":"#DIV/0!"}]
[{"$f":"VLOOKUP(C741,Kode!A2:C1008,2,FALSE)","v":{"$error":"#N/A"}},{"$f":"VLOOKUP(C741,Kode!A2:C1008,3,FALSE)","v":{"$error":"#N/A"}},null,{"$f":"VLOOKUP(C741,Kode!A2:D1008,4,FALSE)","v":{"$error":"#N/A"}},null,null,null,null,null,null,null,null,null,{"$f":"VLOOKUP(C741,Kode!A2:E1008,5,FALSE)","v":{"$error":"#N/A"}},null,null,null,null,null,{"$error":"#DIV/0!"}]
[{"$f":"VLOOKUP(C742,Kode!A2:C1008,2,FALSE)","v":{"$error":"#N/A"}},{"$f":"VLOOKUP(C742,Kode!A2:C1008,3,FALSE)","v":{"$error":"#N/A"}},null,{"$f":"VLOOKUP(C742,Kode!A2:D1008,4,FALSE)","v":{"$error":"#N/A"}},null,null,null,null,null,null,null,null,null,{"$f":"VLOOKUP(C742,Kode!A2:E1008,5,FALSE)","v":{"$error":"#N/A"}},null,null,null,null,null,{"$error":"#DIV/0!"}]
[{"$f":"VLOOKUP(C743,Kode!A2:C1008,2,FALSE)","v":{"$error":"#N/A"}},{"$f":"VLOOKUP(C743,Kode!A2:C1008,3,FALSE)","v":{"$error":"#N/A"}},null,{"$f":"VLOOKUP(C743,Kode!A2:D1008,4,FALSE)","v":{"$error":"#N/A"}},null,null,null,null,null,null,null,null,null,{"$f":"VLOOKUP(C743,Kode!A2:E1008,5,FALSE)","v":{"$error":"#N/A"}},null,null,null,null,null,{"$error":"#DIV/0!"}]
[{"$f":"VLOOKUP(C744,Kode!A2:C1008,2,FALSE)","v":{"$error":"#N/A"}},{"$f":"VLOOKUP(C744,Kode!A2:C1008,3,FALSE)","v":{"$error":"#N/A"}},null,{"$f":"VLOOKUP(C744,Kode!A2:D1008,4,FALSE)","v":{"$error":"#N/A"}},null,null,null,null,null,null,null,null,null,{"$f":"VLOOKUP(C744,Kode!A2:E1008,5,FALSE)","v":{"$error":"#N/A"}},null,null,null,null,null,{"$error":"#DIV/0!"}]
[{"$f":"VLOOKUP(C745,Kode!A2:C1008,2,FALSE)","v":{"$error":"#N/A"}},{"$f":"VLOOKUP(C745,Kode!A2:C1008,3,FALSE)","v":{"$error":"#N/A"}},null,{"$f":"VLOOKUP(C745,Kode!A2:D1008,4,FALSE)","v":{"$error":"#N/A"}},null,null,null,null,null,null,null,null,null,{"$f":"VLOOKUP(C745,Kode!A2:E1008,5,FALSE)","v":{"$error":"#N/A"}},null,null,null,null,null,{"$error":"#DIV/0!"}]
[{"$f":"VLOOKUP(C746,Kode!A2:C1008,2,FALSE)","v":{"$error":"#N/A"}},{"$f":"VLOOKUP(C746,Kode!A2:C1008,3,FALSE)","v":{"$error":"#N/A"}},null,{"$f":"VLOOKUP(C746,Kode!A2:D1008,4,FALSE)","v":{"$error":"#N/A"}},null,null,null,null,null,null,null,null,null,{"$f":"VLOOKUP(C746,Kode!A2:E1008,5,FALSE)","v":{"$error":"#N/A"}},null,null,null,null,null,{"$error":"#DIV/0!"}]
[{"$f":"VLOOKUP(C747,Kode!A2:C1008,2,FALSE)","v":{"$error":"#N/A"}},{"$f":"VLOOKUP(C747,Kode!A2:C1008,3,FALSE)","v":{"$error":"#N/A"}},null,{"$f":"VLOOKUP(C747,Kode!A2:D1008,4,FALSE)","v":{"$error":"#N/A"}},null,null,null,null,null,null,null,null,null,{"$f":"VLOOKUP(C747,Kode!A2:E1008,5,FALSE)","v":{"$error":"#N/A"}},null,null,null,null,null,{"$error":"#DIV/0!"}]
[{"$f":"VLOOKUP(C748,Kode!A2:C1008,2,FALSE)","v":{"$error":"#N/A"}},{"$f":"VLOOKUP(C748,Kode!A2:C1008,3,FALSE)","v":{"$error":"#N/A"}},null,{"$f":"VLOOKUP(C748,Kode!A2:D1008,4,FALSE)","v":{"$error":"#N/A"}},null,null,null,null,null,null,null,null,null,{"$f":"VLOOKUP(C748,Kode!A2:E1008,5,FALSE)","v":{"$error":"#N/A"}},null,null,null,null,null,{"$error":"#DIV/0!"}]
[{"$f":"VLOOKUP(C749,Kode!A2:C1008,2,FALSE)","v":{"$error":"#N/A"}},{"$f":"VLOOKUP(C749,Kode!A2:C1008,3,FALSE)","v":{"$error":"#N/A"}},null,{"$f":"VLOOKUP(C749,Kode!A2:D1008,4,FALSE)","v":{"$error":"#N/A"}},null,null,null,null,null,null,null,null,null,{"$f":"VLOOKUP(C749,Kode!A2:E1008,5,FALSE)","v":{"$error":"#N/A"}},null,null,null,null,null,{"$error":"#DIV/0!"}]
[{"$f":"VLOOKUP(C750,Kode!A2:C1008,2,FALSE)","v":{"$error":"#N/A"}},{"$f":"VLOOKUP(C750,Kode!A2:C1008,3,FALSE)","v":{"$error":"#N/A"}},null,{"$f":"VLOOKUP(C750,Kode!A2:D1008,4,FALSE)","v":{"$error":"#N/A"}},null,null,null,null,null,null,null,null,null,{"$f":"VLOOKUP(C750,Kode!A2:E1008,5,FALSE)","v":{"$error":"#N/A"}},null,null,null,null,null,{"$error":"#DIV/0!"}]
[{"$f":"VLOOKUP(C751,Kode!A2:C1008,2,FALSE)","v":{"$error":"#N/A"}},{"$f":"VLOOKUP(C751,Kode!A2:C1008,3,FALSE)","v":{"$error":"#N/A"}},null,{"$f":"VLOOKUP(C751,Kode!A2:D1008,4,FALSE)","v":{"$error":"#N/A"}},null,null,null,null,null,null,null,null,null,{"$f":"VLOOKUP(C751,Kode!A2:E1008,5,FALSE)","v":{"$error":"#N/A"}},null,null,null,null,null,{"$error":"#DIV/0!"}]
[{"$f":"VLOOKUP(C752,Kode!A2:C1008,2,FALSE)","v":{"$error":"#N/A"}},{"$f":"VLOOKUP(C752,Kode!A2:C1008,3,FALSE)","v":{"$error":"#N/A"}},null,{"$f":"VLOOKUP(C752,Kode!A2:D1008,4,FALSE)","v":{"$error":"#N/A"}},null,null,null,null,null,null,null,null,null,{"$f":"VLOOKUP(C752,Kode!A2:E1008,5,FALSE)","v":{"$error":"#N/A"}},null,null,null,null,null,{"$error":"#DIV/0!"}]
[{"$f":"VLOOKUP(C753,Kode!A2:C1008,2,FALSE)","v":{"$error":"#N/A"}},{"$f":"VLOOKUP(C753,Kode!A2:C1008,3,FALSE)","v":{"$error":"#N/A"}},null,{"$f":"VLOOKUP(C753,Kode!A2:D1008,4,FALSE)","v":{"$error":"#N/A"}},null,null,null,null,null,null,null,null,null,{"$f":"VLOOKUP(C753,Kode!A2:E1008,5,FALSE)","v":{"$error":"#N/A"}},null,null,null,null,null,{"$error":"#DIV/0!"}]
[{"$f":"VLOOKUP(C754,Kode!A2:C1008,2,FALSE)","v":{"$error":"#N/A"}},{"$f":"VLOOKUP(C754,Kode!A2:C1008,3,FALSE)","v":{"$error":"#N/A"}},null,{"$f":"VLOOKUP(C754,Kode!A2:D1008,4,FALSE)","v":{"$error":"#N/A"}},null,null,null,null,null,null,null,null,null,{"$f":"VLOOKUP(C754,Kode!A2:E1008,5,FALSE)","v":{"$error":"#N/A"}},null,null,null,null,null,{"$error":"#DIV/0!"}]
[{"$f":"VLOOKUP(C755,Kode!A2:C1008,2,FALSE)","v":{"$error":"#N/A"}},{"$f":"VLOOKUP(C755,Kode!A2:C1008,3,FALSE)","v":{"$error":"#N/A"}},null,{"$f":"VLOOKUP(C755,Kode!A2:D1008,4,FALSE)","v":{"$error":"#N/A"}},null,null,null,null,null,null,null,null,null,{"$f":"VLOOKUP(C755,Kode!A2:E1008,5,FALSE)","v":{"$error":"#N/A"}},null,null,null,null,null,{"$error":"#DIV/0!"}]
[{"$f":"VLOOKUP(C756,Kode!A2:C1008,2,FALSE)","v":{"$error":"#N/A"}},{"$f":"VLOOKUP(C756,Kode!A2:C1008,3,FALSE)","v":{"$error":"#N/A"}},null,{"$f":"VLOOKUP(C756,Kode!A2:D1008,4,FALSE)","v":{"$error":"#N/A"}},null,null,null,null,null,null,null,null,null,{"$f":"VLOOKUP(C756,Kode!A2:E1008,5,FALSE)","v":{"$error":"#N/A"}},null,null,null,null,null,{"$error":"#DIV/0!"}]
[{"$f":"VLOOKUP(C757,Kode!A2:C1008,2,FALSE)","v":{"$error":"#N/A"}},{"$f":"VLOOKUP(C757,Kode!A2:C1008,3,FALSE)","v":{"$error":"#N/A"}},null,{"$f":"VLOOKUP(C757,Kode!A2:D1008,4,FALSE)","v":{"$error":"#N/A"}},null,null,null,null,null,null,null,null,null,{"$f":"VLOOKUP(C757,Kode!A2:E1008,5,FALSE)","v":{"$error":"#N/A"}},null,null,null,null,null,{"$error":"#DIV/0!"}]
[{"$f":"VLOOKUP(C758,Kode!A2:C1008,2,FALSE)","v":{"$error":"#N/A"}},{"$f":"VLOOKUP(C758,Kode!A2:C1008,3,FALSE)","v":{"$error":"#N/A"}},null,{"$f":"VLOOKUP(C758,Kode!A2:D1008,4,FALSE)","v":{"$error":"#N/A"}},null,null,null,null,null,null,null,null,null,{"$f":"VLOOKUP(C758,Kode!A2:E1008,5,FALSE)","v":{"$error":"#N/A"}},null,null,null,null,null,{"$error":"#DIV/0!"}]
[{"$f":"VLOOKUP(C759,Kode!A2:C1008,2,FALSE)","v":{"$error":"#N/A"}},{"$f":"VLOOKUP(C759,Kode!A2:C1008,3,FALSE)","v":{"$error":"#N/A"}},null,{"$f":"VLOOKUP(C759,Kode!A2:D1008,4,FALSE)","v":{"$error":"#N/A"}},null,null,null,null,null,null,null,null,null,{"$f":"VLOOKUP(C759,Kode!A2:E1008,5,FALSE)","v":{"$error":"#N/A"}},null,null,null,null,null,{"$error":"#DIV/0!"}]
[{"$f":"VLOOKUP(C760,Kode!A2:C1008,2,FALSE)","v":{"$error":"#N/A"}},{"$f":"VLOOKUP(C760,Kode!A2:C1008,3,FALSE)","v":{"$error":"#N/A"}},null,{"$f":"VLOOKUP(C760,Kode!A2:D1008,4,FALSE)","v":{"$error":"#N/A"}},null,null,null,null,null,null,null,null,null,{"$f":"VLOOKUP(C760,Kode!A2:E1008,5,FALSE)","v":{"$error":"#N/A"}},null,null,null,null,null,{"$error":"#DIV/0!"}]
[{"$f":"VLOOKUP(C761,Kode!A2:C1008,2,FALSE)","v":{"$error":"#N/A"}},{"$f":"VLOOKUP(C761,Kode!A2:C1008,3,FALSE)","v":{"$error":"#N/A"}},null,{"$f":"VLOOKUP(C761,Kode!A2:D1008,4,FALSE)","v":{"$error":"#N/A"}},null,null,null,null,null,null,null,null,null,{"$f":"VLOOKUP(C761,Kode!A2:E1008,5,FALSE)","v":{"$error":"#N/A"}},null,null,null,null,null,{"$error":"#DIV/0!"}]
[{"$f":"VLOOKUP(C762,Kode!A2:C1008,2,FALSE)","v":{"$error":"#N/A"}},{"$f":"VLOOKUP(C762,Kode!A2:C1008,3,FALSE)","v":{"$error":"#N/A"}},null,{"$f":"VLOOKUP(C762,Kode!A2:D1008,4,FALSE)","v":{"$error":"#N/A"}},null,null,null,null,null,null,null,null,null,{"$f":"VLOOKUP(C762,Kode!A2:E1008,5,FALSE)","v":{"$error":"#N/A"}},null,null,null,null,null,{"$error":"#DIV/0!"}]
[{"$f":"VLOOKUP(C763,Kode!A2:C1008,2,FALSE)","v":{"$error":"#N/A"}},{"$f":"VLOOKUP(C763,Kode!A2:C1008,3,FALSE)","v":{"$error":"#N/A"}},null,{"$f":"VLOOKUP(C763,Kode!A2:D1008,4,FALSE)","v":{"$error":"#N/A"}},null,null,null,null,null,null,null,null,null,{"$f":"VLOOKUP(C763,Kode!A2:E1008,5,FALSE)","v":{"$error":"#N/A"}},null,null,null,null,null,{"$error":"#DIV/0!"}]
[{"$f":"VLOOKUP(C764,Kode!A2:C1008,2,FALSE)","v":{"$error":"#N/A"}},{"$f":"VLOOKUP(C764,Kode!A2:C1008,3,FALSE)","v":{"$error":"#N/A"}},null,{"$f":"VLOOKUP(C764,Kode!A2:D1008,4,FALSE)","v":{"$error":"#N/A"}},null,null,null,null,null,null,null,null,null,{"$f":"VLOOKUP(C764,Kode!A2:E1008,5,FALSE)","v":{"$error":"#N/A"}},null,null,null,null,null,{"$error":"#DIV/0!"}]
[{"$f":"VLOOKUP(C765,Kode!A2:C1008,2,FALSE)","v":{"$error":"#N/A"}},{"$f":"VLOOKUP(C765,Kode!A2:C1008,3,FALSE)","v":{"$error":"#N/A"}},null,{"$f":"VLOOKUP(C765,Kode!A2:D1008,4,FALSE)","v":{"$error":"#N/A"}},null,null,null,null,null,null,null,null,null,{"$f":"VLOOKUP(C765,Kode!A2:E1008,5,FALSE)","v":{"$error":"#N/A"}},null,null,null,null,null,{"$error":"#DIV/0!"}]
[{"$f":"VLOOKUP(C766,Kode!A2:C1008,2,FALSE)","v":{"$error":"#N/A"}},{"$f":"VLOOKUP(C766,Kode!A2:C1008,3,FALSE)","v":{"$error":"#N/A"}},null,{"$f":"VLOOKUP(C766,Kode!A2:D1008,4,FALSE)","v":{"$error":"#N/A"}},null,null,null,null,null,null,null,null,null,{"$f":"VLOOKUP(C766,Kode!A2:E1008,5,FALSE)","v":{"$error":"#N/A"}},null,null,null,null,null,{"$error":"#DIV/0!"}]
[{"$f":"VLOOKUP(C767,Kode!A2:C1008,2,FALSE)","v":{"$error":"#N/A"}},{"$f":"VLOOKUP(C767,Kode!A2:C1008,3,FALSE)","v":{"$error":"#N/A"}},null,{"$f":"VLOOKUP(C767,Kode!A2:D1008,4,FALSE)","v":{"$error":"#N/A"}},null,null,null,null,null,null,null,null,null,{"$f":"VLOOKUP(C767,Kode!A2:E1008,5,FALSE)","v":{"$error":"#N/A"}},null,null,null,null,null,{"$error":"#DIV/0!"}]
[{"$f":"VLOOKUP(C768,Kode!A2:C1008,2,FALSE)","v":{"$error":"#N/A"}},{"$f":"VLOOKUP(C768,Kode!A2:C1008,3,FALSE)","v":{"$error":"#N/A"}},null,{"$f":"VLOOKUP(C768,Kode!A2:D1008,4,FALSE)","v":{"$error":"#N/A"}},null,null,null,null,null,null,null,null,null,{"$f":"VLOOKUP(C768,Kode!A2:E1008,5,FALSE)","v":{"$error":"#N/A"}},null,null,null,null,null,{"$error":"#DIV/0!"}]
[{"$f":"VLOOKUP(C769,Kode!A2:C1008,2,FALSE)","v":{"$error":"#N/A"}},{"$f":"VLOOKUP(C769,Kode!A2:C1008,3,FALSE)","v":{"$error":"#N/A"}},null,{"$f":"VLOOKUP(C769,Kode!A2:D1008,4,FALSE)","v":{"$error":"#N/A"}},null,null,null,null,null,null,null,null,null,{"$f":"VLOOKUP(C769,Kode!A2:E1008,5,FALSE)","v":{"$error":"#N/A"}},null,null,null,null,null,{"$error":"#DIV/0!"}]
[{"$f":"VLOOKUP(C770,Kode!A2:C1008,2,FALSE)","v":{"$error":"#N/A"}},{"$f":"VLOOKUP(C770,Kode!A2:C1008,3,FALSE)","v":{"$error":"#N/A"}},null,{"$f":"VLOOKUP(C770,Kode!A2:D1008,4,FALSE)","v":{"$error":"#N/A"}},null,null,null,null,null,null,null,null,null,{"$f":"VLOOKUP(C770,Kode!A2:E1008,5,FALSE)","v":{"$error":"#N/A"}},null,null,null,null,null,{"$f":"R770/P770*100","v":{"$error":"#DIV/0!"}}]
[{"$f":"VLOOKUP(C771,Kode!A2:C1008,2,FALSE)","v":{"$error":"#N/A"}},{"$f":"VLOOKUP(C771,Kode!A2:C1008,3,FALSE)","v":{"$error":"#N/A"}},null,{"$f":"VLOOKUP(C771,Kode!A2:D1008,4,FALSE)","v":{"$error":"#N/A"}},null,null,null,null,null,null,null,null,null,{"$f":"VLOOKUP(C771,Kode!A2:E1008,5,FALSE)","v":{"$error":"#N/A"}},null,null,null,null,null,{"$error":"#DIV/0!"}]
[{"$f":"VLOOKUP(C772,Kode!A2:C1008,2,FALSE)","v":{"$error":"#N/A"}},{"$f":"VLOOKUP(C772,Kode!A2:C1008,3,FALSE)","v":{"$error":"#N/A"}},null,{"$f":"VLOOKUP(C772,Kode!A2:D1008,4,FALSE)","v":{"$error":"#N/A"}},null,null,null,null,null,null,null,null,null,{"$f":"VLOOKUP(C772,Kode!A2:E1008,5,FALSE)","v":{"$error":"#N/A"}},null,null,null,null,null,{"$error":"#DIV/0!"}]
[{"$f":"VLOOKUP(C773,Kode!A2:C1008,2,FALSE)","v":{"$error":"#N/A"}},{"$f":"VLOOKUP(C773,Kode!A2:C1008,3,FALSE)","v":{"$error":"#N/A"}},null,{"$f":"VLOOKUP(C773,Kode!A2:D1008,4,FALSE)","v":{"$error":"#N/A"}},null,null,null,null,null,null,null,null,null,{"$f":"VLOOKUP(C773,Kode!A2:E1008,5,FALSE)","v":{"$error":"#N/A"}},null,null,null,null,null,{"$error":"#DIV/0!"}]
[{"$f":"VLOOKUP(C774,Kode!A2:C1008,2,FALSE)","v":{"$error":"#N/A"}},{"$f":"VLOOKUP(C774,Kode!A2:C1008,3,FALSE)","v":{"$error":"#N/A"}},null,{"$f":"VLOOKUP(C774,Kode!A2:D1008,4,FALSE)","v":{"$error":"#N/A"}},null,null,null,null,null,null,null,null,null,{"$f":"VLOOKUP(C774,Kode!A2:E1008,5,FALSE)","v":{"$error":"#N/A"}},null,null,null,null,null,{"$error":"#DIV/0!"}]
[{"$f":"VLOOKUP(C775,Kode!A2:C1008,2,FALSE)","v":{"$error":"#N/A"}},{"$f":"VLOOKUP(C775,Kode!A2:C1008,3,FALSE)","v":{"$error":"#N/A"}},null,{"$f":"VLOOKUP(C775,Kode!A2:D1008,4,FALSE)","v":{"$error":"#N/A"}},null,null,null,null,null,null,null,null,null,{"$f":"VLOOKUP(C775,Kode!A2:E1008,5,FALSE)","v":{"$error":"#N/A"}},null,null,null,null,null,{"$error":"#DIV/0!"}]
[{"$f":"VLOOKUP(C776,Kode!A2:C1008,2,FALSE)","v":{"$error":"#N/A"}},{"$f":"VLOOKUP(C776,Kode!A2:C1008,3,FALSE)","v":{"$error":"#N/A"}},null,{"$f":"VLOOKUP(C776,Kode!A2:D1008,4,FALSE)","v":{"$error":"#N/A"}},null,null,null,null,null,null,null,null,null,{"$f":"VLOOKUP(C776,Kode!A2:E1008,5,FALSE)","v":{"$error":"#N/A"}},null,null,null,null,null,{"$error":"#DIV/0!"}]
[{"$f":"VLOOKUP(C777,Kode!A2:C1008,2,FALSE)","v":{"$error":"#N/A"}},{"$f":"VLOOKUP(C777,Kode!A2:C1008,3,FALSE)","v":{"$error":"#N/A"}},null,{"$f":"VLOOKUP(C777,Kode!A2:D1008,4,FALSE)","v":{"$error":"#N/A"}},null,null,null,null,null,null,null,null,null,{"$f":"VLOOKUP(C777,Kode!A2:E1008,5,FALSE)","v":{"$error":"#N/A"}},null,null,null,null,null,{"$error":"#DIV/0!"}]
[{"$f":"VLOOKUP(C778,Kode!A2:C1008,2,FALSE)","v":{"$error":"#N/A"}},{"$f":"VLOOKUP(C778,Kode!A2:C1008,3,FALSE)","v":{"$error":"#N/A"}},null,{"$f":"VLOOKUP(C778,Kode!A2:D1008,4,FALSE)","v":{"$error":"#N/A"}},null,null,null,null,null,null,null,null,null,{"$f":"VLOOKUP(C778,Kode!A2:E1008,5,FALSE)","v":{"$error":"#N/A"}},null,null,null,null,null,{"$error":"#DIV/0!"}]
[{"$f":"VLOOKUP(C779,Kode!A2:C1008,2,FALSE)","v":{"$error":"#N/A"}},{"$f":"VLOOKUP(C779,Kode!A2:C1008,3,FALSE)","v":{"$error":"#N/A"}},null,{"$f":"VLOOKUP(C779,Kode!A2:D1008,4,FALSE)","v":{"$error":"#N/A"}},null,null,null,null,null,null,null,null,null,{"$f":"VLOOKUP(C779,Kode!A2:E1008,5,FALSE)","v":{"$error":"#N/A"}},null,null,null,null,null,{"$error":"#DIV/0!"}]
[{"$f":"VLOOKUP(C780,Kode!A2:C1008,2,FALSE)","v":{"$error":"#N/A"}},{"$f":"VLOOKUP(C780,Kode!A2:C1008,3,FALSE)","v":{"$error":"#N/A"}},null,{"$f":"VLOOKUP(C780,Kode!A2:D1008,4,FALSE)","v":{"$error":"#N/A"}},null,null,null,null,null,null,null,null,null,{"$f":"VLOOKUP(C780,Kode!A2:E1008,5,FALSE)","v":{"$error":"#N/A"}},null,null,null,null,null,{"$error":"#DIV/0!"}]
[{"$f":"VLOOKUP(C781,Kode!A2:C1008,2,FALSE)","v":{"$error":"#N/A"}},{"$f":"VLOOKUP(C781,Kode!A2:C1008,3,FALSE)","v":{"$error":"#N/A"}},null,{"$f":"VLOOKUP(C781,Kode!A2:D1008,4,FALSE)","v":{"$error":"#N/A"}},null,null,null,null,null,null,null,null,null,{"$f":"VLOOKUP(C781,Kode!A2:E1008,5,FALSE)","v":{"$error":"#N/A"}},null,null,null,null,null,{"$error":"#DIV/0!"}]
[{"$f":"VLOOKUP(C782,Kode!A2:C1008,2,FALSE)","v":{"$error":"#N/A"}},{"$f":"VLOOKUP(C782,Kode!A2:C1008,3,FALSE)","v":{"$error":"#N/A"}},null,{"$f":"VLOOKUP(C782,Kode!A2:D1008,4,FALSE)","v":{"$error":"#N/A"}},null,null,null,null,null,null,null,null,null,{"$f":"VLOOKUP(C782,Kode!A2:E1008,5,FALSE)","v":{"$error":"#N/A"}},null,null,null,null,null,{"$error":"#DIV/0!"}]
[{"$f":"VLOOKUP(C783,Kode!A2:C1008,2,FALSE)","v":{"$error":"#N/A"}},{"$f":"VLOOKUP(C783,Kode!A2:C1008,3,FALSE)","v":{"$error":"#N/A"}},null,{"$f":"VLOOKUP(C783,Kode!A2:D1008,4,FALSE)","v":{"$error":"#N/A"}},null,null,null,null,null,null,null,null,null,{"$f":"VLOOKUP(C783,Kode!A2:E1008,5,FALSE)","v":{"$error":"#N/A"}},null,null,null,null,null,{"$error":"#DIV/0!"}]
[{"$f":"VLOOKUP(C784,Kode!A2:C1008,2,FALSE)","v":{"$error":"#N/A"}},{"$f":"VLOOKUP(C784,Kode!A2:C1008,3,FALSE)","v":{"$error":"#N/A"}},null,{"$f":"VLOOKUP(C784,Kode!A2:D1008,4,FALSE)","v":{"$error":"#N/A"}},null,null,null,null,null,null,null,null,null,{"$f":"VLOOKUP(C784,Kode!A2:E1008,5,FALSE)","v":{"$error":"#N/A"}},null,null,null,null,null,{"$error":"#DIV/0!"}]
[{"$f":"VLOOKUP(C785,Kode!A2:C1008,2,FALSE)","v":{"$error":"#N/A"}},{"$f":"VLOOKUP(C785,Kode!A2:C1008,3,FALSE)","v":{"$error":"#N/A"}},null,{"$f":"VLOOKUP(C785,Kode!A2:D1008,4,FALSE)","v":{"$error":"#N/A"}},null,null,null,null,null,null,null,null,null,{"$f":"VLOOKUP(C785,Kode!A2:E1008,5,FALSE)","v":{"$error":"#N/A"}},null,null,null,null,null,{"$error":"#DIV/0!"}]
[{"$f":"VLOOKUP(C786,Kode!A2:C1008,2,FALSE)","v":{"$error":"#N/A"}},{"$f":"VLOOKUP(C786,Kode!A2:C1008,3,FALSE)","v":{"$error":"#N/A"}},null,{"$f":"VLOOKUP(C786,Kode!A2:D1008,4,FALSE)","v":{"$error":"#N/A"}},null,null,null,null,null,null,null,null,null,{"$f":"VLOOKUP(C786,Kode!A2:E1008,5,FALSE)","v":{"$error":"#N/A"}},null,null,null,null,null,{"$error":"#DIV/0!"}]
[{"$f":"VLOOKUP(C787,Kode!A2:C1008,2,FALSE)","v":{"$error":"#N/A"}},{"$f":"VLOOKUP(C787,Kode!A2:C1008,3,FALSE)","v":{"$error":"#N/A"}},null,{"$f":"VLOOKUP(C787,Kode!A2:D1008,4,FALSE)","v":{"$error":"#N/A"}},null,null,null,null,null,null,null,null,null,{"$f":"VLOOKUP(C787,Kode!A2:E1008,5,FALSE)","v":{"$error":"#N/A"}},null,null,null,null,null,{"$error":"#DIV/0!"}]
[{"$f":"VLOOKUP(C788,Kode!A2:C1008,2,FALSE)","v":{"$error":"#N/A"}},{"$f":"VLOOKUP(C788,Kode!A2:C1008,3,FALSE)","v":{"$error":"#N/A"}},null,{"$f":"VLOOKUP(C788,Kode!A2:D1008,4,FALSE)","v":{"$error":"#N/A"}},null,null,null,null,null,null,null,null,null,{"$f":"VLOOKUP(C788,Kode!A2:E1008,5,FALSE)","v":{"$error":"#N/A"}},null,null,null,null,null,{"$error":"#DIV/0!"}]
[{"$f":"VLOOKUP(C789,Kode!A2:C1008,2,FALSE)","v":{"$error":"#N/A"}},{"$f":"VLOOKUP(C789,Kode!A2:C1008,3,FALSE)","v":{"$error":"#N/A"}},null,{"$f":"VLOOKUP(C789,Kode!A2:D1008,4,FALSE)","v":{"$error":"#N/A"}},null,null,null,null,null,null,null,null,null,{"$f":"VLOOKUP(C789,Kode!A2:E1008,5,FALSE)","v":{"$error":"#N/A"}},null,null,null,null,null,{"$error":"#DIV/0!"}]
[{"$f":"VLOOKUP(C790,Kode!A2:C1008,2,FALSE)","v":{"$error":"#N/A"}},{"$f":"VLOOKUP(C790,Kode!A2:C1008,3,FALSE)","v":{"$error":"#N/A"}},null,{"$f":"VLOOKUP(C790,Kode!A2:D1008,4,FALSE)","v":{"$error":"#N/A"}},null,null,null,null,null,null,null,null,null,{"$f":"VLOOKUP(C790,Kode!A2:E1008,5,FALSE)","v":{"$error":"#N/A"}},null,null,null,null,null,{"$error":"#DIV/0!"}]
[{"$f":"VLOOKUP(C791,Kode!A2:C1008,2,FALSE)","v":{"$error":"#N/A"}},{"$f":"VLOOKUP(C791,Kode!A2:C1008,3,FALSE)","v":{"$error":"#N/A"}},null,{"$f":"VLOOKUP(C791,Kode!A2:D1008,4,FALSE)","v":{"$error":"#N/A"}},null,null,null,null,null,null,null,null,null,{"$f":"VLOOKUP(C791,Kode!A2:E1008,5,FALSE)","v":{"$error":"#N/A"}},null,null,null,null,null,{"$error":"#DIV/0!"}]
[{"$f":"VLOOKUP(C792,Kode!A2:C1008,2,FALSE)","v":{"$error":"#N/A"}},{"$f":"VLOOKUP(C792,Kode!A2:C1008,3,FALSE)","v":{"$error":"#N/A"}},null,{"$f":"VLOOKUP(C792,Kode!A2:D1008,4,FALSE)","v":{"$error":"#N/A"}},null,null,null,null,null,null,null,null,null,{"$f":"VLOOKUP(C792,Kode!A2:E1008,5,FALSE)","v":{"$error":"#N/A"}},null,null,null,null,null,{"$error":"#DIV/0!"}]
[{"$f":"VLOOKUP(C793,Kode!A2:C1008,2,FALSE)","v":{"$error":"#N/A"}},{"$f":"VLOOKUP(C793,Kode!A2:C1008,3,FALSE)","v":{"$error":"#N/A"}},null,{"$f":"VLOOKUP(C793,Kode!A2:D1008,4,FALSE)","v":{"$error":"#N/A"}},null,null,null,null,null,null,null,null,null,{"$f":"VLOOKUP(C793,Kode!A2:E1008,5,FALSE)","v":{"$error":"#N/A"}},null,null,null,null,null,{"$error":"#DIV/0!"}]
[{"$f":"VLOOKUP(C794,Kode!A2:C1008,2,FALSE)","v":{"$error":"#N/A"}},{"$f":"VLOOKUP(C794,Kode!A2:C1008,3,FALSE)","v":{"$error":"#N/A"}},null,{"$f":"VLOOKUP(C794,Kode!A2:D1008,4,FALSE)","v":{"$error":"#N/A"}},null,null,null,null,null,null,null,null,null,{"$f":"VLOOKUP(C794,Kode!A2:E1008,5,FALSE)","v":{"$error":"#N/A"}},null,null,null,null,null,{"$error":"#DIV/0!"}]
[{"$f":"VLOOKUP(C795,Kode!A2:C1008,2,FALSE)","v":{"$error":"#N/A"}},{"$f":"VLOOKUP(C795,Kode!A2:C1008,3,FALSE)","v":{"$error":"#N/A"}},null,{"$f":"VLOOKUP(C795,Kode!A2:D1008,4,FALSE)","v":{"$error":"#N/A"}},null,null,null,null,null,null,null,null,null,{"$f":"VLOOKUP(C795,Kode!A2:E1008,5,FALSE)","v":{"$error":"#N/A"}},null,null,null,null,null,{"$error":"#DIV/0!"}]
[{"$f":"VLOOKUP(C796,Kode!A2:C1008,2,FALSE)","v":{"$error":"#N/A"}},{"$f":"VLOOKUP(C796,Kode!A2:C1008,3,FALSE)","v":{"$error":"#N/A"}},null,{"$f":"VLOOKUP(C796,Kode!A2:D1008,4,FALSE)","v":{"$error":"#N/A"}},null,null,null,null,null,null,null,null,null,{"$f":"VLOOKUP(C796,Kode!A2:E1008,5,FALSE)","v":{"$error":"#N/A"}},null,null,null,null,null,{"$error":"#DIV/0!"}]
[{"$f":"VLOOKUP(C797,Kode!A2:C1008,2,FALSE)","v":{"$error":"#N/A"}},{"$f":"VLOOKUP(C797,Kode!A2:C1008,3,FALSE)","v":{"$error":"#N/A"}},null,{"$f":"VLOOKUP(C797,Kode!A2:D1008,4,FALSE)","v":{"$error":"#N/A"}},null,null,null,null,null,null,null,null,null,{"$f":"VLOOKUP(C797,Kode!A2:E1008,5,FALSE)","v":{"$error":"#N/A"}},null,null,null,null,null,{"$error":"#DIV/0!"}]
[{"$f":"VLOOKUP(C798,Kode!A2:C1008,2,FALSE)","v":{"$error":"#N/A"}},{"$f":"VLOOKUP(C798,Kode!A2:C1008,3,FALSE)","v":{"$error":"#N/A"}},null,{"$f":"VLOOKUP(C798,Kode!A2:D1008,4,FALSE)","v":{"$error":"#N/A"}},null,null,null,null,null,null,null,null,null,{"$f":"VLOOKUP(C798,Kode!A2:E1008,5,FALSE)","v":{"$error":"#N/A"}},null,null,null,null,null,{"$error":"#DIV/0!"}]
[{"$f":"VLOOKUP(C799,Kode!A2:C1008,2,FALSE)","v":{"$error":"#N/A"}},{"$f":"VLOOKUP(C799,Kode!A2:C1008,3,FALSE)","v":{"$error":"#N/A"}},null,{"$f":"VLOOKUP(C799,Kode!A2:D1008,4,FALSE)","v":{"$error":"#N/A"}},null,null,null,null,null,null,null,null,null,{"$f":"VLOOKUP(C799,Kode!A2:E1008,5,FALSE)","v":{"$error":"#N/A"}},null,null,null,null,null,{"$error":"#DIV/0!"}]
[{"$f":"VLOOKUP(C800,Kode!A2:C1008,2,FALSE)","v":{"$error":"#N/A"}},{"$f":"VLOOKUP(C800,Kode!A2:C1008,3,FALSE)","v":{"$error":"#N/A"}},null,{"$f":"VLOOKUP(C800,Kode!A2:D1008,4,FALSE)","v":{"$error":"#N/A"}},null,null,null,null,null,null,null,null,null,{"$f":"VLOOKUP(C800,Kode!A2:E1008,5,FALSE)","v":{"$error":"#N/A"}},null,null,null,null,null,{"$error":"#DIV/0!"}]
[{"$f":"VLOOKUP(C801,Kode!A2:C1008,2,FALSE)","v":{"$error":"#N/A"}},{"$f":"VLOOKUP(C801,Kode!A2:C1008,3,FALSE)","v":{"$error":"#N/A"}},null,{"$f":"VLOOKUP(C801,Kode!A2:D1008,4,FALSE)","v":{"$error":"#N/A"}},null,null,null,null,null,null,null,null,null,{"$f":"VLOOKUP(C801,Kode!A2:E1008,5,FALSE)","v":{"$error":"#N/A"}},null,null,null,null,null,{"$error":"#DIV/0!"}]
[{"$f":"VLOOKUP(C802,Kode!A2:C1008,2,FALSE)","v":{"$error":"#N/A"}},{"$f":"VLOOKUP(C802,Kode!A2:C1008,3,FALSE)","v":{"$error":"#N/A"}},null,{"$f":"VLOOKUP(C802,Kode!A2:D1008,4,FALSE)","v":{"$error":"#N/A"}},null,null,null,null,null,null,null,null,null,{"$f":"VLOOKUP(C802,Kode!A2:E1008,5,FALSE)","v":{"$error":"#N/A"}},null,null,null,null,null,{"$error":"#DIV/0!"}]
[{"$f":"VLOOKUP(C803,Kode!A2:C1008,2,FALSE)","v":{"$error":"#N/A"}},{"$f":"VLOOKUP(C803,Kode!A2:C1008,3,FALSE)","v":{"$error":"#N/A"}},null,{"$f":"VLOOKUP(C803,Kode!A2:D1008,4,FALSE)","v":{"$error":"#N/A"}},null,null,null,null,null,null,null,null,null,{"$f":"VLOOKUP(C803,Kode!A2:E1008,5,FALSE)","v":{"$error":"#N/A"}},null,null,null,null,null,{"$error":"#DIV/0!"}]
[{"$f":"VLOOKUP(C804,Kode!A2:C1008,2,FALSE)","v":{"$error":"#N/A"}},{"$f":"VLOOKUP(C804,Kode!A2:C1008,3,FALSE)","v":{"$error":"#N/A"}},null,{"$f":"VLOOKUP(C804,Kode!A2:D1008,4,FALSE)","v":{"$error":"#N/A"}},null,null,null,null,null,null,null,null,null,{"$f":"VLOOKUP(C804,Kode!A2:E1008,5,FALSE)","v":{"$error":"#N/A"}},null,null,null,null,null,{"$error":"#DIV/0!"}]
[{"$f":"VLOOKUP(C805,Kode!A2:C1008,2,FALSE)","v":{"$error":"#N/A"}},{"$f":"VLOOKUP(C805,Kode!A2:C1008,3,FALSE)","v":{"$error":"#N/A"}},null,{"$f":"VLOOKUP(C805,Kode!A2:D1008,4,FALSE)","v":{"$error":"#N/A"}},null,null,null,null,null,null,null,null,null,{"$f":"VLOOKUP(C805,Kode!A2:E1008,5,FALSE)","v":{"$error":"#N/A"}},null,null,null,null,null,{"$error":"#DIV/0!"}]
[{"$f":"VLOOKUP(C806,Kode!A2:C1008,2,FALSE)","v":{"$error":"#N/A"}},{"$f":"VLOOKUP(C806,Kode!A2:C1008,3,FALSE)","v":{"$error":"#N/A"}},null,{"$f":"VLOOKUP(C806,Kode!A2:D1008,4,FALSE)","v":{"$error":"#N/A"}},null,null,null,null,null,null,null,null,null,{"$f":"VLOOKUP(C806,Kode!A2:E1008,5,FALSE)","v":{"$error":"#N/A"}},null,null,null,null,null,{"$error":"#DIV/0!"}]
[{"$f":"VLOOKUP(C807,Kode!A2:C1008,2,FALSE)","v":{"$error":"#N/A"}},{"$f":"VLOOKUP(C807,Kode!A2:C1008,3,FALSE)","v":{"$error":"#N/A"}},null,{"$f":"VLOOKUP(C807,Kode!A2:D1008,4,FALSE)","v":{"$error":"#N/A"}},null,null,null,null,null,null,null,null,null,{"$f":"VLOOKUP(C807,Kode!A2:E1008,5,FALSE)","v":{"$error":"#N/A"}},null,null,null,null,null,{"$error":"#DIV/0!"}]
[{"$f":"VLOOKUP(C808,Kode!A2:C1008,2,FALSE)","v":{"$error":"#N/A"}},{"$f":"VLOOKUP(C808,Kode!A2:C1008,3,FALSE)","v":{"$error":"#N/A"}},null,{"$f":"VLOOKUP(C808,Kode!A2:D1008,4,FALSE)","v":{"$error":"#N/A"}},null,null,null,null,null,null,null,null,null,{"$f":"VLOOKUP(C808,Kode!A2:E1008,5,FALSE)","v":{"$error":"#N/A"}},null,null,null,null,null,{"$error":"#DIV/0!"}]
[{"$f":"VLOOKUP(C809,Kode!A2:C1008,2,FALSE)","v":{"$error":"#N/A"}},{"$f":"VLOOKUP(C809,Kode!A2:C1008,3,FALSE)","v":{"$error":"#N/A"}},null,{"$f":"VLOOKUP(C809,Kode!A2:D1008,4,FALSE)","v":{"$error":"#N/A"}},null,null,null,null,null,null,null,null,null,{"$f":"VLOOKUP(C809,Kode!A2:E1008,5,FALSE)","v":{"$error":"#N/A"}},null,null,null,null,null,{"$error":"#DIV/0!"}]
[{"$f":"VLOOKUP(C810,Kode!A2:C1008,2,FALSE)","v":{"$error":"#N/A"}},{"$f":"VLOOKUP(C810,Kode!A2:C1008,3,FALSE)","v":{"$error":"#N/A"}},null,{"$f":"VLOOKUP(C810,Kode!A2:D1008,4,FALSE)","v":{"$error":"#N/A"}},null,null,null,null,null,null,null,null,null,{"$f":"VLOOKUP(C810,Kode!A2:E1008,5,FALSE)","v":{"$error":"#N/A"}},null,null,null,null,null,{"$error":"#DIV/0!"}]
[{"$f":"VLOOKUP(C811,Kode!A2:C1008,2,FALSE)","v":{"$error":"#N/A"}},{"$f":"VLOOKUP(C811,Kode!A2:C1008,3,FALSE)","v":{"$error":"#N/A"}},null,{"$f":"VLOOKUP(C811,Kode!A2:D1008,4,FALSE)","v":{"$error":"#N/A"}},null,null,null,null,null,null,null,null,null,{"$f":"VLOOKUP(C811,Kode!A2:E1008,5,FALSE)","v":{"$error":"#N/A"}},null,null,null,null,null,{"$error":"#DIV/0!"}]
[{"$f":"VLOOKUP(C812,Kode!A2:C1008,2,FALSE)","v":{"$error":"#N/A"}},{"$f":"VLOOKUP(C812,Kode!A2:C1008,3,FALSE)","v":{"$error":"#N/A"}},null,{"$f":"VLOOKUP(C812,Kode!A2:D1008,4,FALSE)","v":{"$error":"#N/A"}},null,null,null,null,null,null,null,null,null,{"$f":"VLOOKUP(C812,Kode!A2:E1008,5,FALSE)","v":{"$error":"#N/A"}},null,null,null,null,null,{"$error":"#DIV/0!"}]
[{"$f":"VLOOKUP(C813,Kode!A2:C1008,2,FALSE)","v":{"$error":"#N/A"}},{"$f":"VLOOKUP(C813,Kode!A2:C1008,3,FALSE)","v":{"$error":"#N/A"}},null,{"$f":"VLOOKUP(C813,Kode!A2:D1008,4,FALSE)","v":{"$error":"#N/A"}},null,null,null,null,null,null,null,null,null,{"$f":"VLOOKUP(C813,Kode!A2:E1008,5,FALSE)","v":{"$error":"#N/A"}},null,null,null,null,null,{"$error":"#DIV/0!"}]
[{"$f":"VLOOKUP(C814,Kode!A2:C1008,2,FALSE)","v":{"$error":"#N/A"}},{"$f":"VLOOKUP(C814,Kode!A2:C1008,3,FALSE)","v":{"$error":"#N/A"}},null,{"$f":"VLOOKUP(C814,Kode!A2:D1008,4,FALSE)","v":{"$error":"#N/A"}},null,null,null,null,null,null,null,null,null,{"$f":"VLOOKUP(C814,Kode!A2:E1008,5,FALSE)","v":{"$error":"#N/A"}},null,null,null,null,null,{"$error":"#DIV/0!"}]
[{"$f":"VLOOKUP(C815,Kode!A2:C1008,2,FALSE)","v":{"$error":"#N/A"}},{"$f":"VLOOKUP(C815,Kode!A2:C1008,3,FALSE)","v":{"$error":"#N/A"}},null,{"$f":"VLOOKUP(C815,Kode!A2:D1008,4,FALSE)","v":{"$error":"#N/A"}},null,null,null,null,null,null,null,null,null,{"$f":"VLOOKUP(C815,Kode!A2:E1008,5,FALSE)","v":{"$error":"#N/A"}},null,null,null,null,null,{"$error":"#DIV/0!"}]
[{"$f":"VLOOKUP(C816,Kode!A2:C1008,2,FALSE)","v":{"$error":"#N/A"}},{"$f":"VLOOKUP(C816,Kode!A2:C1008,3,FALSE)","v":{"$error":"#N/A"}},null,{"$f":"VLOOKUP(C816,Kode!A2:D1008,4,FALSE)","v":{"$error":"#N/A"}},null,null,null,null,null,null,null,null,null,{"$f":"VLOOKUP(C816,Kode!A2:E1008,5,FALSE)","v":{"$error":"#N/A"}},null,null,null,null,null,{"$error":"#DIV/0!"}]
[{"$f":"VLOOKUP(C817,Kode!A2:C1008,2,FALSE)","v":{"$error":"#N/A"}},{"$f":"VLOOKUP(C817,Kode!A2:C1008,3,FALSE)","v":{"$error":"#N/A"}},null,{"$f":"VLOOKUP(C817,Kode!A2:D1008,4,FALSE)","v":{"$error":"#N/A"}},null,null,null,null,null,null,null,null,null,{"$f":"VLOOKUP(C817,Kode!A2:E1008,5,FALSE)","v":{"$error":"#N/A"}},null,null,null,null,null,{"$error":"#DIV/0!"}]
[{"$f":"VLOOKUP(C818,Kode!A2:C1008,2,FALSE)","v":{"$error":"#N/A"}},{"$f":"VLOOKUP(C818,Kode!A2:C1008,3,FALSE)","v":{"$error":"#N/A"}},null,{"$f":"VLOOKUP(C818,Kode!A2:D1008,4,FALSE)","v":{"$error":"#N/A"}},null,null,null,null,null,null,null,null,null,{"$f":"VLOOKUP(C818,Kode!A2:E1008,5,FALSE)","v":{"$error":"#N/A"}},null,null,null,null,null,{"$error":"#DIV/0!"}]
[{"$f":"VLOOKUP(C819,Kode!A2:C1008,2,FALSE)","v":{"$error":"#N/A"}},{"$f":"VLOOKUP(C819,Kode!A2:C1008,3,FALSE)","v":{"$error":"#N/A"}},null,{"$f":"VLOOKUP(C819,Kode!A2:D1008,4,FALSE)","v":{"$error":"#N/A"}},null,null,null,null,null,null,null,null,null,{"$f":"VLOOKUP(C819,Kode!A2:E1008,5,FALSE)","v":{"$error":"#N/A"}},null,null,null,null,null,{"$error":"#DIV/0!"}]
[{"$f":"VLOOKUP(C820,Kode!A2:C1008,2,FALSE)","v":{"$error":"#N/A"}},{"$f":"VLOOKUP(C820,Kode!A2:C1008,3,FALSE)","v":{"$error":"#N/A"}},null,{"$f":"VLOOKUP(C820,Kode!A2:D1008,4,FALSE)","v":{"$error":"#N/A"}},null,null,null,null,null,null,null,null,null,{"$f":"VLOOKUP(C820,Kode!A2:E1008,5,FALSE)","v":{"$error":"#N/A"}},null,null,null,null,null,{"$error":"#DIV/0!"}]
[{"$f":"VLOOKUP(C821,Kode!A2:C1008,2,FALSE)","v":{"$error":"#N/A"}},{"$f":"VLOOKUP(C821,Kode!A2:C1008,3,FALSE)","v":{"$error":"#N/A"}},null,{"$f":"VLOOKUP(C821,Kode!A2:D1008,4,FALSE)","v":{"$error":"#N/A"}},null,null,null,null,null,null,null,null,null,{"$f":"VLOOKUP(C821,Kode!A2:E1008,5,FALSE)","v":{"$error":"#N/A"}},null,null,null,null,null,{"$error":"#DIV/0!"}]
[{"$f":"VLOOKUP(C822,Kode!A2:C1008,2,FALSE)","v":{"$error":"#N/A"}},{"$f":"VLOOKUP(C822,Kode!A2:C1008,3,FALSE)","v":{"$error":"#N/A"}},null,{"$f":"VLOOKUP(C822,Kode!A2:D1008,4,FALSE)","v":{"$error":"#N/A"}},null,null,null,null,null,null,null,null,null,{"$f":"VLOOKUP(C822,Kode!A2:E1008,5,FALSE)","v":{"$error":"#N/A"}},null,null,null,null,null,{"$error":"#DIV/0!"}]
[{"$f":"VLOOKUP(C823,Kode!A2:C1008,2,FALSE)","v":{"$error":"#N/A"}},{"$f":"VLOOKUP(C823,Kode!A2:C1008,3,FALSE)","v":{"$error":"#N/A"}},null,{"$f":"VLOOKUP(C823,Kode!A2:D1008,4,FALSE)","v":{"$error":"#N/A"}},null,null,null,null,null,null,null,null,null,{"$f":"VLOOKUP(C823,Kode!A2:E1008,5,FALSE)","v":{"$error":"#N/A"}},null,null,null,null,null,{"$error":"#DIV/0!"}]
[{"$f":"VLOOKUP(C824,Kode!A2:C1008,2,FALSE)","v":{"$error":"#N/A"}},{"$f":"VLOOKUP(C824,Kode!A2:C1008,3,FALSE)","v":{"$error":"#N/A"}},null,{"$f":"VLOOKUP(C824,Kode!A2:D1008,4,FALSE)","v":{"$error":"#N/A"}},null,null,null,null,null,null,null,null,null,{"$f":"VLOOKUP(C824,Kode!A2:E1008,5,FALSE)","v":{"$error":"#N/A"}},null,null,null,null,null,{"$error":"#DIV/0!"}]
[{"$f":"VLOOKUP(C825,Kode!A2:C1008,2,FALSE)","v":{"$error":"#N/A"}},{"$f":"VLOOKUP(C825,Kode!A2:C1008,3,FALSE)","v":{"$error":"#N/A"}},null,{"$f":"VLOOKUP(C825,Kode!A2:D1008,4,FALSE)","v":{"$error":"#N/A"}},null,null,null,null,null,null,null,null,null,{"$f":"VLOOKUP(C825,Kode!A2:E1008,5,FALSE)","v":{"$error":"#N/A"}},null,null,null,null,null,{"$error":"#DIV/0!"}]
[{"$f":"VLOOKUP(C826,Kode!A2:C1008,2,FALSE)","v":{"$error":"#N/A"}},{"$f":"VLOOKUP(C826,Kode!A2:C1008,3,FALSE)","v":{"$error":"#N/A"}},null,{"$f":"VLOOKUP(C826,Kode!A2:D1008,4,FALSE)","v":{"$error":"#N/A"}},null,null,null,null,null,null,null,null,null,{"$f":"VLOOKUP(C826,Kode!A2:E1008,5,FALSE)","v":{"$error":"#N/A"}},null,null,null,null,null,{"$error":"#DIV/0!"}]
[{"$f":"VLOOKUP(C827,Kode!A2:C1008,2,FALSE)","v":{"$error":"#N/A"}},{"$f":"VLOOKUP(C827,Kode!A2:C1008,3,FALSE)","v":{"$error":"#N/A"}},null,{"$f":"VLOOKUP(C827,Kode!A2:D1008,4,FALSE)","v":{"$error":"#N/A"}},null,null,null,null,null,null,null,null,null,{"$f":"VLOOKUP(C827,Kode!A2:E1008,5,FALSE)","v":{"$error":"#N/A"}},null,null,null,null,null,{"$error":"#DIV/0!"}]
[{"$f":"VLOOKUP(C828,Kode!A2:C1008,2,FALSE)","v":{"$error":"#N/A"}},{"$f":"VLOOKUP(C828,Kode!A2:C1008,3,FALSE)","v":{"$error":"#N/A"}},null,{"$f":"VLOOKUP(C828,Kode!A2:D1008,4,FALSE)","v":{"$error":"#N/A"}},null,null,null,null,null,null,null,null,null,{"$f":"VLOOKUP(C828,Kode!A2:E1008,5,FALSE)","v":{"$error":"#N/A"}},null,null,null,null,null,{"$error":"#DIV/0!"}]
[{"$f":"VLOOKUP(C829,Kode!A2:C1008,2,FALSE)","v":{"$error":"#N/A"}},{"$f":"VLOOKUP(C829,Kode!A2:C1008,3,FALSE)","v":{"$error":"#N/A"}},null,{"$f":"VLOOKUP(C829,Kode!A2:D1008,4,FALSE)","v":{"$error":"#N/A"}},null,null,null,null,null,null,null,null,null,{"$f":"VLOOKUP(C829,Kode!A2:E1008,5,FALSE)","v":{"$error":"#N/A"}},null,null,null,null,null,{"$error":"#DIV/0!"}]
[{"$f":"VLOOKUP(C830,Kode!A2:C1008,2,FALSE)","v":{"$error":"#N/A"}},{"$f":"VLOOKUP(C830,Kode!A2:C1008,3,FALSE)","v":{"$error":"#N/A"}},null,{"$f":"VLOOKUP(C830,Kode!A2:D1008,4,FALSE)","v":{"$error":"#N/A"}},null,null,null,null,null,null,null,null,null,{"$f":"VLOOKUP(C830,Kode!A2:E1008,5,FALSE)","v":{"$error":"#N/A"}},null,null,null,null,null,{"$error":"#DIV/0!"}]
[{"$f":"VLOOKUP(C831,Kode!A2:C1008,2,FALSE)","v":{"$error":"#N/A"}},{"$f":"VLOOKUP(C831,Kode!A2:C1008,3,FALSE)","v":{"$error":"#N/A"}},null,{"$f":"VLOOKUP(C831,Kode!A2:D1008,4,FALSE)","v":{"$error":"#N/A"}},null,null,null,null,null,null,null,null,null,{"$f":"VLOOKUP(C831,Kode!A2:E1008,5,FALSE)","v":{"$error":"#N/A"}},null,null,null,null,null,{"$error":"#DIV/0!"}]
[{"$f":"VLOOKUP(C832,Kode!A2:C1008,2,FALSE)","v":{"$error":"#N/A"}},{"$f":"VLOOKUP(C832,Kode!A2:C1008,3,FALSE)","v":{"$error":"#N/A"}},null,{"$f":"VLOOKUP(C832,Kode!A2:D1008,4,FALSE)","v":{"$error":"#N/A"}},null,null,null,null,null,null,null,null,null,{"$f":"VLOOKUP(C832,Kode!A2:E1008,5,FALSE)","v":{"$error":"#N/A"}},null,null,null,null,null,{"$error":"#DIV/0!"}]
[{"$f":"VLOOKUP(C833,Kode!A2:C1008,2,FALSE)","v":{"$error":"#N/A"}},{"$f":"VLOOKUP(C833,Kode!A2:C1008,3,FALSE)","v":{"$error":"#N/A"}},null,{"$f":"VLOOKUP(C833,Kode!A2:D1008,4,FALSE)","v":{"$error":"#N/A"}},null,null,null,null,null,null,null,null,null,{"$f":"VLOOKUP(C833,Kode!A2:E1008,5,FALSE)","v":{"$error":"#N/A"}},null,null,null,null,null,{"$error":"#DIV/0!"}]
[{"$f":"VLOOKUP(C834,Kode!A2:C1008,2,FALSE)","v":{"$error":"#N/A"}},{"$f":"VLOOKUP(C834,Kode!A2:C1008,3,FALSE)","v":{"$error":"#N/A"}},null,{"$f":"VLOOKUP(C834,Kode!A2:D1008,4,FALSE)","v":{"$error":"#N/A"}},null,null,null,null,null,null,null,null,null,{"$f":"VLOOKUP(C834,Kode!A2:E1008,5,FALSE)","v":{"$error":"#N/A"}},null,null,null,null,null,{"$f":"R834/P834*100","v":{"$error":"#DIV/0!"}}]
[{"$f":"VLOOKUP(C835,Kode!A2:C1008,2,FALSE)","v":{"$error":"#N/A"}},{"$f":"VLOOKUP(C835,Kode!A2:C1008,3,FALSE)","v":{"$error":"#N/A"}},null,{"$f":"VLOOKUP(C835,Kode!A2:D1008,4,FALSE)","v":{"$error":"#N/A"}},null,null,null,null,null,null,null,null,null,{"$f":"VLOOKUP(C835,Kode!A2:E1008,5,FALSE)","v":{"$error":"#N/A"}},null,null,null,null,null,{"$error":"#DIV/0!"}]
[{"$f":"VLOOKUP(C836,Kode!A2:C1008,2,FALSE)","v":{"$error":"#N/A"}},{"$f":"VLOOKUP(C836,Kode!A2:C1008,3,FALSE)","v":{"$error":"#N/A"}},null,{"$f":"VLOOKUP(C836,Kode!A2:D1008,4,FALSE)","v":{"$error":"#N/A"}},null,null,null,null,null,null,null,null,null,{"$f":"VLOOKUP(C836,Kode!A2:E1008,5,FALSE)","v":{"$error":"#N/A"}},null,null,null,null,null,{"$error":"#DIV/0!"}]
[{"$f":"VLOOKUP(C837,Kode!A2:C1008,2,FALSE)","v":{"$error":"#N/A"}},{"$f":"VLOOKUP(C837,Kode!A2:C1008,3,FALSE)","v":{"$error":"#N/A"}},null,{"$f":"VLOOKUP(C837,Kode!A2:D1008,4,FALSE)","v":{"$error":"#N/A"}},null,null,null,null,null,null,null,null,null,{"$f":"VLOOKUP(C837,Kode!A2:E1008,5,FALSE)","v":{"$error":"#N/A"}},null,null,null,null,null,{"$error":"#DIV/0!"}]
[{"$f":"VLOOKUP(C838,Kode!A2:C1008,2,FALSE)","v":{"$error":"#N/A"}},{"$f":"VLOOKUP(C838,Kode!A2:C1008,3,FALSE)","v":{"$error":"#N/A"}},null,{"$f":"VLOOKUP(C838,Kode!A2:D1008,4,FALSE)","v":{"$error":"#N/A"}},null,null,null,null,null,null,null,null,null,{"$f":"VLOOKUP(C838,Kode!A2:E1008,5,FALSE)","v":{"$error":"#N/A"}},null,null,null,null,null,{"$error":"#DIV/0!"}]
[{"$f":"VLOOKUP(C839,Kode!A2:C1008,2,FALSE)","v":{"$error":"#N/A"}},{"$f":"VLOOKUP(C839,Kode!A2:C1008,3,FALSE)","v":{"$error":"#N/A"}},null,{"$f":"VLOOKUP(C839,Kode!A2:D1008,4,FALSE)","v":{"$error":"#N/A"}},null,null,null,null,null,null,null,null,null,{"$f":"VLOOKUP(C839,Kode!A2:E1008,5,FALSE)","v":{"$error":"#N/A"}},null,null,null,null,null,{"$error":"#DIV/0!"}]
[{"$f":"VLOOKUP(C840,Kode!A2:C1008,2,FALSE)","v":{"$error":"#N/A"}},{"$f":"VLOOKUP(C840,Kode!A2:C1008,3,FALSE)","v":{"$error":"#N/A"}},null,{"$f":"VLOOKUP(C840,Kode!A2:D1008,4,FALSE)","v":{"$error":"#N/A"}},null,null,null,null,null,null,null,null,null,{"$f":"VLOOKUP(C840,Kode!A2:E1008,5,FALSE)","v":{"$error":"#N/A"}},null,null,null,null,null,{"$error":"#DIV/0!"}]
[{"$f":"VLOOKUP(C841,Kode!A2:C1008,2,FALSE)","v":{"$error":"#N/A"}},{"$f":"VLOOKUP(C841,Kode!A2:C1008,3,FALSE)","v":{"$error":"#N/A"}},null,{"$f":"VLOOKUP(C841,Kode!A2:D1008,4,FALSE)","v":{"$error":"#N/A"}},null,null,null,null,null,null,null,null,null,{"$f":"VLOOKUP(C841,Kode!A2:E1008,5,FALSE)","v":{"$error":"#N/A"}},null,null,null,null,null,{"$error":"#DIV/0!"}]
[{"$f":"VLOOKUP(C842,Kode!A2:C1008,2,FALSE)","v":{"$error":"#N/A"}},{"$f":"VLOOKUP(C842,Kode!A2:C1008,3,FALSE)","v":{"$error":"#N/A"}},null,{"$f":"VLOOKUP(C842,Kode!A2:D1008,4,FALSE)","v":{"$error":"#N/A"}},null,null,null,null,null,null,null,null,null,{"$f":"VLOOKUP(C842,Kode!A2:E1008,5,FALSE)","v":{"$error":"#N/A"}},null,null,null,null,null,{"$error":"#DIV/0!"}]
[{"$f":"VLOOKUP(C843,Kode!A2:C1008,2,FALSE)","v":{"$error":"#N/A"}},{"$f":"VLOOKUP(C843,Kode!A2:C1008,3,FALSE)","v":{"$error":"#N/A"}},null,{"$f":"VLOOKUP(C843,Kode!A2:D1008,4,FALSE)","v":{"$error":"#N/A"}},null,null,null,null,null,null,null,null,null,{"$f":"VLOOKUP(C843,Kode!A2:E1008,5,FALSE)","v":{"$error":"#N/A"}},null,null,null,null,null,{"$error":"#DIV/0!"}]
[{"$f":"VLOOKUP(C844,Kode!A2:C1008,2,FALSE)","v":{"$error":"#N/A"}},{"$f":"VLOOKUP(C844,Kode!A2:C1008,3,FALSE)","v":{"$error":"#N/A"}},null,{"$f":"VLOOKUP(C844,Kode!A2:D1008,4,FALSE)","v":{"$error":"#N/A"}},null,null,null,null,null,null,null,null,null,{"$f":"VLOOKUP(C844,Kode!A2:E1008,5,FALSE)","v":{"$error":"#N/A"}},null,null,null,null,null,{"$error":"#DIV/0!"}]
[{"$f":"VLOOKUP(C845,Kode!A2:C1008,2,FALSE)","v":{"$error":"#N/A"}},{"$f":"VLOOKUP(C845,Kode!A2:C1008,3,FALSE)","v":{"$error":"#N/A"}},null,{"$f":"VLOOKUP(C845,Kode!A2:D1008,4,FALSE)","v":{"$error":"#N/A"}},null,null,null,null,null,null,null,null,null,{"$f":"VLOOKUP(C845,Kode!A2:E1008,5,FALSE)","v":{"$error":"#N/A"}},null,null,null,null,null,{"$error":"#DIV/0!"}]
[{"$f":"VLOOKUP(C846,Kode!A2:C1008,2,FALSE)","v":{"$error":"#N/A"}},{"$f":"VLOOKUP(C846,Kode!A2:C1008,3,FALSE)","v":{"$error":"#N/A"}},null,{"$f":"VLOOKUP(C846,Kode!A2:D1008,4,FALSE)","v":{"$error":"#N/A"}},null,null,null,null,null,null,null,null,null,{"$f":"VLOOKUP(C846,Kode!A2:E1008,5,FALSE)","v":{"$error":"#N/A"}},null,null,null,null,null,{"$error":"#DIV/0!"}]
[{"$f":"VLOOKUP(C847,Kode!A2:C1008,2,FALSE)","v":{"$error":"#N/A"}},{"$f":"VLOOKUP(C847,Kode!A2:C1008,3,FALSE)","v":{"$error":"#N/A"}},null,{"$f":"VLOOKUP(C847,Kode!A2:D1008,4,FALSE)","v":{"$error":"#N/A"}},null,null,null,null,null,null,null,null,null,{"$f":"VLOOKUP(C847,Kode!A2:E1008,5,FALSE)","v":{"$error":"#N/A"}},null,null,null,null,null,{"$error":"#DIV/0!"}]
[{"$f":"VLOOKUP(C848,Kode!A2:C1008,2,FALSE)","v":{"$error":"#N/A"}},{"$f":"VLOOKUP(C848,Kode!A2:C1008,3,FALSE)","v":{"$error":"#N/A"}},null,{"$f":"VLOOKUP(C848,Kode!A2:D1008,4,FALSE)","v":{"$error":"#N/A"}},null,null,null,null,null,null,null,null,null,{"$f":"VLOOKUP(C848,Kode!A2:E1008,5,FALSE)","v":{"$error":"#N/A"}},null,null,null,null,null,{"$error":"#DIV/0!"}]
[{"$f":"VLOOKUP(C849,Kode!A2:C1008,2,FALSE)","v":{"$error":"#N/A"}},{"$f":"VLOOKUP(C849,Kode!A2:C1008,3,FALSE)","v":{"$error":"#N/A"}},null,{"$f":"VLOOKUP(C849,Kode!A2:D1008,4,FALSE)","v":{"$error":"#N/A"}},null,null,null,null,null,null,null,null,null,{"$f":"VLOOKUP(C849,Kode!A2:E1008,5,FALSE)","v":{"$error":"#N/A"}},null,null,null,null,null,{"$error":"#DIV/0!"}]
[{"$f":"VLOOKUP(C850,Kode!A2:C1008,2,FALSE)","v":{"$error":"#N/A"}},{"$f":"VLOOKUP(C850,Kode!A2:C1008,3,FALSE)","v":{"$error":"#N/A"}},null,{"$f":"VLOOKUP(C850,Kode!A2:D1008,4,FALSE)","v":{"$error":"#N/A"}},null,null,null,null,null,null,null,null,null,{"$f":"VLOOKUP(C850,Kode!A2:E1008,5,FALSE)","v":{"$error":"#N/A"}},null,null,null,null,null,{"$error":"#DIV/0!"}]
[{"$f":"VLOOKUP(C851,Kode!A2:C1008,2,FALSE)","v":{"$error":"#N/A"}},{"$f":"VLOOKUP(C851,Kode!A2:C1008,3,FALSE)","v":{"$error":"#N/A"}},null,{"$f":"VLOOKUP(C851,Kode!A2:D1008,4,FALSE)","v":{"$error":"#N/A"}},null,null,null,null,null,null,null,null,null,{"$f":"VLOOKUP(C851,Kode!A2:E1008,5,FALSE)","v":{"$error":"#N/A"}},null,null,null,null,null,{"$error":"#DIV/0!"}]
[{"$f":"VLOOKUP(C852,Kode!A2:C1008,2,FALSE)","v":{"$error":"#N/A"}},{"$f":"VLOOKUP(C852,Kode!A2:C1008,3,FALSE)","v":{"$error":"#N/A"}},null,{"$f":"VLOOKUP(C852,Kode!A2:D1008,4,FALSE)","v":{"$error":"#N/A"}},null,null,null,null,null,null,null,null,null,{"$f":"VLOOKUP(C852,Kode!A2:E1008,5,FALSE)","v":{"$error":"#N/A"}},null,null,null,null,null,{"$error":"#DIV/0!"}]
[{"$f":"VLOOKUP(C853,Kode!A2:C1008,2,FALSE)","v":{"$error":"#N/A"}},{"$f":"VLOOKUP(C853,Kode!A2:C1008,3,FALSE)","v":{"$error":"#N/A"}},null,{"$f":"VLOOKUP(C853,Kode!A2:D1008,4,FALSE)","v":{"$error":"#N/A"}},null,null,null,null,null,null,null,null,null,{"$f":"VLOOKUP(C853,Kode!A2:E1008,5,FALSE)","v":{"$error":"#N/A"}},null,null,null,null,null,{"$error":"#DIV/0!"}]
[{"$f":"VLOOKUP(C854,Kode!A2:C1008,2,FALSE)","v":{"$error":"#N/A"}},{"$f":"VLOOKUP(C854,Kode!A2:C1008,3,FALSE)","v":{"$error":"#N/A"}},null,{"$f":"VLOOKUP(C854,Kode!A2:D1008,4,FALSE)","v":{"$error":"#N/A"}},null,null,null,null,null,null,null,null,null,{"$f":"VLOOKUP(C854,Kode!A2:E1008,5,FALSE)","v":{"$error":"#N/A"}},null,null,null,null,null,{"$error":"#DIV/0!"}]
[{"$f":"VLOOKUP(C855,Kode!A2:C1008,2,FALSE)","v":{"$error":"#N/A"}},{"$f":"VLOOKUP(C855,Kode!A2:C1008,3,FALSE)","v":{"$error":"#N/A"}},null,{"$f":"VLOOKUP(C855,Kode!A2:D1008,4,FALSE)","v":{"$error":"#N/A"}},null,null,null,null,null,null,null,null,null,{"$f":"VLOOKUP(C855,Kode!A2:E1008,5,FALSE)","v":{"$error":"#N/A"}},null,null,null,null,null,{"$error":"#DIV/0!"}]
[{"$f":"VLOOKUP(C856,Kode!A2:C1008,2,FALSE)","v":{"$error":"#N/A"}},{"$f":"VLOOKUP(C856,Kode!A2:C1008,3,FALSE)","v":{"$error":"#N/A"}},null,{"$f":"VLOOKUP(C856,Kode!A2:D1008,4,FALSE)","v":{"$error":"#N/A"}},null,null,null,null,null,null,null,null,null,{"$f":"VLOOKUP(C856,Kode!A2:E1008,5,FALSE)","v":{"$error":"#N/A"}},null,null,null,null,null,{"$error":"#DIV/0!"}]
[{"$f":"VLOOKUP(C857,Kode!A2:C1008,2,FALSE)","v":{"$error":"#N/A"}},{"$f":"VLOOKUP(C857,Kode!A2:C1008,3,FALSE)","v":{"$error":"#N/A"}},null,{"$f":"VLOOKUP(C857,Kode!A2:D1008,4,FALSE)","v":{"$error":"#N/A"}},null,null,null,null,null,null,null,null,null,{"$f":"VLOOKUP(C857,Kode!A2:E1008,5,FALSE)","v":{"$error":"#N/A"}},null,null,null,null,null,{"$error":"#DIV/0!"}]
[{"$f":"VLOOKUP(C858,Kode!A2:C1008,2,FALSE)","v":{"$error":"#N/A"}},{"$f":"VLOOKUP(C858,Kode!A2:C1008,3,FALSE)","v":{"$error":"#N/A"}},null,{"$f":"VLOOKUP(C858,Kode!A2:D1008,4,FALSE)","v":{"$error":"#N/A"}},null,null,null,null,null,null,null,null,null,{"$f":"VLOOKUP(C858,Kode!A2:E1008,5,FALSE)","v":{"$error":"#N/A"}},null,null,null,null,null,{"$error":"#DIV/0!"}]
[{"$f":"VLOOKUP(C859,Kode!A2:C1008,2,FALSE)","v":{"$error":"#N/A"}},{"$f":"VLOOKUP(C859,Kode!A2:C1008,3,FALSE)","v":{"$error":"#N/A"}},null,{"$f":"VLOOKUP(C859,Kode!A2:D1008,4,FALSE)","v":{"$error":"#N/A"}},null,null,null,null,null,null,null,null,null,{"$f":"VLOOKUP(C859,Kode!A2:E1008,5,FALSE)","v":{"$error":"#N/A"}},null,null,null,null,null,{"$error":"#DIV/0!"}]
[{"$f":"VLOOKUP(C860,Kode!A2:C1008,2,FALSE)","v":{"$error":"#N/A"}},{"$f":"VLOOKUP(C860,Kode!A2:C1008,3,FALSE)","v":{"$error":"#N/A"}},null,{"$f":"VLOOKUP(C860,Kode!A2:D1008,4,FALSE)","v":{"$error":"#N/A"}},null,null,null,null,null,null,null,null,null,{"$f":"VLOOKUP(C860,Kode!A2:E1008,5,FALSE)","v":{"$error":"#N/A"}},null,null,null,null,null,{"$error":"#DIV/0!"}]
[{"$f":"VLOOKUP(C861,Kode!A2:C1008,2,FALSE)","v":{"$error":"#N/A"}},{"$f":"VLOOKUP(C861,Kode!A2:C1008,3,FALSE)","v":{"$error":"#N/A"}},null,{"$f":"VLOOKUP(C861,Kode!A2:D1008,4,FALSE)","v":{"$error":"#N/A"}},null,null,null,null,null,null,null,null,null,{"$f":"VLOOKUP(C861,Kode!A2:E1008,5,FALSE)","v":{"$error":"#N/A"}},null,null,null,null,null,{"$error":"#DIV/0!"}]
[{"$f":"VLOOKUP(C862,Kode!A2:C1008,2,FALSE)","v":{"$error":"#N/A"}},{"$f":"VLOOKUP(C862,Kode!A2:C1008,3,FALSE)","v":{"$error":"#N/A"}},null,{"$f":"VLOOKUP(C862,Kode!A2:D1008,4,FALSE)","v":{"$error":"#N/A"}},null,null,null,null,null,null,null,null,null,{"$f":"VLOOKUP(C862,Kode!A2:E1008,5,FALSE)","v":{"$error":"#N/A"}},null,null,null,null,null,{"$error":"#DIV/0!"}]
[{"$f":"VLOOKUP(C863,Kode!A2:C1008,2,FALSE)","v":{"$error":"#N/A"}},{"$f":"VLOOKUP(C863,Kode!A2:C1008,3,FALSE)","v":{"$error":"#N/A"}},null,{"$f":"VLOOKUP(C863,Kode!A2:D1008,4,FALSE)","v":{"$error":"#N/A"}},null,null,null,null,null,null,null,null,null,{"$f":"VLOOKUP(C863,Kode!A2:E1008,5,FALSE)","v":{"$error":"#N/A"}},null,null,null,null,null,{"$error":"#DIV/0!"}]
[{"$f":"VLOOKUP(C864,Kode!A2:C1008,2,FALSE)","v":{"$error":"#N/A"}},{"$f":"VLOOKUP(C864,Kode!A2:C1008,3,FALSE)","v":{"$error":"#N/A"}},null,{"$f":"VLOOKUP(C864,Kode!A2:D1008,4,FALSE)","v":{"$error":"#N/A"}},null,null,null,null,null,null,null,null,null,{"$f":"VLOOKUP(C864,Kode!A2:E1008,5,FALSE)","v":{"$error":"#N/A"}},null,null,null,null,null,{"$error":"#DIV/0!"}]
[{"$f":"VLOOKUP(C865,Kode!A2:C1008,2,FALSE)","v":{"$error":"#N/A"}},{"$f":"VLOOKUP(C865,Kode!A2:C1008,3,FALSE)","v":{"$error":"#N/A"}},null,{"$f":"VLOOKUP(C865,Kode!A2:D1008,4,FALSE)","v":{"$error":"#N/A"}},null,null,null,null,null,null,null,null,null,{"$f":"VLOOKUP(C865,Kode!A2:E1008,5,FALSE)","v":{"$error":"#N/A"}},null,null,null,null,null,{"$error":"#DIV/0!"}]
[{"$f":"VLOOKUP(C866,Kode!A2:C1008,2,FALSE)","v":{"$error":"#N/A"}},{"$f":"VLOOKUP(C866,Kode!A2:C1008,3,FALSE)","v":{"$error":"#N/A"}},null,{"$f":"VLOOKUP(C866,Kode!A2:D1008,4,FALSE)","v":{"$error":"#N/A"}},null,null,null,null,null,null,null,null,null,{"$f":"VLOOKUP(C866,Kode!A2:E1008,5,FALSE)","v":{"$error":"#N/A"}},null,null,null,null,null,{"$error":"#DIV/0!"}]
[{"$f":"VLOOKUP(C867,Kode!A2:C1008,2,FALSE)","v":{"$error":"#N/A"}},{"$f":"VLOOKUP(C867,Kode!A2:C1008,3,FALSE)","v":{"$error":"#N/A"}},null,{"$f":"VLOOKUP(C867,Kode!A2:D1008,4,FALSE)","v":{"$error":"#N/A"}},null,null,null,null,null,null,null,null,null,{"$f":"VLOOKUP(C867,Kode!A2:E1008,5,FALSE)","v":{"$error":"#N/A"}},null,null,null,null,null,{"$error":"#DIV/0!"}]
[{"$f":"VLOOKUP(C868,Kode!A2:C1008,2,FALSE)","v":{"$error":"#N/A"}},{"$f":"VLOOKUP(C868,Kode!A2:C1008,3,FALSE)","v":{"$error":"#N/A"}},null,{"$f":"VLOOKUP(C868,Kode!A2:D1008,4,FALSE)","v":{"$error":"#N/A"}},null,null,null,null,null,null,null,null,null,{"$f":"VLOOKUP(C868,Kode!A2:E1008,5,FALSE)","v":{"$error":"#N/A"}},null,null,null,null,null,{"$error":"#DIV/0!"}]
[{"$f":"VLOOKUP(C869,Kode!A2:C1008,2,FALSE)","v":{"$error":"#N/A"}},{"$f":"VLOOKUP(C869,Kode!A2:C1008,3,FALSE)","v":{"$error":"#N/A"}},null,{"$f":"VLOOKUP(C869,Kode!A2:D1008,4,FALSE)","v":{"$error":"#N/A"}},null,null,null,null,null,null,null,null,null,{"$f":"VLOOKUP(C869,Kode!A2:E1008,5,FALSE)","v":{"$error":"#N/A"}},null,null,null,null,null,{"$error":"#DIV/0!"}]
[{"$f":"VLOOKUP(C870,Kode!A2:C1008,2,FALSE)","v":{"$error":"#N/A"}},{"$f":"VLOOKUP(C870,Kode!A2:C1008,3,FALSE)","v":{"$error":"#N/A"}},null,{"$f":"VLOOKUP(C870,Kode!A2:D1008,4,FALSE)","v":{"$error":"#N/A"}},null,null,null,null,null,null,null,null,null,{"$f":"VLOOKUP(C870,Kode!A2:E1008,5,FALSE)","v":{"$error":"#N/A"}},null,null,null,null,null,{"$error":"#DIV/0!"}]
[{"$f":"VLOOKUP(C871,Kode!A2:C1008,2,FALSE)","v":{"$error":"#N/A"}},{"$f":"VLOOKUP(C871,Kode!A2:C1008,3,FALSE)","v":{"$error":"#N/A"}},null,{"$f":"VLOOKUP(C871,Kode!A2:D1008,4,FALSE)","v":{"$error":"#N/A"}},null,null,null,null,null,null,null,null,null,{"$f":"VLOOKUP(C871,Kode!A2:E1008,5,FALSE)","v":{"$error":"#N/A"}},null,null,null,null,null,{"$error":"#DIV/0!"}]
[{"$f":"VLOOKUP(C872,Kode!A2:C1008,2,FALSE)","v":{"$error":"#N/A"}},{"$f":"VLOOKUP(C872,Kode!A2:C1008,3,FALSE)","v":{"$error":"#N/A"}},null,{"$f":"VLOOKUP(C872,Kode!A2:D1008,4,FALSE)","v":{"$error":"#N/A"}},null,null,null,null,null,null,null,null,null,{"$f":"VLOOKUP(C872,Kode!A2:E1008,5,FALSE)","v":{"$error":"#N/A"}},null,null,null,null,null,{"$error":"#DIV/0!"}]
[{"$f":"VLOOKUP(C873,Kode!A2:C1008,2,FALSE)","v":{"$error":"#N/A"}},{"$f":"VLOOKUP(C873,Kode!A2:C1008,3,FALSE)","v":{"$error":"#N/A"}},null,{"$f":"VLOOKUP(C873,Kode!A2:D1008,4,FALSE)","v":{"$error":"#N/A"}},null,null,null,null,null,null,null,null,null,{"$f":"VLOOKUP(C873,Kode!A2:E1008,5,FALSE)","v":{"$error":"#N/A"}},null,null,null,null,null,{"$error":"#DIV/0!"}]
[{"$f":"VLOOKUP(C874,Kode!A2:C1008,2,FALSE)","v":{"$error":"#N/A"}},{"$f":"VLOOKUP(C874,Kode!A2:C1008,3,FALSE)","v":{"$error":"#N/A"}},null,{"$f":"VLOOKUP(C874,Kode!A2:D1008,4,FALSE)","v":{"$error":"#N/A"}},null,null,null,null,null,null,null,null,null,{"$f":"VLOOKUP(C874,Kode!A2:E1008,5,FALSE)","v":{"$error":"#N/A"}},null,null,null,null,null,{"$error":"#DIV/0!"}]
[{"$f":"VLOOKUP(C875,Kode!A2:C1008,2,FALSE)","v":{"$error":"#N/A"}},{"$f":"VLOOKUP(C875,Kode!A2:C1008,3,FALSE)","v":{"$error":"#N/A"}},null,{"$f":"VLOOKUP(C875,Kode!A2:D1008,4,FALSE)","v":{"$error":"#N/A"}},null,null,null,null,null,null,null,null,null,{"$f":"VLOOKUP(C875,Kode!A2:E1008,5,FALSE)","v":{"$error":"#N/A"}},null,null,null,null,null,{"$error":"#DIV/0!"}]
[{"$f":"VLOOKUP(C876,Kode!A2:C1008,2,FALSE)","v":{"$error":"#N/A"}},{"$f":"VLOOKUP(C876,Kode!A2:C1008,3,FALSE)","v":{"$error":"#N/A"}},null,{"$f":"VLOOKUP(C876,Kode!A2:D1008,4,FALSE)","v":{"$error":"#N/A"}},null,null,null,null,null,null,null,null,null,{"$f":"VLOOKUP(C876,Kode!A2:E1008,5,FALSE)","v":{"$error":"#N/A"}},null,null,null,null,null,{"$error":"#DIV/0!"}]
[{"$f":"VLOOKUP(C877,Kode!A2:C1008,2,FALSE)","v":{"$error":"#N/A"}},{"$f":"VLOOKUP(C877,Kode!A2:C1008,3,FALSE)","v":{"$error":"#N/A"}},null,{"$f":"VLOOKUP(C877,Kode!A2:D1008,4,FALSE)","v":{"$error":"#N/A"}},null,null,null,null,null,null,null,null,null,{"$f":"VLOOKUP(C877,Kode!A2:E1008,5,FALSE)","v":{"$error":"#N/A"}},null,null,null,null,null,{"$error":"#DIV/0!"}]
[{"$f":"VLOOKUP(C878,Kode!A2:C1008,2,FALSE)","v":{"$error":"#N/A"}},{"$f":"VLOOKUP(C878,Kode!A2:C1008,3,FALSE)","v":{"$error":"#N/A"}},null,{"$f":"VLOOKUP(C878,Kode!A2:D1008,4,FALSE)","v":{"$error":"#N/A"}},null,null,null,null,null,null,null,null,null,{"$f":"VLOOKUP(C878,Kode!A2:E1008,5,FALSE)","v":{"$error":"#N/A"}},null,null,null,null,null,{"$error":"#DIV/0!"}]
[{"$f":"VLOOKUP(C879,Kode!A2:C1008,2,FALSE)","v":{"$error":"#N/A"}},{"$f":"VLOOKUP(C879,Kode!A2:C1008,3,FALSE)","v":{"$error":"#N/A"}},null,{"$f":"VLOOKUP(C879,Kode!A2:D1008,4,FALSE)","v":{"$error":"#N/A"}},null,null,null,null,null,null,null,null,null,{"$f":"VLOOKUP(C879,Kode!A2:E1008,5,FALSE)","v":{"$error":"#N/A"}},null,null,null,null,null,{"$error":"#DIV/0!"}]
[{"$f":"VLOOKUP(C880,Kode!A2:C1008,2,FALSE)","v":{"$error":"#N/A"}},{"$f":"VLOOKUP(C880,Kode!A2:C1008,3,FALSE)","v":{"$error":"#N/A"}},null,{"$f":"VLOOKUP(C880,Kode!A2:D1008,4,FALSE)","v":{"$error":"#N/A"}},null,null,null,null,null,null,null,null,null,{"$f":"VLOOKUP(C880,Kode!A2:E1008,5,FALSE)","v":{"$error":"#N/A"}},null,null,null,null,null,{"$error":"#DIV/0!"}]
[{"$f":"VLOOKUP(C881,Kode!A2:C1008,2,FALSE)","v":{"$error":"#N/A"}},{"$f":"VLOOKUP(C881,Kode!A2:C1008,3,FALSE)","v":{"$error":"#N/A"}},null,{"$f":"VLOOKUP(C881,Kode!A2:D1008,4,FALSE)","v":{"$error":"#N/A"}},null,null,null,null,null,null,null,null,null,{"$f":"VLOOKUP(C881,Kode!A2:E1008,5,FALSE)","v":{"$error":"#N/A"}},null,null,null,null,null,{"$error":"#DIV/0!"}]
[{"$f":"VLOOKUP(C882,Kode!A2:C1008,2,FALSE)","v":{"$error":"#N/A"}},{"$f":"VLOOKUP(C882,Kode!A2:C1008,3,FALSE)","v":{"$error":"#N/A"}},null,{"$f":"VLOOKUP(C882,Kode!A2:D1008,4,FALSE)","v":{"$error":"#N/A"}},null,null,null,null,null,null,null,null,null,{"$f":"VLOOKUP(C882,Kode!A2:E1008,5,FALSE)","v":{"$error":"#N/A"}},null,null,null,null,null,{"$error":"#DIV/0!"}]
[{"$f":"VLOOKUP(C883,Kode!A2:C1008,2,FALSE)","v":{"$error":"#N/A"}},{"$f":"VLOOKUP(C883,Kode!A2:C1008,3,FALSE)","v":{"$error":"#N/A"}},null,{"$f":"VLOOKUP(C883,Kode!A2:D1008,4,FALSE)","v":{"$error":"#N/A"}},null,null,null,null,null,null,null,null,null,{"$f":"VLOOKUP(C883,Kode!A2:E1008,5,FALSE)","v":{"$error":"#N/A"}},null,null,null,null,null,{"$error":"#DIV/0!"}]
[{"$f":"VLOOKUP(C884,Kode!A2:C1008,2,FALSE)","v":{"$error":"#N/A"}},{"$f":"VLOOKUP(C884,Kode!A2:C1008,3,FALSE)","v":{"$error":"#N/A"}},null,{"$f":"VLOOKUP(C884,Kode!A2:D1008,4,FALSE)","v":{"$error":"#N/A"}},null,null,null,null,null,null,null,null,null,{"$f":"VLOOKUP(C884,Kode!A2:E1008,5,FALSE)","v":{"$error":"#N/A"}},null,null,null,null,null,{"$error":"#DIV/0!"}]
[{"$f":"VLOOKUP(C885,Kode!A2:C1008,2,FALSE)","v":{"$error":"#N/A"}},{"$f":"VLOOKUP(C885,Kode!A2:C1008,3,FALSE)","v":{"$error":"#N/A"}},null,{"$f":"VLOOKUP(C885,Kode!A2:D1008,4,FALSE)","v":{"$error":"#N/A"}},null,null,null,null,null,null,null,null,null,{"$f":"VLOOKUP(C885,Kode!A2:E1008,5,FALSE)","v":{"$error":"#N/A"}},null,null,null,null,null,{"$error":"#DIV/0!"}]
[{"$f":"VLOOKUP(C886,Kode!A2:C1008,2,FALSE)","v":{"$error":"#N/A"}},{"$f":"VLOOKUP(C886,Kode!A2:C1008,3,FALSE)","v":{"$error":"#N/A"}},null,{"$f":"VLOOKUP(C886,Kode!A2:D1008,4,FALSE)","v":{"$error":"#N/A"}},null,null,null,null,null,null,null,null,null,{"$f":"VLOOKUP(C886,Kode!A2:E1008,5,FALSE)","v":{"$error":"#N/A"}},null,null,null,null,null,{"$error":"#DIV/0!"}]
[{"$f":"VLOOKUP(C887,Kode!A2:C1008,2,FALSE)","v":{"$error":"#N/A"}},{"$f":"VLOOKUP(C887,Kode!A2:C1008,3,FALSE)","v":{"$error":"#N/A"}},null,{"$f":"VLOOKUP(C887,Kode!A2:D1008,4,FALSE)","v":{"$error":"#N/A"}},null,null,null,null,null,null,null,null,null,{"$f":"VLOOKUP(C887,Kode!A2:E1008,5,FALSE)","v":{"$error":"#N/A"}},null,null,null,null,null,{"$error":"#DIV/0!"}]
[{"$f":"VLOOKUP(C888,Kode!A2:C1008,2,FALSE)","v":{"$error":"#N/A"}},{"$f":"VLOOKUP(C888,Kode!A2:C1008,3,FALSE)","v":{"$error":"#N/A"}},null,{"$f":"VLOOKUP(C888,Kode!A2:D1008,4,FALSE)","v":{"$error":"#N/A"}},null,null,null,null,null,null,null,null,null,{"$f":"VLOOKUP(C888,Kode!A2:E1008,5,FALSE)","v":{"$error":"#N/A"}},null,null,null,null,null,{"$error":"#DIV/0!"}]
[{"$f":"VLOOKUP(C889,Kode!A2:C1008,2,FALSE)","v":{"$error":"#N/A"}},{"$f":"VLOOKUP(C889,Kode!A2:C1008,3,FALSE)","v":{"$error":"#N/A"}},null,{"$f":"VLOOKUP(C889,Kode!A2:D1008,4,FALSE)","v":{"$error":"#N/A"}},null,null,null,null,null,null,null,null,null,{"$f":"VLOOKUP(C889,Kode!A2:E1008,5,FALSE)","v":{"$error":"#N/A"}},null,null,null,null,null,{"$error":"#DIV/0!"}]
[{"$f":"VLOOKUP(C890,Kode!A2:C1008,2,FALSE)","v":{"$error":"#N/A"}},{"$f":"VLOOKUP(C890,Kode!A2:C1008,3,FALSE)","v":{"$error":"#N/A"}},null,{"$f":"VLOOKUP(C890,Kode!A2:D1008,4,FALSE)","v":{"$error":"#N/A"}},null,null,null,null,null,null,null,null,null,{"$f":"VLOOKUP(C890,Kode!A2:E1008,5,FALSE)","v":{"$error":"#N/A"}},null,null,null,null,null,{"$error":"#DIV/0!"}]
[{"$f":"VLOOKUP(C891,Kode!A2:C1008,2,FALSE)","v":{"$error":"#N/A"}},{"$f":"VLOOKUP(C891,Kode!A2:C1008,3,FALSE)","v":{"$error":"#N/A"}},null,{"$f":"VLOOKUP(C891,Kode!A2:D1008,4,FALSE)","v":{"$error":"#N/A"}},null,null,null,null,null,null,null,null,null,{"$f":"VLOOKUP(C891,Kode!A2:E1008,5,FALSE)","v":{"$error":"#N/A"}},null,null,null,null,null,{"$error":"#DIV/0!"}]
[{"$f":"VLOOKUP(C892,Kode!A2:C1008,2,FALSE)","v":{"$error":"#N/A"}},{"$f":"VLOOKUP(C892,Kode!A2:C1008,3,FALSE)","v":{"$error":"#N/A"}},null,{"$f":"VLOOKUP(C892,Kode!A2:D1008,4,FALSE)","v":{"$error":"#N/A"}},null,null,null,null,null,null,null,null,null,{"$f":"VLOOKUP(C892,Kode!A2:E1008,5,FALSE)","v":{"$error":"#N/A"}},null,null,null,null,null,{"$error":"#DIV/0!"}]
[{"$f":"VLOOKUP(C893,Kode!A2:C1008,2,FALSE)","v":{"$error":"#N/A"}},{"$f":"VLOOKUP(C893,Kode!A2:C1008,3,FALSE)","v":{"$error":"#N/A"}},null,{"$f":"VLOOKUP(C893,Kode!A2:D1008,4,FALSE)","v":{"$error":"#N/A"}},null,null,null,null,null,null,null,null,null,{"$f":"VLOOKUP(C893,Kode!A2:E1008,5,FALSE)","v":{"$error":"#N/A"}},null,null,null,null,null,{"$error":"#DIV/0!"}]
[{"$f":"VLOOKUP(C894,Kode!A2:C1008,2,FALSE)","v":{"$error":"#N/A"}},{"$f":"VLOOKUP(C894,Kode!A2:C1008,3,FALSE)","v":{"$error":"#N/A"}},null,{"$f":"VLOOKUP(C894,Kode!A2:D1008,4,FALSE)","v":{"$error":"#N/A"}},null,null,null,null,null,null,null,null,null,{"$f":"VLOOKUP(C894,Kode!A2:E1008,5,FALSE)","v":{"$error":"#N/A"}},null,null,null,null,null,{"$error":"#DIV/0!"}]
[{"$f":"VLOOKUP(C895,Kode!A2:C1008,2,FALSE)","v":{"$error":"#N/A"}},{"$f":"VLOOKUP(C895,Kode!A2:C1008,3,FALSE)","v":{"$error":"#N/A"}},null,{"$f":"VLOOKUP(C895,Kode!A2:D1008,4,FALSE)","v":{"$error":"#N/A"}},null,null,null,null,null,null,null,null,null,{"$f":"VLOOKUP(C895,Kode!A2:E1008,5,FALSE)","v":{"$error":"#N/A"}},null,null,null,null,null,{"$error":"#DIV/0!"}]
[{"$f":"VLOOKUP(C896,Kode!A2:C1008,2,FALSE)","v":{"$error":"#N/A"}},{"$f":"VLOOKUP(C896,Kode!A2:C1008,3,FALSE)","v":{"$error":"#N/A"}},null,{"$f":"VLOOKUP(C896,Kode!A2:D1008,4,FALSE)","v":{"$error":"#N/A"}},null,null,null,null,null,null,null,null,null,{"$f":"VLOOKUP(C896,Kode!A2:E1008,5,FALSE)","v":{"$error":"#N/A"}},null,null,null,null,null,{"$error":"#DIV/0!"}]
[{"$f":"VLOOKUP(C897,Kode!A2:C1008,2,FALSE)","v":{"$error":"#N/A"}},{"$f":"VLOOKUP(C897,Kode!A2:C1008,3,FALSE)","v":{"$error":"#N/A"}},null,{"$f":"VLOOKUP(C897,Kode!A2:D1008,4,FALSE)","v":{"$error":"#N/A"}},null,null,null,null,null,null,null,null,null,{"$f":"VLOOKUP(C897,Kode!A2:E1008,5,FALSE)","v":{"$error":"#N/A"}},null,null,null,null,null,{"$error":"#DIV/0!"}]
[{"$f":"VLOOKUP(C898,Kode!A2:C1008,2,FALSE)","v":{"$error":"#N/A"}},{"$f":"VLOOKUP(C898,Kode!A2:C1008,3,FALSE)","v":{"$error":"#N/A"}},null,{"$f":"VLOOKUP(C898,Kode!A2:D1008,4,FALSE)","v":{"$error":"#N/A"}},null,null,null,null,null,null,null,null,null,{"$f":"VLOOKUP(C898,Kode!A2:E1008,5,FALSE)","v":{"$error":"#N/A"}},null,null,null,null,null,{"$f":"R898/P898*100","v":{"$error":"#DIV/0!"}}]
[{"$f":"VLOOKUP(C899,Kode!A2:C1008,2,FALSE)","v":{"$error":"#N/A"}},{"$f":"VLOOKUP(C899,Kode!A2:C1008,3,FALSE)","v":{"$error":"#N/A"}},null,{"$f":"VLOOKUP(C899,Kode!A2:D1008,4,FALSE)","v":{"$error":"#N/A"}},null,null,null,null,null,null,null,null,null,{"$f":"VLOOKUP(C899,Kode!A2:E1008,5,FALSE)","v":{"$error":"#N/A"}},null,null,null,null,null,{"$error":"#DIV/0!"}]
[{"$f":"VLOOKUP(C900,Kode!A2:C1008,2,FALSE)","v":{"$error":"#N/A"}},{"$f":"VLOOKUP(C900,Kode!A2:C1008,3,FALSE)","v":{"$error":"#N/A"}},null,{"$f":"VLOOKUP(C900,Kode!A2:D1008,4,FALSE)","v":{"$error":"#N/A"}},null,null,null,null,null,null,null,null,null,{"$f":"VLOOKUP(C900,Kode!A2:E1008,5,FALSE)","v":{"$error":"#N/A"}},null,null,null,null,null,{"$error":"#DIV/0!"}]
[{"$f":"VLOOKUP(C901,Kode!A2:C1008,2,FALSE)","v":{"$error":"#N/A"}},{"$f":"VLOOKUP(C901,Kode!A2:C1008,3,FALSE)","v":{"$error":"#N/A"}},null,{"$f":"VLOOKUP(C901,Kode!A2:D1008,4,FALSE)","v":{"$error":"#N/A"}},null,null,null,null,null,null,null,null,null,{"$f":"VLOOKUP(C901,Kode!A2:E1008,5,FALSE)","v":{"$error":"#N/A"}},null,null,null,null,null,{"$error":"#DIV/0!"}]
[{"$f":"VLOOKUP(C902,Kode!A2:C1008,2,FALSE)","v":{"$error":"#N/A"}},{"$f":"VLOOKUP(C902,Kode!A2:C1008,3,FALSE)","v":{"$error":"#N/A"}},null,{"$f":"VLOOKUP(C902,Kode!A2:D1008,4,FALSE)","v":{"$error":"#N/A"}},null,null,null,null,null,null,null,null,null,{"$f":"VLOOKUP(C902,Kode!A2:E1008,5,FALSE)","v":{"$error":"#N/A"}},null,null,null,null,null,{"$error":"#DIV/0!"}]
[{"$f":"VLOOKUP(C903,Kode!A2:C1008,2,FALSE)","v":{"$error":"#N/A"}},{"$f":"VLOOKUP(C903,Kode!A2:C1008,3,FALSE)","v":{"$error":"#N/A"}},null,{"$f":"VLOOKUP(C903,Kode!A2:D1008,4,FALSE)","v":{"$error":"#N/A"}},null,null,null,null,null,null,null,null,null,{"$f":"VLOOKUP(C903,Kode!A2:E1008,5,FALSE)","v":{"$error":"#N/A"}},null,null,null,null,null,{"$error":"#DIV/0!"}]
[{"$f":"VLOOKUP(C904,Kode!A2:C1008,2,FALSE)","v":{"$error":"#N/A"}},{"$f":"VLOOKUP(C904,Kode!A2:C1008,3,FALSE)","v":{"$error":"#N/A"}},null,{"$f":"VLOOKUP(C904,Kode!A2:D1008,4,FALSE)","v":{"$error":"#N/A"}},null,null,null,null,null,null,null,null,null,{"$f":"VLOOKUP(C904,Kode!A2:E1008,5,FALSE)","v":{"$error":"#N/A"}},null,null,null,null,null,{"$error":"#DIV/0!"}]
[{"$f":"VLOOKUP(C905,Kode!A2:C1008,2,FALSE)","v":{"$error":"#N/A"}},{"$f":"VLOOKUP(C905,Kode!A2:C1008,3,FALSE)","v":{"$error":"#N/A"}},null,{"$f":"VLOOKUP(C905,Kode!A2:D1008,4,FALSE)","v":{"$error":"#N/A"}},null,null,null,null,null,null,null,null,null,{"$f":"VLOOKUP(C905,Kode!A2:E1008,5,FALSE)","v":{"$error":"#N/A"}},null,null,null,null,null,{"$error":"#DIV/0!"}]
[{"$f":"VLOOKUP(C906,Kode!A2:C1008,2,FALSE)","v":{"$error":"#N/A"}},{"$f":"VLOOKUP(C906,Kode!A2:C1008,3,FALSE)","v":{"$error":"#N/A"}},null,{"$f":"VLOOKUP(C906,Kode!A2:D1008,4,FALSE)","v":{"$error":"#N/A"}},null,null,null,null,null,null,null,null,null,{"$f":"VLOOKUP(C906,Kode!A2:E1008,5,FALSE)","v":{"$error":"#N/A"}},null,null,null,null,null,{"$error":"#DIV/0!"}]
[{"$f":"VLOOKUP(C907,Kode!A2:C1008,2,FALSE)","v":{"$error":"#N/A"}},{"$f":"VLOOKUP(C907,Kode!A2:C1008,3,FALSE)","v":{"$error":"#N/A"}},null,{"$f":"VLOOKUP(C907,Kode!A2:D1008,4,FALSE)","v":{"$error":"#N/A"}},null,null,null,null,null,null,null,null,null,{"$f":"VLOOKUP(C907,Kode!A2:E1008,5,FALSE)","v":{"$error":"#N/A"}},null,null,null,null,null,{"$error":"#DIV/0!"}]
[{"$f":"VLOOKUP(C908,Kode!A2:C1008,2,FALSE)","v":{"$error":"#N/A"}},{"$f":"VLOOKUP(C908,Kode!A2:C1008,3,FALSE)","v":{"$error":"#N/A"}},null,{"$f":"VLOOKUP(C908,Kode!A2:D1008,4,FALSE)","v":{"$error":"#N/A"}},null,null,null,null,null,null,null,null,null,{"$f":"VLOOKUP(C908,Kode!A2:E1008,5,FALSE)","v":{"$error":"#N/A"}},null,null,null,null,null,{"$error":"#DIV/0!"}]
[{"$f":"VLOOKUP(C909,Kode!A2:C1008,2,FALSE)","v":{"$error":"#N/A"}},{"$f":"VLOOKUP(C909,Kode!A2:C1008,3,FALSE)","v":{"$error":"#N/A"}},null,{"$f":"VLOOKUP(C909,Kode!A2:D1008,4,FALSE)","v":{"$error":"#N/A"}},null,null,null,null,null,null,null,null,null,{"$f":"VLOOKUP(C909,Kode!A2:E1008,5,FALSE)","v":{"$error":"#N/A"}},null,null,null,null,null,{"$error":"#DIV/0!"}]
[{"$f":"VLOOKUP(C910,Kode!A2:C1008,2,FALSE)","v":{"$error":"#N/A"}},{"$f":"VLOOKUP(C910,Kode!A2:C1008,3,FALSE)","v":{"$error":"#N/A"}},null,{"$f":"VLOOKUP(C910,Kode!A2:D1008,4,FALSE)","v":{"$error":"#N/A"}},null,null,null,null,null,null,null,null,null,{"$f":"VLOOKUP(C910,Kode!A2:E1008,5,FALSE)","v":{"$error":"#N/A"}},null,null,null,null,null,{"$error":"#DIV/0!"}]
[{"$f":"VLOOKUP(C911,Kode!A2:C1008,2,FALSE)","v":{"$error":"#N/A"}},{"$f":"VLOOKUP(C911,Kode!A2:C1008,3,FALSE)","v":{"$error":"#N/A"}},null,{"$f":"VLOOKUP(C911,Kode!A2:D1008,4,FALSE)","v":{"$error":"#N/A"}},null,null,null,null,null,null,null,null,null,{"$f":"VLOOKUP(C911,Kode!A2:E1008,5,FALSE)","v":{"$error":"#N/A"}},null,null,null,null,null,{"$error":"#DIV/0!"}]
[{"$f":"VLOOKUP(C912,Kode!A2:C1008,2,FALSE)","v":{"$error":"#N/A"}},{"$f":"VLOOKUP(C912,Kode!A2:C1008,3,FALSE)","v":{"$error":"#N/A"}},null,{"$f":"VLOOKUP(C912,Kode!A2:D1008,4,FALSE)","v":{"$error":"#N/A"}},null,null,null,null,null,null,null,null,null,{"$f":"VLOOKUP(C912,Kode!A2:E1008,5,FALSE)","v":{"$error":"#N/A"}},null,null,null,null,null,{"$error":"#DIV/0!"}]
[{"$f":"VLOOKUP(C913,Kode!A2:C1008,2,FALSE)","v":{"$error":"#N/A"}},{"$f":"VLOOKUP(C913,Kode!A2:C1008,3,FALSE)","v":{"$error":"#N/A"}},null,{"$f":"VLOOKUP(C913,Kode!A2:D1008,4,FALSE)","v":{"$error":"#N/A"}},null,null,null,null,null,null,null,null,null,{"$f":"VLOOKUP(C913,Kode!A2:E1008,5,FALSE)","v":{"$error":"#N/A"}},null,null,null,null,null,{"$error":"#DIV/0!"}]
[{"$f":"VLOOKUP(C914,Kode!A2:C1008,2,FALSE)","v":{"$error":"#N/A"}},{"$f":"VLOOKUP(C914,Kode!A2:C1008,3,FALSE)","v":{"$error":"#N/A"}},null,{"$f":"VLOOKUP(C914,Kode!A2:D1008,4,FALSE)","v":{"$error":"#N/A"}},null,null,null,null,null,null,null,null,null,{"$f":"VLOOKUP(C914,Kode!A2:E1008,5,FALSE)","v":{"$error":"#N/A"}},null,null,null,null,null,{"$error":"#DIV/0!"}]
[{"$f":"VLOOKUP(C915,Kode!A2:C1008,2,FALSE)","v":{"$error":"#N/A"}},{"$f":"VLOOKUP(C915,Kode!A2:C1008,3,FALSE)","v":{"$error":"#N/A"}},null,{"$f":"VLOOKUP(C915,Kode!A2:D1008,4,FALSE)","v":{"$error":"#N/A"}},null,null,null,null,null,null,null,null,null,{"$f":"VLOOKUP(C915,Kode!A2:E1008,5,FALSE)","v":{"$error":"#N/A"}},null,null,null,null,null,{"$error":"#DIV/0!"}]
[{"$f":"VLOOKUP(C916,Kode!A2:C1008,2,FALSE)","v":{"$error":"#N/A"}},{"$f":"VLOOKUP(C916,Kode!A2:C1008,3,FALSE)","v":{"$error":"#N/A"}},null,{"$f":"VLOOKUP(C916,Kode!A2:D1008,4,FALSE)","v":{"$error":"#N/A"}},null,null,null,null,null,null,null,null,null,{"$f":"VLOOKUP(C916,Kode!A2:E1008,5,FALSE)","v":{"$error":"#N/A"}},null,null,null,null,null,{"$error":"#DIV/0!"}]
[{"$f":"VLOOKUP(C917,Kode!A2:C1008,2,FALSE)","v":{"$error":"#N/A"}},{"$f":"VLOOKUP(C917,Kode!A2:C1008,3,FALSE)","v":{"$error":"#N/A"}},null,{"$f":"VLOOKUP(C917,Kode!A2:D1008,4,FALSE)","v":{"$error":"#N/A"}},null,null,null,null,null,null,null,null,null,{"$f":"VLOOKUP(C917,Kode!A2:E1008,5,FALSE)","v":{"$error":"#N/A"}},null,null,null,null,null,{"$error":"#DIV/0!"}]
[{"$f":"VLOOKUP(C918,Kode!A2:C1008,2,FALSE)","v":{"$error":"#N/A"}},{"$f":"VLOOKUP(C918,Kode!A2:C1008,3,FALSE)","v":{"$error":"#N/A"}},null,{"$f":"VLOOKUP(C918,Kode!A2:D1008,4,FALSE)","v":{"$error":"#N/A"}},null,null,null,null,null,null,null,null,null,{"$f":"VLOOKUP(C918,Kode!A2:E1008,5,FALSE)","v":{"$error":"#N/A"}},null,null,null,null,null,{"$error":"#DIV/0!"}]
[{"$f":"VLOOKUP(C919,Kode!A2:C1008,2,FALSE)","v":{"$error":"#N/A"}},{"$f":"VLOOKUP(C919,Kode!A2:C1008,3,FALSE)","v":{"$error":"#N/A"}},null,{"$f":"VLOOKUP(C919,Kode!A2:D1008,4,FALSE)","v":{"$error":"#N/A"}},null,null,null,null,null,null,null,null,null,{"$f":"VLOOKUP(C919,Kode!A2:E1008,5,FALSE)","v":{"$error":"#N/A"}},null,null,null,null,null,{"$error":"#DIV/0!"}]
[{"$f":"VLOOKUP(C920,Kode!A2:C1008,2,FALSE)","v":{"$error":"#N/A"}},{"$f":"VLOOKUP(C920,Kode!A2:C1008,3,FALSE)","v":{"$error":"#N/A"}},null,{"$f":"VLOOKUP(C920,Kode!A2:D1008,4,FALSE)","v":{"$error":"#N/A"}},null,null,null,null,null,null,null,null,null,{"$f":"VLOOKUP(C920,Kode!A2:E1008,5,FALSE)","v":{"$error":"#N/A"}},null,null,null,null,null,{"$error":"#DIV/0!"}]
[{"$f":"VLOOKUP(C921,Kode!A2:C1008,2,FALSE)","v":{"$error":"#N/A"}},{"$f":"VLOOKUP(C921,Kode!A2:C1008,3,FALSE)","v":{"$error":"#N/A"}},null,{"$f":"VLOOKUP(C921,Kode!A2:D1008,4,FALSE)","v":{"$error":"#N/A"}},null,null,null,null,null,null,null,null,null,{"$f":"VLOOKUP(C921,Kode!A2:E1008,5,FALSE)","v":{"$error":"#N/A"}},null,null,null,null,null,{"$error":"#DIV/0!"}]
[{"$f":"VLOOKUP(C922,Kode!A2:C1008,2,FALSE)","v":{"$error":"#N/A"}},{"$f":"VLOOKUP(C922,Kode!A2:C1008,3,FALSE)","v":{"$error":"#N/A"}},null,{"$f":"VLOOKUP(C922,Kode!A2:D1008,4,FALSE)","v":{"$error":"#N/A"}},null,null,null,null,null,null,null,null,null,{"$f":"VLOOKUP(C922,Kode!A2:E1008,5,FALSE)","v":{"$error":"#N/A"}},null,null,null,null,null,{"$error":"#DIV/0!"}]
[{"$f":"VLOOKUP(C923,Kode!A2:C1008,2,FALSE)","v":{"$error":"#N/A"}},{"$f":"VLOOKUP(C923,Kode!A2:C1008,3,FALSE)","v":{"$error":"#N/A"}},null,{"$f":"VLOOKUP(C923,Kode!A2:D1008,4,FALSE)","v":{"$error":"#N/A"}},null,null,null,null,null,null,null,null,null,{"$f":"VLOOKUP(C923,Kode!A2:E1008,5,FALSE)","v":{"$error":"#N/A"}},null,null,null,null,null,{"$error":"#DIV/0!"}]
[{"$f":"VLOOKUP(C924,Kode!A2:C1008,2,FALSE)","v":{"$error":"#N/A"}},{"$f":"VLOOKUP(C924,Kode!A2:C1008,3,FALSE)","v":{"$error":"#N/A"}},null,{"$f":"VLOOKUP(C924,Kode!A2:D1008,4,FALSE)","v":{"$error":"#N/A"}},null,null,null,null,null,null,null,null,null,{"$f":"VLOOKUP(C924,Kode!A2:E1008,5,FALSE)","v":{"$error":"#N/A"}},null,null,null,null,null,{"$error":"#DIV/0!"}]
[{"$f":"VLOOKUP(C925,Kode!A2:C1008,2,FALSE)","v":{"$error":"#N/A"}},{"$f":"VLOOKUP(C925,Kode!A2:C1008,3,FALSE)","v":{"$error":"#N/A"}},null,{"$f":"VLOOKUP(C925,Kode!A2:D1008,4,FALSE)","v":{"$error":"#N/A"}},null,null,null,null,null,null,null,null,null,{"$f":"VLOOKUP(C925,Kode!A2:E1008,5,FALSE)","v":{"$error":"#N/A"}},null,null,null,null,null,{"$error":"#DIV/0!"}]
[{"$f":"VLOOKUP(C926,Kode!A2:C1008,2,FALSE)","v":{"$error":"#N/A"}},{"$f":"VLOOKUP(C926,Kode!A2:C1008,3,FALSE)","v":{"$error":"#N/A"}},null,{"$f":"VLOOKUP(C926,Kode!A2:D1008,4,FALSE)","v":{"$error":"#N/A"}},null,null,null,null,null,null,null,null,null,{"$f":"VLOOKUP(C926,Kode!A2:E1008,5,FALSE)","v":{"$error":"#N/A"}},null,null,null,null,null,{"$error":"#DIV/0!"}]
[{"$f":"VLOOKUP(C927,Kode!A2:C1008,2,FALSE)","v":{"$error":"#N/A"}},{"$f":"VLOOKUP(C927,Kode!A2:C1008,3,FALSE)","v":{"$error":"#N/A"}},null,{"$f":"VLOOKUP(C927,Kode!A2:D1008,4,FALSE)","v":{"$error":"#N/A"}},null,null,null,null,null,null,null,null,null,{"$f":"VLOOKUP(C927,Kode!A2:E1008,5,FALSE)","v":{"$error":"#N/A"}},null,null,null,null,null,{"$error":"#DIV/0!"}]
[{"$f":"VLOOKUP(C928,Kode!A2:C1008,2,FALSE)","v":{"$error":"#N/A"}},{"$f":"VLOOKUP(C928,Kode!A2:C1008,3,FALSE)","v":{"$error":"#N/A"}},null,{"$f":"VLOOKUP(C928,Kode!A2:D1008,4,FALSE)","v":{"$error":"#N/A"}},null,null,null,null,null,null,null,null,null,{"$f":"VLOOKUP(C928,Kode!A2:E1008,5,FALSE)","v":{"$error":"#N/A"}},null,null,null,null,null,{"$error":"#DIV/0!"}]
[{"$f":"VLOOKUP(C929,Kode!A2:C1008,2,FALSE)","v":{"$error":"#N/A"}},{"$f":"VLOOKUP(C929,Kode!A2:C1008,3,FALSE)","v":{"$error":"#N/A"}},null,{"$f":"VLOOKUP(C929,Kode!A2:D1008,4,FALSE)","v":{"$error":"#N/A"}},null,null,null,null,null,null,null,null,null,{"$f":"VLOOKUP(C929,Kode!A2:E1008,5,FALSE)","v":{"$error":"#N/A"}},null,null,null,null,null,{"$error":"#DIV/0!"}]
[{"$f":"VLOOKUP(C930,Kode!A2:C1008,2,FALSE)","v":{"$error":"#N/A"}},{"$f":"VLOOKUP(C930,Kode!A2:C1008,3,FALSE)","v":{"$error":"#N/A"}},null,{"$f":"VLOOKUP(C930,Kode!A2:D1008,4,FALSE)","v":{"$error":"#N/A"}},null,null,null,null,null,null,null,null,null,{"$f":"VLOOKUP(C930,Kode!A2:E1008,5,FALSE)","v":{"$error":"#N/A"}},null,null,null,null,null,{"$error":"#DIV/0!"}]
[{"$f":"VLOOKUP(C931,Kode!A2:C1008,2,FALSE)","v":{"$error":"#N/A"}},{"$f":"VLOOKUP(C931,Kode!A2:C1008,3,FALSE)","v":{"$error":"#N/A"}},null,{"$f":"VLOOKUP(C931,Kode!A2:D1008,4,FALSE)","v":{"$error":"#N/A"}},null,null,null,null,null,null,null,null,null,{"$f":"VLOOKUP(C931,Kode!A2:E1008,5,FALSE)","v":{"$error":"#N/A"}},null,null,null,null,null,{"$error":"#DIV/0!"}]
[{"$f":"VLOOKUP(C932,Kode!A2:C1008,2,FALSE)","v":{"$error":"#N/A"}},{"$f":"VLOOKUP(C932,Kode!A2:C1008,3,FALSE)","v":{"$error":"#N/A"}},null,{"$f":"VLOOKUP(C932,Kode!A2:D1008,4,FALSE)","v":{"$error":"#N/A"}},null,null,null,null,null,null,null,null,null,{"$f":"VLOOKUP(C932,Kode!A2:E1008,5,FALSE)","v":{"$error":"#N/A"}},null,null,null,null,null,{"$error":"#DIV/0!"}]
[{"$f":"VLOOKUP(C933,Kode!A2:C1008,2,FALSE)","v":{"$error":"#N/A"}},{"$f":"VLOOKUP(C933,Kode!A2:C1008,3,FALSE)","v":{"$error":"#N/A"}},null,{"$f":"VLOOKUP(C933,Kode!A2:D1008,4,FALSE)","v":{"$error":"#N/A"}},null,null,null,null,null,null,null,null,null,{"$f":"VLOOKUP(C933,Kode!A2:E1008,5,FALSE)","v":{"$error":"#N/A"}},null,null,null,null,null,{"$error":"#DIV/0!"}]
[{"$f":"VLOOKUP(C934,Kode!A2:C1008,2,FALSE)","v":{"$error":"#N/A"}},{"$f":"VLOOKUP(C934,Kode!A2:C1008,3,FALSE)","v":{"$error":"#N/A"}},null,{"$f":"VLOOKUP(C934,Kode!A2:D1008,4,FALSE)","v":{"$error":"#N/A"}},null,null,null,null,null,null,null,null,null,{"$f":"VLOOKUP(C934,Kode!A2:E1008,5,FALSE)","v":{"$error":"#N/A"}},null,null,null,null,null,{"$error":"#DIV/0!"}]
[{"$f":"VLOOKUP(C935,Kode!A2:C1008,2,FALSE)","v":{"$error":"#N/A"}},{"$f":"VLOOKUP(C935,Kode!A2:C1008,3,FALSE)","v":{"$error":"#N/A"}},null,{"$f":"VLOOKUP(C935,Kode!A2:D1008,4,FALSE)","v":{"$error":"#N/A"}},null,null,null,null,null,null,null,null,null,{"$f":"VLOOKUP(C935,Kode!A2:E1008,5,FALSE)","v":{"$error":"#N/A"}},null,null,null,null,null,{"$error":"#DIV/0!"}]
[{"$f":"VLOOKUP(C936,Kode!A2:C1008,2,FALSE)","v":{"$error":"#N/A"}},{"$f":"VLOOKUP(C936,Kode!A2:C1008,3,FALSE)","v":{"$error":"#N/A"}},null,{"$f":"VLOOKUP(C936,Kode!A2:D1008,4,FALSE)","v":{"$error":"#N/A"}},null,null,null,null,null,null,null,null,null,{"$f":"VLOOKUP(C936,Kode!A2:E1008,5,FALSE)","v":{"$error":"#N/A"}},null,null,null,null,null,{"$error":"#DIV/0!"}]
[{"$f":"VLOOKUP(C937,Kode!A2:C1008,2,FALSE)","v":{"$error":"#N/A"}},{"$f":"VLOOKUP(C937,Kode!A2:C1008,3,FALSE)","v":{"$error":"#N/A"}},null,{"$f":"VLOOKUP(C937,Kode!A2:D1008,4,FALSE)","v":{"$error":"#N/A"}},null,null,null,null,null,null,null,null,null,{"$f":"VLOOKUP(C937,Kode!A2:E1008,5,FALSE)","v":{"$error":"#N/A"}},null,null,null,null,null,{"$error":"#DIV/0!"}]
[{"$f":"VLOOKUP(C938,Kode!A2:C1008,2,FALSE)","v":{"$error":"#N/A"}},{"$f":"VLOOKUP(C938,Kode!A2:C1008,3,FALSE)","v":{"$error":"#N/A"}},null,{"$f":"VLOOKUP(C938,Kode!A2:D1008,4,FALSE)","v":{"$error":"#N/A"}},null,null,null,null,null,null,null,null,null,{"$f":"VLOOKUP(C938,Kode!A2:E1008,5,FALSE)","v":{"$error":"#N/A"}},null,null,null,null,null,{"$error":"#DIV/0!"}]
[{"$f":"VLOOKUP(C939,Kode!A2:C1008,2,FALSE)","v":{"$error":"#N/A"}},{"$f":"VLOOKUP(C939,Kode!A2:C1008,3,FALSE)","v":{"$error":"#N/A"}},null,{"$f":"VLOOKUP(C939,Kode!A2:D1008,4,FALSE)","v":{"$error":"#N/A"}},null,null,null,null,null,null,null,null,null,{"$f":"VLOOKUP(C939,Kode!A2:E1008,5,FALSE)","v":{"$error":"#N/A"}},null,null,null,null,null,{"$error":"#DIV/0!"}]
[{"$f":"VLOOKUP(C940,Kode!A2:C1008,2,FALSE)","v":{"$error":"#N/A"}},{"$f":"VLOOKUP(C940,Kode!A2:C1008,3,FALSE)","v":{"$error":"#N/A"}},null,{"$f":"VLOOKUP(C940,Kode!A2:D1008,4,FALSE)","v":{"$error":"#N/A"}},null,null,null,null,null,null,null,null,null,{"$f":"VLOOKUP(C940,Kode!A2:E1008,5,FALSE)","v":{"$error":"#N/A"}},null,null,null,null,null,{"$error":"#DIV/0!"}]
[{"$f":"VLOOKUP(C941,Kode!A2:C1008,2,FALSE)","v":{"$error":"#N/A"}},{"$f":"VLOOKUP(C941,Kode!A2:C1008,3,FALSE)","v":{"$error":"#N/A"}},null,{"$f":"VLOOKUP(C941,Kode!A2:D1008,4,FALSE)","v":{"$error":"#N/A"}},null,null,null,null,null,null,null,null,null,{"$f":"VLOOKUP(C941,Kode!A2:E1008,5,FALSE)","v":{"$error":"#N/A"}},null,null,null,null,null,{"$error":"#DIV/0!"}]
[{"$f":"VLOOKUP(C942,Kode!A2:C1008,2,FALSE)","v":{"$error":"#N/A"}},{"$f":"VLOOKUP(C942,Kode!A2:C1008,3,FALSE)","v":{"$error":"#N/A"}},null,{"$f":"VLOOKUP(C942,Kode!A2:D1008,4,FALSE)","v":{"$error":"#N/A"}},null,null,null,null,null,null,null,null,null,{"$f":"VLOOKUP(C942,Kode!A2:E1008,5,FALSE)","v":{"$error":"#N/A"}},null,null,null,null,null,{"$error":"#DIV/0!"}]
[{"$f":"VLOOKUP(C943,Kode!A2:C1008,2,FALSE)","v":{"$error":"#N/A"}},{"$f":"VLOOKUP(C943,Kode!A2:C1008,3,FALSE)","v":{"$error":"#N/A"}},null,{"$f":"VLOOKUP(C943,Kode!A2:D1008,4,FALSE)","v":{"$error":"#N/A"}},null,null,null,null,null,null,null,null,null,{"$f":"VLOOKUP(C943,Kode!A2:E1008,5,FALSE)","v":{"$error":"#N/A"}},null,null,null,null,null,{"$error":"#DIV/0!"}]
[{"$f":"VLOOKUP(C944,Kode!A2:C1008,2,FALSE)","v":{"$error":"#N/A"}},{"$f":"VLOOKUP(C944,Kode!A2:C1008,3,FALSE)","v":{"$error":"#N/A"}},null,{"$f":"VLOOKUP(C944,Kode!A2:D1008,4,FALSE)","v":{"$error":"#N/A"}},null,null,null,null,null,null,null,null,null,{"$f":"VLOOKUP(C944,Kode!A2:E1008,5,FALSE)","v":{"$error":"#N/A"}},null,null,null,null,null,{"$error":"#DIV/0!"}]
[{"$f":"VLOOKUP(C945,Kode!A2:C1008,2,FALSE)","v":{"$error":"#N/A"}},{"$f":"VLOOKUP(C945,Kode!A2:C1008,3,FALSE)","v":{"$error":"#N/A"}},null,{"$f":"VLOOKUP(C945,Kode!A2:D1008,4,FALSE)","v":{"$error":"#N/A"}},null,null,null,null,null,null,null,null,null,{"$f":"VLOOKUP(C945,Kode!A2:E1008,5,FALSE)","v":{"$error":"#N/A"}},null,null,null,null,null,{"$error":"#DIV/0!"}]
[{"$f":"VLOOKUP(C946,Kode!A2:C1008,2,FALSE)","v":{"$error":"#N/A"}},{"$f":"VLOOKUP(C946,Kode!A2:C1008,3,FALSE)","v":{"$error":"#N/A"}},null,{"$f":"VLOOKUP(C946,Kode!A2:D1008,4,FALSE)","v":{"$error":"#N/A"}},null,null,null,null,null,null,null,null,null,{"$f":"VLOOKUP(C946,Kode!A2:E1008,5,FALSE)","v":{"$error":"#N/A"}},null,null,null,null,null,{"$error":"#DIV/0!"}]
[{"$f":"VLOOKUP(C947,Kode!A2:C1008,2,FALSE)","v":{"$error":"#N/A"}},{"$f":"VLOOKUP(C947,Kode!A2:C1008,3,FALSE)","v":{"$error":"#N/A"}},null,{"$f":"VLOOKUP(C947,Kode!A2:D1008,4,FALSE)","v":{"$error":"#N/A"}},null,null,null,null,null,null,null,null,null,{"$f":"VLOOKUP(C947,Kode!A2:E1008,5,FALSE)","v":{"$error":"#N/A"}},null,null,null,null,null,{"$error":"#DIV/0!"}]
[{"$f":"VLOOKUP(C948,Kode!A2:C1008,2,FALSE)","v":{"$error":"#N/A"}},{"$f":"VLOOKUP(C948,Kode!A2:C1008,3,FALSE)","v":{"$error":"#N/A"}},null,{"$f":"VLOOKUP(C948,Kode!A2:D1008,4,FALSE)","v":{"$error":"#N/A"}},null,null,null,null,null,null,null,null,null,{"$f":"VLOOKUP(C948,Kode!A2:E1008,5,FALSE)","v":{"$error":"#N/A"}},null,null,null,null,null,{"$error":"#DIV/0!"}]
[{"$f":"VLOOKUP(C949,Kode!A2:C1008,2,FALSE)","v":{"$error":"#N/A"}},{"$f":"VLOOKUP(C949,Kode!A2:C1008,3,FALSE)","v":{"$error":"#N/A"}},null,{"$f":"VLOOKUP(C949,Kode!A2:D1008,4,FALSE)","v":{"$error":"#N/A"}},null,null,null,null,null,null,null,null,null,{"$f":"VLOOKUP(C949,Kode!A2:E1008,5,FALSE)","v":{"$error":"#N/A"}},null,null,null,null,null,{"$error":"#DIV/0!"}]
[{"$f":"VLOOKUP(C950,Kode!A2:C1008,2,FALSE)","v":{"$error":"#N/A"}},{"$f":"VLOOKUP(C950,Kode!A2:C1008,3,FALSE)","v":{"$error":"#N/A"}},null,{"$f":"VLOOKUP(C950,Kode!A2:D1008,4,FALSE)","v":{"$error":"#N/A"}},null,null,null,null,null,null,null,null,null,{"$f":"VLOOKUP(C950,Kode!A2:E1008,5,FALSE)","v":{"$error":"#N/A"}},null,null,null,null,null,{"$error":"#DIV/0!"}]
[{"$f":"VLOOKUP(C951,Kode!A2:C1008,2,FALSE)","v":{"$error":"#N/A"}},{"$f":"VLOOKUP(C951,Kode!A2:C1008,3,FALSE)","v":{"$error":"#N/A"}},null,{"$f":"VLOOKUP(C951,Kode!A2:D1008,4,FALSE)","v":{"$error":"#N/A"}},null,null,null,null,null,null,null,null,null,{"$f":"VLOOKUP(C951,Kode!A2:E1008,5,FALSE)","v":{"$error":"#N/A"}},null,null,null,null,null,{"$error":"#DIV/0!"}]
[{"$f":"VLOOKUP(C952,Kode!A2:C1008,2,FALSE)","v":{"$error":"#N/A"}},{"$f":"VLOOKUP(C952,Kode!A2:C1008,3,FALSE)","v":{"$error":"#N/A"}},null,{"$f":"VLOOKUP(C952,Kode!A2:D1008,4,FALSE)","v":{"$error":"#N/A"}},null,null,null,null,null,null,null,null,null,{"$f":"VLOOKUP(C952,Kode!A2:E1008,5,FALSE)","v":{"$error":"#N/A"}},null,null,null,null,null,{"$error":"#DIV/0!"}]
[{"$f":"VLOOKUP(C953,Kode!A2:C1008,2,FALSE)","v":{"$error":"#N/A"}},{"$f":"VLOOKUP(C953,Kode!A2:C1008,3,FALSE)","v":{"$error":"#N/A"}},null,{"$f":"VLOOKUP(C953,Kode!A2:D1008,4,FALSE)","v":{"$error":"#N/A"}},null,null,null,null,null,null,null,null,null,{"$f":"VLOOKUP(C953,Kode!A2:E1008,5,FALSE)","v":{"$error":"#N/A"}},null,null,null,null,null,{"$error":"#DIV/0!"}]
[{"$f":"VLOOKUP(C954,Kode!A2:C1008,2,FALSE)","v":{"$error":"#N/A"}},{"$f":"VLOOKUP(C954,Kode!A2:C1008,3,FALSE)","v":{"$error":"#N/A"}},null,{"$f":"VLOOKUP(C954,Kode!A2:D1008,4,FALSE)","v":{"$error":"#N/A"}},null,null,null,null,null,null,null,null,null,{"$f":"VLOOKUP(C954,Kode!A2:E1008,5,FALSE)","v":{"$error":"#N/A"}},null,null,null,null,null,{"$error":"#DIV/0!"}]
[{"$f":"VLOOKUP(C955,Kode!A2:C1008,2,FALSE)","v":{"$error":"#N/A"}},{"$f":"VLOOKUP(C955,Kode!A2:C1008,3,FALSE)","v":{"$error":"#N/A"}},null,{"$f":"VLOOKUP(C955,Kode!A2:D1008,4,FALSE)","v":{"$error":"#N/A"}},null,null,null,null,null,null,null,null,null,{"$f":"VLOOKUP(C955,Kode!A2:E1008,5,FALSE)","v":{"$error":"#N/A"}},null,null,null,null,null,{"$error":"#DIV/0!"}]
[{"$f":"VLOOKUP(C956,Kode!A2:C1008,2,FALSE)","v":{"$error":"#N/A"}},{"$f":"VLOOKUP(C956,Kode!A2:C1008,3,FALSE)","v":{"$error":"#N/A"}},null,{"$f":"VLOOKUP(C956,Kode!A2:D1008,4,FALSE)","v":{"$error":"#N/A"}},null,null,null,null,null,null,null,null,null,{"$f":"VLOOKUP(C956,Kode!A2:E1008,5,FALSE)","v":{"$error":"#N/A"}},null,null,null,null,null,{"$error":"#DIV/0!"}]
[{"$f":"VLOOKUP(C957,Kode!A2:C1008,2,FALSE)","v":{"$error":"#N/A"}},{"$f":"VLOOKUP(C957,Kode!A2:C1008,3,FALSE)","v":{"$error":"#N/A"}},null,{"$f":"VLOOKUP(C957,Kode!A2:D1008,4,FALSE)","v":{"$error":"#N/A"}},null,null,null,null,null,null,null,null,null,{"$f":"VLOOKUP(C957,Kode!A2:E1008,5,FALSE)","v":{"$error":"#N/A"}},null,null,null,null,null,{"$error":"#DIV/0!"}]
[{"$f":"VLOOKUP(C958,Kode!A2:C1008,2,FALSE)","v":{"$error":"#N/A"}},{"$f":"VLOOKUP(C958,Kode!A2:C1008,3,FALSE)","v":{"$error":"#N/A"}},null,{"$f":"VLOOKUP(C958,Kode!A2:D1008,4,FALSE)","v":{"$error":"#N/A"}},null,null,null,null,null,null,null,null,null,{"$f":"VLOOKUP(C958,Kode!A2:E1008,5,FALSE)","v":{"$error":"#N/A"}},null,null,null,null,null,{"$error":"#DIV/0!"}]
[{"$f":"VLOOKUP(C959,Kode!A2:C1008,2,FALSE)","v":{"$error":"#N/A"}},{"$f":"VLOOKUP(C959,Kode!A2:C1008,3,FALSE)","v":{"$error":"#N/A"}},null,{"$f":"VLOOKUP(C959,Kode!A2:D1008,4,FALSE)","v":{"$error":"#N/A"}},null,null,null,null,null,null,null,null,null,{"$f":"VLOOKUP(C959,Kode!A2:E1008,5,FALSE)","v":{"$error":"#N/A"}},null,null,null,null,null,{"$error":"#DIV/0!"}]
[{"$f":"VLOOKUP(C960,Kode!A2:C1008,2,FALSE)","v":{"$error":"#N/A"}},{"$f":"VLOOKUP(C960,Kode!A2:C1008,3,FALSE)","v":{"$error":"#N/A"}},null,{"$f":"VLOOKUP(C960,Kode!A2:D1008,4,FALSE)","v":{"$error":"#N/A"}},null,null,null,null,null,null,null,null,null,{"$f":"VLOOKUP(C960,Kode!A2:E1008,5,FALSE)","v":{"$error":"#N/A"}},null,null,null,null,null,{"$error":"#DIV/0!"}]
[{"$f":"VLOOKUP(C961,Kode!A2:C1008,2,FALSE)","v":{"$error":"#N/A"}},{"$f":"VLOOKUP(C961,Kode!A2:C1008,3,FALSE)","v":{"$error":"#N/A"}},null,{"$f":"VLOOKUP(C961,Kode!A2:D1008,4,FALSE)","v":{"$error":"#N/A"}},null,null,null,null,null,null,null,null,null,{"$f":"VLOOKUP(C961,Kode!A2:E1008,5,FALSE)","v":{"$error":"#N/A"}},null,null,null,null,null,{"$error":"#DIV/0!"}]
[{"$f":"VLOOKUP(C962,Kode!A2:C1008,2,FALSE)","v":{"$error":"#N/A"}},{"$f":"VLOOKUP(C962,Kode!A2:C1008,3,FALSE)","v":{"$error":"#N/A"}},null,{"$f":"VLOOKUP(C962,Kode!A2:D1008,4,FALSE)","v":{"$error":"#N/A"}},null,null,null,null,null,null,null,null,null,{"$f":"VLOOKUP(C962,Kode!A2:E1008,5,FALSE)","v":{"$error":"#N/A"}},null,null,null,null,null,{"$f":"R962/P962*100","v":{"$error":"#DIV/0!"}}]
[{"$f":"VLOOKUP(C963,Kode!A2:C1008,2,FALSE)","v":{"$error":"#N/A"}},{"$f":"VLOOKUP(C963,Kode!A2:C1008,3,FALSE)","v":{"$error":"#N/A"}},null,{"$f":"VLOOKUP(C963,Kode!A2:D1008,4,FALSE)","v":{"$error":"#N/A"}},null,null,null,null,null,null,null,null,null,{"$f":"VLOOKUP(C963,Kode!A2:E1008,5,FALSE)","v":{"$error":"#N/A"}},null,null,null,null,null,{"$error":"#DIV/0!"}]
[{"$f":"VLOOKUP(C964,Kode!A2:C1008,2,FALSE)","v":{"$error":"#N/A"}},{"$f":"VLOOKUP(C964,Kode!A2:C1008,3,FALSE)","v":{"$error":"#N/A"}},null,{"$f":"VLOOKUP(C964,Kode!A2:D1008,4,FALSE)","v":{"$error":"#N/A"}},null,null,null,null,null,null,null,null,null,{"$f":"VLOOKUP(C964,Kode!A2:E1008,5,FALSE)","v":{"$error":"#N/A"}},null,null,null,null,null,{"$error":"#DIV/0!"}]
[{"$f":"VLOOKUP(C965,Kode!A2:C1008,2,FALSE)","v":{"$error":"#N/A"}},{"$f":"VLOOKUP(C965,Kode!A2:C1008,3,FALSE)","v":{"$error":"#N/A"}},null,{"$f":"VLOOKUP(C965,Kode!A2:D1008,4,FALSE)","v":{"$error":"#N/A"}},null,null,null,null,null,null,null,null,null,{"$f":"VLOOKUP(C965,Kode!A2:E1008,5,FALSE)","v":{"$error":"#N/A"}},null,null,null,null,null,{"$error":"#DIV/0!"}]
[{"$f":"VLOOKUP(C966,Kode!A2:C1008,2,FALSE)","v":{"$error":"#N/A"}},{"$f":"VLOOKUP(C966,Kode!A2:C1008,3,FALSE)","v":{"$error":"#N/A"}},null,{"$f":"VLOOKUP(C966,Kode!A2:D1008,4,FALSE)","v":{"$error":"#N/A"}},null,null,null,null,null,null,null,null,null,{"$f":"VLOOKUP(C966,Kode!A2:E1008,5,FALSE)","v":{"$error":"#N/A"}},null,null,null,null,null,{"$error":"#DIV/0!"}]
[{"$f":"VLOOKUP(C967,Kode!A2:C1008,2,FALSE)","v":{"$error":"#N/A"}},{"$f":"VLOOKUP(C967,Kode!A2:C1008,3,FALSE)","v":{"$error":"#N/A"}},null,{"$f":"VLOOKUP(C967,Kode!A2:D1008,4,FALSE)","v":{"$error":"#N/A"}},null,null,null,null,null,null,null,null,null,{"$f":"VLOOKUP(C967,Kode!A2:E1008,5,FALSE)","v":{"$error":"#N/A"}},null,null,null,null,null,{"$error":"#DIV/0!"}]
[{"$f":"VLOOKUP(C968,Kode!A2:C1008,2,FALSE)","v":{"$error":"#N/A"}},{"$f":"VLOOKUP(C968,Kode!A2:C1008,3,FALSE)","v":{"$error":"#N/A"}},null,{"$f":"VLOOKUP(C968,Kode!A2:D1008,4,FALSE)","v":{"$error":"#N/A"}},null,null,null,null,null,null,null,null,null,{"$f":"VLOOKUP(C968,Kode!A2:E1008,5,FALSE)","v":{"$error":"#N/A"}},null,null,null,null,null,{"$error":"#DIV/0!"}]
[{"$f":"VLOOKUP(C969,Kode!A2:C1008,2,FALSE)","v":{"$error":"#N/A"}},{"$f":"VLOOKUP(C969,Kode!A2:C1008,3,FALSE)","v":{"$error":"#N/A"}},null,{"$f":"VLOOKUP(C969,Kode!A2:D1008,4,FALSE)","v":{"$error":"#N/A"}},null,null,null,null,null,null,null,null,null,{"$f":"VLOOKUP(C969,Kode!A2:E1008,5,FALSE)","v":{"$error":"#N/A"}},null,null,null,null,null,{"$error":"#DIV/0!"}]
[{"$f":"VLOOKUP(C970,Kode!A2:C1008,2,FALSE)","v":{"$error":"#N/A"}},{"$f":"VLOOKUP(C970,Kode!A2:C1008,3,FALSE)","v":{"$error":"#N/A"}},null,{"$f":"VLOOKUP(C970,Kode!A2:D1008,4,FALSE)","v":{"$error":"#N/A"}},null,null,null,null,null,null,null,null,null,{"$f":"VLOOKUP(C970,Kode!A2:E1008,5,FALSE)","v":{"$error":"#N/A"}},null,null,null,null,null,{"$error":"#DIV/0!"}]
[{"$f":"VLOOKUP(C971,Kode!A2:C1008,2,FALSE)","v":{"$error":"#N/A"}},{"$f":"VLOOKUP(C971,Kode!A2:C1008,3,FALSE)","v":{"$error":"#N/A"}},null,{"$f":"VLOOKUP(C971,Kode!A2:D1008,4,FALSE)","v":{"$error":"#N/A"}},null,null,null,null,null,null,null,null,null,{"$f":"VLOOKUP(C971,Kode!A2:E1008,5,FALSE)","v":{"$error":"#N/A"}},null,null,null,null,null,{"$error":"#DIV/0!"}]
[{"$f":"VLOOKUP(C972,Kode!A2:C1008,2,FALSE)","v":{"$error":"#N/A"}},{"$f":"VLOOKUP(C972,Kode!A2:C1008,3,FALSE)","v":{"$error":"#N/A"}},null,{"$f":"VLOOKUP(C972,Kode!A2:D1008,4,FALSE)","v":{"$error":"#N/A"}},null,null,null,null,null,null,null,null,null,{"$f":"VLOOKUP(C972,Kode!A2:E1008,5,FALSE)","v":{"$error":"#N/A"}},null,null,null,null,null,{"$error":"#DIV/0!"}]
[{"$f":"VLOOKUP(C973,Kode!A2:C1008,2,FALSE)","v":{"$error":"#N/A"}},{"$f":"VLOOKUP(C973,Kode!A2:C1008,3,FALSE)","v":{"$error":"#N/A"}},null,{"$f":"VLOOKUP(C973,Kode!A2:D1008,4,FALSE)","v":{"$error":"#N/A"}},null,null,null,null,null,null,null,null,null,{"$f":"VLOOKUP(C973,Kode!A2:E1008,5,FALSE)","v":{"$error":"#N/A"}},null,null,null,null,null,{"$error":"#DIV/0!"}]
[{"$f":"VLOOKUP(C974,Kode!A2:C1008,2,FALSE)","v":{"$error":"#N/A"}},{"$f":"VLOOKUP(C974,Kode!A2:C1008,3,FALSE)","v":{"$error":"#N/A"}},null,{"$f":"VLOOKUP(C974,Kode!A2:D1008,4,FALSE)","v":{"$error":"#N/A"}},null,null,null,null,null,null,null,null,null,{"$f":"VLOOKUP(C974,Kode!A2:E1008,5,FALSE)","v":{"$error":"#N/A"}},null,null,null,null,null,{"$error":"#DIV/0!"}]
[{"$f":"VLOOKUP(C975,Kode!A2:C1008,2,FALSE)","v":{"$error":"#N/A"}},{"$f":"VLOOKUP(C975,Kode!A2:C1008,3,FALSE)","v":{"$error":"#N/A"}},null,{"$f":"VLOOKUP(C975,Kode!A2:D1008,4,FALSE)","v":{"$error":"#N/A"}},null,null,null,null,null,null,null,null,null,{"$f":"VLOOKUP(C975,Kode!A2:E1008,5,FALSE)","v":{"$error":"#N/A"}},null,null,null,null,null,{"$error":"#DIV/0!"}]
[{"$f":"VLOOKUP(C976,Kode!A2:C1008,2,FALSE)","v":{"$error":"#N/A"}},{"$f":"VLOOKUP(C976,Kode!A2:C1008,3,FALSE)","v":{"$error":"#N/A"}},null,{"$f":"VLOOKUP(C976,Kode!A2:D1008,4,FALSE)","v":{"$error":"#N/A"}},null,null,null,null,null,null,null,null,null,{"$f":"VLOOKUP(C976,Kode!A2:E1008,5,FALSE)","v":{"$error":"#N/A"}},null,null,null,null,null,{"$error":"#DIV/0!"}]
[{"$f":"VLOOKUP(C977,Kode!A2:C1008,2,FALSE)","v":{"$error":"#N/A"}},{"$f":"VLOOKUP(C977,Kode!A2:C1008,3,FALSE)","v":{"$error":"#N/A"}},null,{"$f":"VLOOKUP(C977,Kode!A2:D1008,4,FALSE)","v":{"$error":"#N/A"}},null,null,null,null,null,null,null,null,null,{"$f":"VLOOKUP(C977,Kode!A2:E1008,5,FALSE)","v":{"$error":"#N/A"}},null,null,null,null,null,{"$error":"#DIV/0!"}]
[{"$f":"VLOOKUP(C978,Kode!A2:C1008,2,FALSE)","v":{"$error":"#N/A"}},{"$f":"VLOOKUP(C978,Kode!A2:C1008,3,FALSE)","v":{"$error":"#N/A"}},null,{"$f":"VLOOKUP(C978,Kode!A2:D1008,4,FALSE)","v":{"$error":"#N/A"}},null,null,null,null,null,null,null,null,null,{"$f":"VLOOKUP(C978,Kode!A2:E1008,5,FALSE)","v":{"$error":"#N/A"}},null,null,null,null,null,{"$error":"#DIV/0!"}]
[{"$f":"VLOOKUP(C979,Kode!A2:C1008,2,FALSE)","v":{"$error":"#N/A"}},{"$f":"VLOOKUP(C979,Kode!A2:C1008,3,FALSE)","v":{"$error":"#N/A"}},null,{"$f":"VLOOKUP(C979,Kode!A2:D1008,4,FALSE)","v":{"$error":"#N/A"}},null,null,null,null,null,null,null,null,null,{"$f":"VLOOKUP(C979,Kode!A2:E1008,5,FALSE)","v":{"$error":"#N/A"}},null,null,null,null,null,{"$error":"#DIV/0!"}]
[{"$f":"VLOOKUP(C980,Kode!A2:C1008,2,FALSE)","v":{"$error":"#N/A"}},{"$f":"VLOOKUP(C980,Kode!A2:C1008,3,FALSE)","v":{"$error":"#N/A"}},null,{"$f":"VLOOKUP(C980,Kode!A2:D1008,4,FALSE)","v":{"$error":"#N/A"}},null,null,null,null,null,null,null,null,null,{"$f":"VLOOKUP(C980,Kode!A2:E1008,5,FALSE)","v":{"$error":"#N/A"}},null,null,null,null,null,{"$error":"#DIV/0!"}]
[{"$f":"VLOOKUP(C981,Kode!A2:C1008,2,FALSE)","v":{"$error":"#N/A"}},{"$f":"VLOOKUP(C981,Kode!A2:C1008,3,FALSE)","v":{"$error":"#N/A"}},null,{"$f":"VLOOKUP(C981,Kode!A2:D1008,4,FALSE)","v":{"$error":"#N/A"}},null,null,null,null,null,null,null,null,null,{"$f":"VLOOKUP(C981,Kode!A2:E1008,5,FALSE)","v":{"$error":"#N/A"}},null,null,null,null,null,{"$error":"#DIV/0!"}]
[{"$f":"VLOOKUP(C982,Kode!A2:C1008,2,FALSE)","v":{"$error":"#N/A"}},{"$f":"VLOOKUP(C982,Kode!A2:C1008,3,FALSE)","v":{"$error":"#N/A"}},null,{"$f":"VLOOKUP(C982,Kode!A2:D1008,4,FALSE)","v":{"$error":"#N/A"}},null,null,null,null,null,null,null,null,null,{"$f":"VLOOKUP(C982,Kode!A2:E1008,5,FALSE)","v":{"$error":"#N/A"}},null,null,null,null,null,{"$error":"#DIV/0!"}]
[{"$f":"VLOOKUP(C983,Kode!A2:C1008,2,FALSE)","v":{"$error":"#N/A"}},{"$f":"VLOOKUP(C983,Kode!A2:C1008,3,FALSE)","v":{"$error":"#N/A"}},null,{"$f":"VLOOKUP(C983,Kode!A2:D1008,4,FALSE)","v":{"$error":"#N/A"}},null,null,null,null,null,null,null,null,null,{"$f":"VLOOKUP(C983,Kode!A2:E1008,5,FALSE)","v":{"$error":"#N/A"}},null,null,null,null,null,{"$error":"#DIV/0!"}]
[{"$f":"VLOOKUP(C984,Kode!A2:C1008,2,FALSE)","v":{"$error":"#N/A"}},{"$f":"VLOOKUP(C984,Kode!A2:C1008,3,FALSE)","v":{"$error":"#N/A"}},null,{"$f":"VLOOKUP(C984,Kode!A2:D1008,4,FALSE)","v":{"$error":"#N/A"}},null,null,null,null,null,null,null,null,null,{"$f":"VLOOKUP(C984,Kode!A2:E1008,5,FALSE)","v":{"$error":"#N/A"}},null,null,null,null,null,{"$error":"#DIV/0!"}]
[{"$f":"VLOOKUP(C985,Kode!A2:C1008,2,FALSE)","v":{"$error":"#N/A"}},{"$f":"VLOOKUP(C985,Kode!A2:C1008,3,FALSE)","v":{"$error":"#N/A"}},null,{"$f":"VLOOKUP(C985,Kode!A2:D1008,4,FALSE)","v":{"$error":"#N/A"}},null,null,null,null,null,null,null,null,null,{"$f":"VLOOKUP(C985,Kode!A2:E1008,5,FALSE)","v":{"$error":"#N/A"}},null,null,null,null,null,{"$error":"#DIV/0!"}]
[{"$f":"VLOOKUP(C986,Kode!A2:C1008,2,FALSE)","v":{"$error":"#N/A"}},{"$f":"VLOOKUP(C986,Kode!A2:C1008,3,FALSE)","v":{"$error":"#N/A"}},null,{"$f":"VLOOKUP(C986,Kode!A2:D1008,4,FALSE)","v":{"$error":"#N/A"}},null,null,null,null,null,null,null,null,null,{"$f":"VLOOKUP(C986,Kode!A2:E1008,5,FALSE)","v":{"$error":"#N/A"}},null,null,null,null,null,{"$error":"#DIV/0!"}]
[{"$f":"VLOOKUP(C987,Kode!A2:C1008,2,FALSE)","v":{"$error":"#N/A"}},{"$f":"VLOOKUP(C987,Kode!A2:C1008,3,FALSE)","v":{"$error":"#N/A"}},null,{"$f":"VLOOKUP(C987,Kode!A2:D1008,4,FALSE)","v":{"$error":"#N/A"}},null,null,null,null,null,null,null,null,null,{"$f":"VLOOKUP(C987,Kode!A2:E1008,5,FALSE)","v":{"$error":"#N/A"}},null,null,null,null,null,{"$error":"#DIV/0!"}]
[{"$f":"VLOOKUP(C988,Kode!A2:C1008,2,FALSE)","v":{"$error":"#N/A"}},{"$f":"VLOOKUP(C988,Kode!A2:C1008,3,FALSE)","v":{"$error":"#N/A"}},null,{"$f":"VLOOKUP(C988,Kode!A2:D1008,4,FALSE)","v":{"$error":"#N/A"}},null,null,null,null,null,null,null,null,null,{"$f":"VLOOKUP(C988,Kode!A2:E1008,5,FALSE)","v":{"$error":"#N/A"}},null,null,null,null,null,{"$error":"#DIV/0!"}]
[{"$f":"VLOOKUP(C989,Kode!A2:C1008,2,FALSE)","v":{"$error":"#N/A"}},{"$f":"VLOOKUP(C989,Kode!A2:C1008,3,FALSE)","v":{"$error":"#N/A"}},null,{"$f":"VLOOKUP(C989,Kode!A2:D1008,4,FALSE)","v":{"$error":"#N/A"}},null,null,null,null,null,null,null,null,null,{"$f":"VLOOKUP(C989,Kode!A2:E1008,5,FALSE)","v":{"$error":"#N/A"}},null,null,null,null,null,{"$error":"#DIV/0!"}]
[{"$f":"VLOOKUP(C990,Kode!A2:C1008,2,FALSE)","v":{"$error":"#N/A"}},{"$f":"VLOOKUP(C990,Kode!A2:C1008,3,FALSE)","v":{"$error":"#N/A"}},null,{"$f":"VLOOKUP(C990,Kode!A2:D1008,4,FALSE)","v":{"$error":"#N/A"}},null,null,null,null,null,null,null,null,null,{"$f":"VLOOKUP(C990,Kode!A2:E1008,5,FALSE)","v":{"$error":"#N/A"}},null,null,null,null,null,{"$error":"#DIV/0!"}]
[{"$f":"VLOOKUP(C991,Kode!A2:C1008,2,FALSE)","v":{"$error":"#N/A"}},{"$f":"VLOOKUP(C991,Kode!A2:C1008,3,FALSE)","v":{"$error":"#N/A"}},null,{"$f":"VLOOKUP(C991,Kode!A2:D1008,4,FALSE)","v":{"$error":"#N/A"}},null,null,null,null,null,null,null,null,null,{"$f":"VLOOKUP(C991,Kode!A2:E1008,5,FALSE)","v":{"$error":"#N/A"}},null,null,null,null,null,{"$error":"#DIV/0!"}]
[{"$f":"VLOOKUP(C992,Kode!A2:C1008,2,FALSE)","v":{"$error":"#N/A"}},{"$f":"VLOOKUP(C992,Kode!A2:C1008,3,FALSE)","v":{"$error":"#N/A"}},null,{"$f":"VLOOKUP(C992,Kode!A2:D1008,4,FALSE)","v":{"$error":"#N/A"}},null,null,null,null,null,null,null,null,null,{"$f":"VLOOKUP(C992,Kode!A2:E1008,5,FALSE)","v":{"$error":"#N/A"}},null,null,null,null,null,{"$error":"#DIV/0!"}]
[{"$f":"VLOOKUP(C993,Kode!A2:C1008,2,FALSE)","v":{"$error":"#N/A"}},{"$f":"VLOOKUP(C993,Kode!A2:C1008,3,FALSE)","v":{"$error":"#N/A"}},null,{"$f":"VLOOKUP(C993,Kode!A2:D1008,4,FALSE)","v":{"$error":"#N/A"}},null,null,null,null,null,null,null,null,null,{"$f":"VLOOKUP(C993,Kode!A2:E1008,5,FALSE)","v":{"$error":"#N/A"}},null,null,null,null,null,{"$error":"#DIV/0!"}]
[{"$f":"VLOOKUP(C994,Kode!A2:C1008,2,FALSE)","v":{"$error":"#N/A"}},{"$f":"VLOOKUP(C994,Kode!A2:C1008,3,FALSE)","v":{"$error":"#N/A"}},null,{"$f":"VLOOKUP(C994,Kode!A2:D1008,4,FALSE)","v":{"$error":"#N/A"}},null,null,null,null,null,null,null,null,null,{"$f":"VLOOKUP(C994,Kode!A2:E1008,5,FALSE)","v":{"$error":"#N/A"}},null,null,null,null,null,{"$error":"#DIV/0!"}]
[{"$f":"VLOOKUP(C995,Kode!A2:C1008,2,FALSE)","v":{"$error":"#N/A"}},{"$f":"VLOOKUP(C995,Kode!A2:C1008,3,FALSE)","v":{"$error":"#N/A"}},null,{"$f":"VLOOKUP(C995,Kode!A2:D1008,4,FALSE)","v":{"$error":"#N/A"}},null,null,null,null,null,null,null,null,null,{"$f":"VLOOKUP(C995,Kode!A2:E1008,5,FALSE)","v":{"$error":"#N/A"}},null,null,null,null,null,{"$error":"#DIV/0!"}]
[{"$f":"VLOOKUP(C996,Kode!A2:C1008,2,FALSE)","v":{"$error":"#N/A"}},{"$f":"VLOOKUP(C996,Kode!A2:C1008,3,FALSE)","v":{"$error":"#N/A"}},null,{"$f":"VLOOKUP(C996,Kode!A2:D1008,4,FALSE)","v":{"$error":"#N/A"}},null,null,null,null,null,null,null,null,null,{"$f":"VLOOKUP(C996,Kode!A2:E1008,5,FALSE)","v":{"$error":"#N/A"}},null,null,null,null,null,{"$error":"#DIV/0!"}]
[{"$f":"VLOOKUP(C997,Kode!A2:C1008,2,FALSE)","v":{"$error":"#N/A"}},{"$f":"VLOOKUP(C997,Kode!A2:C1008,3,FALSE)","v":{"$error":"#N/A"}},null,{"$f":"VLOOKUP(C997,Kode!A2:D1008,4,FALSE)","v":{"$error":"#N/A"}},null,null,null,null,null,null,null,null,null,{"$f":"VLOOKUP(C997,Kode!A2:E1008,5,FALSE)","v":{"$error":"#N/A"}},null,null,null,null,null,{"$error":"#DIV/0!"}]
[{"$f":"VLOOKUP(C998,Kode!A2:C1008,2,FALSE)","v":{"$error":"#N/A"}},{"$f":"VLOOKUP(C998,Kode!A2:C1008,3,FALSE)","v":{"$error":"#N/A"}},null,{"$f":"VLOOKUP(C998,Kode!A2:D1008,4,FALSE)","v":{"$error":"#N/A"}},null,null,null,null,null,null,null,null,null,{"$f":"VLOOKUP(C998,Kode!A2:E1008,5,FALSE)","v":{"$error":"#N/A"}},null,null,null,null,null,{"$error":"#DIV/0!"}]
[{"$f":"VLOOKUP(C999,Kode!A2:C1008,2,FALSE)","v":{"$error":"#N/A"}},{"$f":"VLOOKUP(C999,Kode!A2:C1008,3,FALSE)","v":{"$error":"#N/A"}},null,{"$f":"VLOOKUP(C999,Kode!A2:D1008,4,FALSE)","v":{"$error":"#N/A"}},null,null,null,null,null,null,null,null,null,{"$f":"VLOOKUP(C999,Kode!A2:E1008,5,FALSE)","v":{"$error":"#N/A"}},null,null,null,null,null,{"$error":"#DIV/0!"}]
[{"$f":"VLOOKUP(C1000,Kode!A2:C1008,2,FALSE)","v":{"$error":"#N/A"}},{"$f":"VLOOKUP(C1000,Kode!A2:C1008,3,FALSE)","v":{"$error":"#N/A"}},null,{"$f":"VLOOKUP(C1000,Kode!A2:D1008,4,FALSE)","v":{"$error":"#N/A"}},null,null,null,null,null,null,null,null,null,{"$f":"VLOOKUP(C1000,Kode!A2:E1008,5,FALSE)","v":{"$error":"#N/A"}},null,null,null,null,null,{"$error":"#DIV/0!"}]

{"sheet":"Kode","index":1,"n_rows":443,"n_cols":7,"rows_kept":443,"cut":false,"hidden":true,"merged":[]}
["Št. Priglasitve","Naziv dajalca pomoči","MŠ dajalca pomoči","Naziv sheme pomoči/ime prejemnika individualne ad hoc pomoči","Pravna podlaga sheme pomoči","Šifra občine","Šifra instrumenta"]
["KDM-001-5940117-2024","Slovenski regionalno razvojni sklad",5940117000,"Pomoč de minimis primarni kmetijski proizvodnji","Pravilnik o dodeljevanju spodbud v kmetijskem in gozdarskem sektorju, sektorju ribištva in akvakulture ter na podeželju",null,1]
["KDM-002-5883113-2024","Občina Šalovci",5883113000,"De minimis pomoč za ohranjanje oz. povečanje rodovitnosti tal v Občini Šalovci","Pravilnik o ohranjanju in spodbujanju razvoja kmetijstva in podeželja v Občini Šalovci",null,5]
["KDM-003-5883075-2023","Občina Gornji Petrovci ",5883075000,"De minimis pomoč za ohranjanje oz. povečevanje rodovitnosti tal v Občini Gornji Petrovci","Pravilnik o ohranjanju in spodbujanju razvoja kmetijstva in podeželja v Občini Gornji Petrovci",null,10]
["KDM-003-5883903-2024","Mestna občina Slovenj Gradec",5883903000,"Ukrep 4: Podpora za tekoče poslovanje v kmetijski proizvodnji","Pravilnik o ohranjanju in spodbujanju razvoja kmetijstva in podeželja v Mestni občini Slovenj Gradec",null,20]
["KDM-004-2399253-2023","Ministrstvo za kmetijstvo, gozdarstvo in prehrano",2399253000,"Finančna pomoč ob nepredvidljivih dogodkih v kmetijstvu za leti 2024 in 2025","Uredba o pomoči ob nepredvidljivih dogodkih v kmetijstvu",null,25]
["KDM-005-5881544-2023","Občina Žalec",5881544000,"UKREP 2: Pomoč za ohranjanje narave","Pravilnik o ohranjanju in spodbujanju razvoja kmetijstva in podeželja v občini Žalec",null,28]
["KDM-005-5882958-2024","Občina Trebnje",5882958000,"Podpora za tekoče poslovanje v primarni kmetijski proizvodnji","Pravilnik o ohranjanju in spodbujanju razvoja kmetijstva in podeželja v Občini Trebnje",null,40]
["KDM-006-5883016-2023","Občina Beltinci",5883016000,"Podpora ohranjanju oziroma povečevanju rodovitnosti tal","Pravilnik o ohranjanju in spodbujanju razvoja kmetijstva, gozdarstva in podeželja v Občini Beltinci",null,43]
["KDM-007-1357441-2024","Občina Hajdina",1357441000,"Pomoč kmetijskim gospodarstvom v primarni kmetijski proizvodnji v Občini Hajdina","Pravilnik o dodeljevanju pomoči za ohranjanje in razvoj kmetijstva ter podeželja v Občini Hajdina",null,48]
["KDM-008-2399253-2023","Ministrstvo za kmetijstvo, gozdarstvo in prehrano",2399253000,"Finančna podpora za izvajanje ukrepa odpravljanje zaraščanja na kmetijskih zemljiščih","Uredba o izvajanju ukrepa odpravljanje zaraščanja na kmetijskih zemljiščih",null,50]
["KDM-008-5883008-2024","Občina Sevnica",5883008000,"Podpora za tekoče poslovanje v primarni kmetijski proizvodnji","Pravilnik o ohranjanju in spodbujanju razvoja kmetijstva in podeželja v Občini Sevnica",null,70]
["KDM-009-5883288-2024","Mestna občina Novo mesto",5883288000,"Podpore za tekoče poslovanje v primarni kmetijski proizvodnji","Pravilnik o ohranjanju in spodbujanju razvoja kmetijstva in podeželja v Mestni občini Novo mesto",null,75]
["KDM-010-2399253-2024","Ministrstvo za kmetijstvo, gozdarstvo in prehrano",2399253000,"Finančna pomoč za 100-odstotno uničenje kmetijskih pridelkov, trajnih nasadov in izgubo plemenske živine zaradi pozebe, neurij s točo in poplav leta 2023","Odlok o finančni pomoči za odpravo posledic škode v kmetijstvu zaradi pozebe, neurij s točo in poplav leta 2023"]
["KDM-011-5874572-2024","Mestna občina Krško",5874572000,"Podpora za tekoče poslovanje v primarni kmetijski proizvodnji v Mestni občini Krško","Pravilnik o ohranjanju in spodbujanju razvoja kmetijstva, gozdarstva in podeželja v Mestni občini Krško"]
["KDM-012-1357603-2024","Občina Polzela",1357603000,"Pomoč za tekoče stroške primarne kmetijske proizvodnje","Pravilnik o ohranjanju in spodbujanju razvoja kmetijstva in podeželja v Občini Polzela"]
["KDM-013-5883512-2024","Občina Postojna",5883512000,"Pomoč za primarno kmetijsko proizvodnjo v Občini Postojna","Pravilnik o ohranjanju in spodbujanju razvoja kmetijstva, gozdarstva in podeželja v Občini Postojna"]
["KDM-014-5884268-2024","Mestna občina Velenje",5884268000,"Podpora za tekoče poslovanje v primarni kmetijski proizvodnji","Pravilnik o ohranjanju in spodbujanju razvoja kemtijstva, gozdarstva in podeželja v Mestni občini Velenje"]
["KDM-015-5881455-2024","Občina Tolmin",5881455000,"Dodeljevanje pomoči de minimis v primarni kmetijski proizvodnji v Občini Tolmin","Pravilnik o dodeljevanju pomoči za ohranjanje in spodbujanje razvoja kmetijstva, gozdarstva in podeželja v Občini Tolmin"]
["KDM-017-5883164-2024","Občina Moravske Toplice",5883164000,"Podpora ohranjanju oziroma povečevanju rodovitnosti tal","Pravilnik o ohranjanju in spodbujanju razvoja kmetijstva in podeželja v Občini Moravske Toplice"]
["KDM-018-1365789-2024","Občina Cankova",1365789000,"Podpora ohranjanju oziroma povečanju rodovitnosti tal na območju Občine Cankova v skladu z uredbo 1408/2013","Pravilnik o ohranjanju in spodbujanju razvoja kmetijstva in podeželja v Občini Cankova"]
["KDM-019-5883954-2024","Občina Mislinja",5883954000,"Dodeljevanje pomoči de minimis v primarni kmetijski proizvodnji v Občini Mislinja","Pravilnik o ohranjanju in spodbujanju razvoja kmetijstva in podeželja v Občini Mislinja "]
["KDM-020-1365673-2024","Občina Grad",1365673000,"Podpora ohranjanju oziroma povečanju rodovitnosti tal na območju Občine Grad v skladu z uredbo 1408/2013","Pravilnik o ohranjanju in spodbujanju razvoja kmetijstva in podeželja v Občini Grad"]
["KDM-021-5874335-2024","Občina Jesenice",5874335000,"Podpora za tekoče poslovanje v primarni kmetijski proizvodnji v Občini Jesenice","Pravilnik o ohranjanju in spodbujanju razvoja kmetijstva, gozdarstva in podeželja v Občini Jesenice"]
["KDM-022-1357557-2024","Občina Braslovče ",1357557000,"Spodbujanje razvoja kmetijstva in podeželja v Občini Braslovče","Pravilnik o ohranjanju in spodbujanju razvoja kmetijstva in podeželja v Občini Braslovče"]
["KDM-023-2241145-2024","Občina Straža",2241145000,"Ukrepi de minimis za podporo ohranjanju in spodbujanju razvoja kmetijstva in podeželja v Občini Straža","Pravilnik o ohranjanju in spodbujanju razvoja kmetijstva in podeželja v Občini Straža"]
["KDM-024-5880254-2024","Občina Črnomelj",5880254000,"UKREP 10: Podpora za tekoče poslovanje v primarni kmetijski proizvodnji","Pravilnik o ohranjanju in spodbujanju razvoja kmetijstva, gozdarstva in podeželja v občini Črnomelj"]
["KDM-025-5883300-2024","Občina Duplek",5883300000,"Ohranjanje in razvoj kmetijstva in podeželja v Občini Duplek","Pravilnik o dodeljevanju pomoči za ohranjanje in razvoj kmetijstva ter podeželja v Občini Duplek "]
["KDM-026-5874785-2024","Občina Velike Lašče",5874785000,"Pomoči de minimis za ohranjanje in spodbujanje razvoja kmetijstva in podeželja v Občini Velike Lašče","Pravilnik o spremembah in dopolnitvah Pravilnika o ohranjanju in spodbujanju razvoja kmetijstva in podeželja v Občini Velike Lašče"]
["KDM-026-5880351-2024","Občina Dravograd",5880351000,"Spodbujanje razvoja kmetijstva v Občini Dravograd","Pravilnik o ohranjanju in spodbujanju razvoja kmetijstva, gozdarstva in podeželja v Občini Dravograd"]
["KDM-027-1357344-2024","Občina Hodoš",1357344000,"Ohranjanje in spodbujanje razvoja kmetijstva in podeželja v Občini Hodoš","Pravilnik o ohranjanju in spodbujanju razvoja kmetijstva in podeželja v Občini Hodoš"]
["KDM-028-5884284-2024","Občina Šoštanj",5884284000,"Pomoč de minimis za ohranjanje in razvoj kmetijstva, gozdarstva in podeželja v Občini Šoštanj","Pravilnik o ohranjanju in spodbujanju razvoja kmetijstva, gozdarstva in podeželja v Občini Šoštanj"]
["KDM-029-5874726-2024","Občina Črenšovci",5874726000,"Podpora ohranjanju oziroma povečevanju rodovitnosti tal na območju Občine Črenšovci","Pravilnik o ohranjanju in spodbujanju razvoja kmetijstva in podeželja v Občini Črenšovci"]
["KDM-030-5883237-2024","Občina Puconci",5883237000,"Podpora ohranjanju oziroma povečanju rodovitnosti tal na območju Občine Puconci","Pravilnik o ohranjanju in spodbujanju razvoja kmetijstva in podeželja v Občini Puconci"]
["KDM-031-1357883-2024","Občina Lovrenc na Pohorju",1357883000,"Podpora ohranjanju in povečevanju rodovitnosti tal v Občini Lovrenc na Pohorju","Pravilnik o ohranjanju in spodbujanju razvoja kmetijstva in podeželja v Občini Lovrenc na Pohorju"]
["KDM-032-5884276-2024","Občina Šmartno ob Paki",5884276000,"Pomoč za ohranjanje in spodbujanje razvoja kmetijstva, gozdarstva in podeželja v Občini Šmartno ob Paki","Pravilnik o ohranjanju in spodbujanju razvoja kmetijstva, gozdarstva in podeželja v Občini Šmartno ob Paki"]
["KDM-033-5880297-2024","Občina Radenci",5880297000,"Pomoč čebelarstvu v Občini Radenci","Pravilnik o ohranjanju in spodbujanju razvoja kmetijstva in podeželja v občini Radenci"]
["KDM-034-5883121-2024","Občina Kuzma",5883121000,"Podpora ohranjanju oziroma povečanju rodovitnosti tal na območju Občine Kuzma","Pravilnik o ohranjanju in spodbujanju razvoja kmetijstva in podeželja v Občini Kuzma"]
["KDM-035-2241153-2024","Občina Šentrupert",2241153000,"Podpora za tekoče poslovanje v primarni kmetijski proizvodnji v Občini Šentrupert","Pravilnik o ohranjanju in spodbujanju razvoja kmetijstva, gozdarstva in podeželja v Občini Šentrupert"]
["KDM-036-5874092-2024","Občina Ljutomer",5874092000,"Ohranjanje in spodbujanje razvoja kmetijstva, gozdarstva in podeželja v Občini Ljutomer","Pravilnik o ohranjanju in spodbujanju razvoja kmetijstva in podeželja v Občini Ljutomer"]
["KDM-037-5883865-2024","Občina Ribnica",5883865000,"Pomoči de minimis za ohranjanje in spodbujanje razvoja kmetijstva in podeželja v Občini Ribnica","Pravilnik o ohranjanju in spodbujanju razvoja kmetijstva in podeželja v Občini Ribnica"]
["KDM-038-1357492-2024","Občina Markovci",1357492000,"Pomoč kmetijskim gospodarstvom v Občini Markovci","Pravilnik o dodeljevanju pomoči za ohranjanje in razvoj kmetijstva ter podeželja v Občini Markovci"]
["KDM-039-5874327-2024","Občina Kranjska gora","5874327000 ","Pomoči de minimis kmetijskim gospodarstvom v Občini Kranjska Gora","Pravilnik o dodelitvi pomoči za ohranjanje in razvoj kmetijstva, gozdarstva in podeželja v Občini Kranjska Gora"]
["KDM-040-5883466-2024","Občina Radovljica",5883466000,"Podpora za tekoče poslovanje v primarni kmetijski proizvodnji v Občini Radovljica","Pravilnik o dodelitvi pomoči za ohranjanje in razvoj kmetijstva, gozdarstva in podeželja v Občini Radovljica"]
["KDM-041-5880254-2024","Občina Črnomelj",5880254000,"Pomoči de minimis za delno oprostitev plačila komunalnega prispevka v Občini Črnomelj","Pravilnik o merilih za delno oprostitev pri odmeri in plačilu komunalnega prispevka za območje občine Črnomelj"]
["KDM-042-2209721-2024","Občina Gorje",2209721000,"Pomoč za tekoče poslovanje v primarni kmetijski proizvodnji v Občini Gorje","Pravilnik o dodelitvi pomoči za ohranjanje in spodbujanje razvoja kmetijstva, gozdarstva in podeželja v Občini Gorje"]
["KDM-044-5880505-2024","Občina Moravče",5880505000,"Podpore za ohranjanje in spodbujanje razvoja kmetijstva in podeželja v Občini Moravče","Pravilnik o ohranjanju in spodbujanju razvoja kmetijstva in podeželja v Občini Moravče"]
["KDM-045-1332147-2024","Občina Križevci",1332147000,"Ohranjanje in spodbujanje razvoja kmetijstva in podeželja v Občini Križevci – de minimis","Pravilnik o ohranjanju in spodbujanju razvoja kmetijstva in podeželja v Občini Križevci"]
["KDM-046-5881463-2025","Občina Kobarid",5881463000,"Pomoč sektorju živinoreje","Pravilnik o ohranjanju in spodbujanju razvoja kmetijstva in podeželja v občini Kobarid"]
["KDM-047-5886252-2025","Občina Dobrepolje",5886252000,"Pomoč čebelarstvu v Občini Dobrepolje","Pravilnik o ohranjanju in spodbujanju razvoja kmetijstva in podeželja v Občini Dobrepolje"]
["KDM-048-5883067-2025","Občina Tišina",5883067000,"Pomoč de minimis za ohranjanje in povečevanje rodovitnosti tal v Občini Tišina","Pravilnik o ohranjanju in spodbujanju razvoja kmetijstva in podeželja v Občini Tišina"]
["KDM-049-2399253-2025","Ministrstvo za kmetijstvo, gozdarstvo in prehrano",2399253000,"Finančna pomoč za 100-odstotno uničenje kmetijskih pridelkov zaradi pozebe leta 2024","Odlok o finančni pomoči za odpravo posledic škode v kmetijstvu zaradi pozebe leta 2024"]
["KDM-050-5163846-2025","Javni zavod Triglavski narodni park",5163846000,"Pomoč za ohranjanje in razvoj kmetijstva ter podeželja na območju Triglavskega narodnega parka","Pravilnik o pomoči za ohranjanje in razvoj kmetijstva ter podeželja na območju Triglavskega narodnega parka"]
["KDM-051-5883148-2025","Občina Železniki",5883148000,"Znižanje komunalnega prispevka kmetijskim gospodarstvom v Občini Železniki","Odlok o podlagah za odmero komunalnega prispevka za obstoječo komunalno opremo na območju Občine Železniki"]
["KDM-052-5883709-2025","Občina Kidričevo",5883709000,"Pomoč de minimis v primarni kmetijski proizvodnji v Občini Kidričevo","Pravilnik o ohranjanju in spodbujanju razvoja kmetijstva in podeželja v Občini Kidričevo"]
["KDM-053-5883547-2025","Občina Tržič",5883547000,"Ohranjanje in spodbujanje razvoja kmetijstva in podeželja v Občini Tržič","Pravilnik o ohranjanju in spodbujanju razvoja kmetijstva in podeželja v Občini Tržič"]
["KDM-054-5729963-2025","Sklad kmetijskih zemljišč in gozdov Republike Slovenije",5729963000,"Odpis zakupnine v letu 2025 zaradi pozebe v letu 2024","Pravilnik o zakupu kmetij in kmetijskih zemljišč "]
["KDM-055-2943271-2025","Fundacija Srce podeželja – ustanova za pomoč podeželju",2943271000,"Pomoč Fundacije Srce podeželja – ustanove za pomoč podeželju","Pravilnik o merilih in načinu dodeljevanja pomoči Fundacije Srce podeželja – ustanova za pomoč podeželju"]
["KDM-056-2399253-2025","Ministrstvo za kmetijstvo, gozdarstvo in prehrano",2399253000,"Podpora za rejo odbranih in potrjenih plemenjakov ogroženih slovenskih avtohtonih pasem domačih živali za leto 2025","Program varstva biotske raznovrstnosti v slovenski živinoreji za leto 2025"]
["KDM-057-2399253-2025","Ministrstvo za kmetijstvo, gozdarstvo in prehrano",2399253000,"Finančna pomoči zaradi pogina ovc v letu 2025","Odlok o dodelitvi finančne pomoči zaradi pogina ovc v letu 2025"]
["KDM-058-5874637-2025","Občina Vodice",5874637000,"Pomoč kmetijskim gospodarstvom v Občini Vodice","Pravilnik o ohranjanju in spodbujanju razvoja kmetijstva in podeželja Občine Vodice"]
["K-M003-1332171-2019","Občina Veržej",1332171000,"De minimis pomoč za ohranjanje oziroma povečevanje rodovitnosti tal v Občini Veržej za programsko obdobje 2019–2020","Pravilnik o ohranjanju in spodbujanju razvoja kmetijstva in podeželja v Občini Veržej za programsko obdobje 2019–2020"]
["K-M003-5883687-2019","Občina Ormož",5883687000,"Olajšave za primarne kmetijske proizvajalce pri plačilu komunalnega prispevka za nestanovanjske stavbe v Občini Ormož za obdobje 2019–2027","Pravilnik o podrobnejših kriterijih in merilih za olajšave plačila komunalnega prispevka za nestanovanjske kmetijske stavbe v Občini Ormož (Uradni vestnik Občine Ormož, št. 18/18)"]
["K-M004-1358278-2015","Občina Podlehnik",1358278000,"Pomoči za ohranjanje in razvoj kmetijstva ter podeželja v občini Podlehnik","Pravilnik o dodeljevanju pomoči za ohranjanje in razvoj kmetijstva ter podeželja v Občini Podlehnik za obdobje 2014 - 2020"]
["K-M004-5874637-2017","Občina Vodice",5874637000,"Olajšave plačila komunalnega prispevka za nestanovanjske kmetijske stavbe v Občini Vodice","Pravilnik o podrobnejših kriterijih in merilih za olajšave plačila komunalnega prispevka za nestanovanjske kmetijske stavbe v Občini Vodice"]
["K-M005-2242770-2022","Občina Cirkulane",2242770000,"Dodeljevanje sredstev za ohranjanje in razvoj kmetijstva ter podeželja v Občini Cirkulane","Pravilnik o dodeljevanju pomoči za ohranjanje in razvoj kmetijstva ter podeželja v Občini Cirkulane"]
["K-M013-5883750-2015","Občina Juršinci",5883750000,"Dodeljevanje de minimis pomoči za ohranjanje in razvoj kmetijstva v Občini Juršinci v obdobju 2015 - 2020","Pravilnik o dodeljevanju pomoči za ohranjanje in razvoj kmetijstva ter podeželja v Občini Juršinci za obdobje 2015-2020"]
["RDM-001-2399334-2023","Uprava Republike Slovenije za varno hrano, veterinarstvo in varstvo rastlin",2399334000,"Pomoč za kritje stroškov odstranitve in uničenja poginulih živali v ribištvu in akvakulturi","Pravilnik o izvajanju javne veterinarske službe zbiranja, prevoza, skladiščenja in ravnanja z živalskimi trupli kot vrste živalskih stranskih proizvodov, ki niso namenjeni prehrani ljudi"]
["RDM-001-5874424-2024","Mestna občina Koper","5874424000 ","Pomoč de minimis v primarni ribiški in akvakulturni proizvodnji v Mestni občini Koper","Pravilnik o ohranjanju in spodbujanju razvoja ribištva in akvakulture v Mestni občini Koper"]
["RDM-001-5883873-2025","Občina Piran",5883873000,"Pomoč za ohranjanje in spodbujanje ribištva in akvakulture v Občini Piran","Pravilnik o ohranjanju in spodbujanju razvoja ribištva in akvakulture v Občini Piran"]
["RDM-002-5874190-2024","Občina Izola",5874190000,"Pomoč de minimis v primarni ribiški in akvakulturni proizvodnji v Občini Izola","Pravilnik o pomoči za ohranjanje in razvoj ribištva in marikulture v Občini Izola"]
[]
[]
[]
[]
[]
[]
[]
[]
[]
[]
[]
[]
[]
[]
[]
[]
[]
[]
[]
[]
[]
[]
[]
[]
[]
[]
[]
[]
[]
[]
[]
[]
[]
[]
[]
[]
[]
[]
[]
[]
[]
[]
[]
[]
[]
[]
[]
[]
[]
[]
[]
[]
[]
[]
[]
[]
[]
[]
[]
[]
[]
[]
[]
[]
[]
[]
[]
[]
[]
[]
[]
[]
[]
[]
[]
[]
[]
[]
[]
[]
[]
[]
[]
[]
[]
[]
[]
[]
[]
[]
[]
[]
[]
[]
[]
[]
[]
[]
[]
[]
[]
[]
[]
[]
[]
[]
[]
[]
[]
[]
[]
[]
[]
[]
[]
[]
[]
[]
[]
[]
[]
[]
[]
[]
[]
[]
[]
[]
[]
[]
[]
[]
[]
[]
[]
[]
[]
[]
[]
[]
[]
[]
[]
[]
[]
[]
[]
[]
[]
[]
[]
[]
[]
[]
[]
[]
[]
[]
[]
[]
[null,null,null,null,null,"001"]
[null,null,null,null,null,"002"]
[null,null,null,null,null,"003"]
[null,null,null,null,null,"004"]
[null,null,null,null,null,"005"]
[null,null,null,null,null,"006"]
[null,null,null,null,null,"007"]
[null,null,null,null,null,"008"]
[null,null,null,null,null,"009"]
[null,null,null,null,null,"010"]
[null,null,null,null,null,"011"]
[null,null,null,null,null,"012"]
[null,null,null,null,null,"013"]
[null,null,null,null,null,"014"]
[null,null,null,null,null,"015"]
[null,null,null,null,null,"016"]
[null,null,null,null,null,"017"]
[null,null,null,null,null,"018"]
[null,null,null,null,null,"019"]
[null,null,null,null,null,"020"]
[null,null,null,null,null,"021"]
[null,null,null,null,null,"022"]
[null,null,null,null,null,"023"]
[null,null,null,null,null,"024"]
[null,null,null,null,null,"025"]
[null,null,null,null,null,"026"]
[null,null,null,null,null,"027"]
[null,null,null,null,null,"028"]
[null,null,null,null,null,"029"]
[null,null,null,null,null,"030"]
[null,null,null,null,null,"031"]
[null,null,null,null,null,"032"]
[null,null,null,null,null,"033"]
[null,null,null,null,null,"034"]
[null,null,null,null,null,"035"]
[null,null,null,null,null,"036"]
[null,null,null,null,null,"037"]
[null,null,null,null,null,"038"]
[null,null,null,null,null,"039"]
[null,null,null,null,null,"040"]
[null,null,null,null,null,"041"]
[null,null,null,null,null,"042"]
[null,null,null,null,null,"043"]
[null,null,null,null,null,"044"]
[null,null,null,null,null,"045"]
[null,null,null,null,null,"046"]
[null,null,null,null,null,"047"]
[null,null,null,null,null,"048"]
[null,null,null,null,null,"049"]
[null,null,null,null,null,"050"]
[null,null,null,null,null,"051"]
[null,null,null,null,null,"052"]
[null,null,null,null,null,"053"]
[null,null,null,null,null,"054"]
[null,null,null,null,null,"055"]
[null,null,null,null,null,"056"]
[null,null,null,null,null,"057"]
[null,null,null,null,null,"058"]
[null,null,null,null,null,"059"]
[null,null,null,null,null,"060"]
[null,null,null,null,null,"061"]
[null,null,null,null,null,"062"]
[null,null,null,null,null,"063"]
[null,null,null,null,null,"064"]
[null,null,null,null,null,"065"]
[null,null,null,null,null,"066"]
[null,null,null,null,null,"067"]
[null,null,null,null,null,"068"]
[null,null,null,null,null,"069"]
[null,null,null,null,null,"070"]
[null,null,null,null,null,"071"]
[null,null,null,null,null,"072"]
[null,null,null,null,null,"073"]
[null,null,null,null,null,"074"]
[null,null,null,null,null,"075"]
[null,null,null,null,null,"076"]
[null,null,null,null,null,"077"]
[null,null,null,null,null,"078"]
[null,null,null,null,null,"079"]
[null,null,null,null,null,"080"]
[null,null,null,null,null,"081"]
[null,null,null,null,null,"082"]
[null,null,null,null,null,"083"]
[null,null,null,null,null,"084"]
[null,null,null,null,null,"085"]
[null,null,null,null,null,"086"]
[null,null,null,null,null,"087"]
[null,null,null,null,null,"088"]
[null,null,null,null,null,"089"]
[null,null,null,null,null,"090"]
[null,null,null,null,null,"091"]
[null,null,null,null,null,"092"]
[null,null,null,null,null,"093"]
[null,null,null,null,null,"094"]
[null,null,null,null,null,"095"]
[null,null,null,null,null,"096"]
[null,null,null,null,null,"097"]
[null,null,null,null,null,"098"]
[null,null,null,null,null,"099"]
[null,null,null,null,null,"100"]
[null,null,null,null,null,"101"]
[null,null,null,null,null,"102"]
[null,null,null,null,null,"103"]
[null,null,null,null,null,"104"]
[null,null,null,null,null,"105"]
[null,null,null,null,null,"106"]
[null,null,null,null,null,"107"]
[null,null,null,null,null,"108"]
[null,null,null,null,null,"109"]
[null,null,null,null,null,"110"]
[null,null,null,null,null,"111"]
[null,null,null,null,null,"112"]
[null,null,null,null,null,"113"]
[null,null,null,null,null,"114"]
[null,null,null,null,null,"115"]
[null,null,null,null,null,"116"]
[null,null,null,null,null,"117"]
[null,null,null,null,null,"118"]
[null,null,null,null,null,"119"]
[null,null,null,null,null,"120"]
[null,null,null,null,null,"121"]
[null,null,null,null,null,"122"]
[null,null,null,null,null,"123"]
[null,null,null,null,null,"124"]
[null,null,null,null,null,"125"]
[null,null,null,null,null,"126"]
[null,null,null,null,null,"127"]
[null,null,null,null,null,"128"]
[null,null,null,null,null,"129"]
[null,null,null,null,null,"130"]
[null,null,null,null,null,"131"]
[null,null,null,null,null,"132"]
[null,null,null,null,null,"133"]
[null,null,null,null,null,"134"]
[null,null,null,null,null,"135"]
[null,null,null,null,null,"136"]
[null,null,null,null,null,"137"]
[null,null,null,null,null,"138"]
[null,null,null,null,null,"139"]
[null,null,null,null,null,"140"]
[null,null,null,null,null,"141"]
[null,null,null,null,null,"142"]
[null,null,null,null,null,"143"]
[null,null,null,null,null,"144"]
[null,null,null,null,null,"146"]
[null,null,null,null,null,"147"]
[null,null,null,null,null,"148"]
[null,null,null,null,null,"149"]
[null,null,null,null,null,"150"]
[null,null,null,null,null,"151"]
[null,null,null,null,null,"152"]
[null,null,null,null,null,"153"]
[null,null,null,null,null,"154"]
[null,null,null,null,null,"155"]
[null,null,null,null,null,"156"]
[null,null,null,null,null,"157"]
[null,null,null,null,null,"158"]
[null,null,null,null,null,"159"]
[null,null,null,null,null,"160"]
[null,null,null,null,null,"161"]
[null,null,null,null,null,"162"]
[null,null,null,null,null,"163"]
[null,null,null,null,null,"164"]
[null,null,null,null,null,"165"]
[null,null,null,null,null,"166"]
[null,null,null,null,null,"167"]
[null,null,null,null,null,"168"]
[null,null,null,null,null,"169"]
[null,null,null,null,null,"170"]
[null,null,null,null,null,"171"]
[null,null,null,null,null,"172"]
[null,null,null,null,null,"173"]
[null,null,null,null,null,"174"]
[null,null,null,null,null,"175"]
[null,null,null,null,null,"176"]
[null,null,null,null,null,"177"]
[null,null,null,null,null,"178"]
[null,null,null,null,null,"179"]
[null,null,null,null,null,"180"]
[null,null,null,null,null,"181"]
[null,null,null,null,null,"182"]
[null,null,null,null,null,"183"]
[null,null,null,null,null,"184"]
[null,null,null,null,null,"185"]
[null,null,null,null,null,"186"]
[null,null,null,null,null,"187"]
[null,null,null,null,null,"188"]
[null,null,null,null,null,"189"]
[null,null,null,null,null,"190"]
[null,null,null,null,null,"191"]
[null,null,null,null,null,"192"]
[null,null,null,null,null,"193"]
[null,null,null,null,null,"194"]
[null,null,null,null,null,"195"]
[null,null,null,null,null,"196"]
[null,null,null,null,null,"197"]
[null,null,null,null,null,"198"]
[null,null,null,null,null,"199"]
[null,null,null,null,null,"200"]
[null,null,null,null,null,"201"]
[null,null,null,null,null,"202"]
[null,null,null,null,null,"203"]
[null,null,null,null,null,"204"]
[null,null,null,null,null,"205"]
[null,null,null,null,null,"206"]
[null,null,null,null,null,"207"]
[null,null,null,null,null,"208"]
[null,null,null,null,null,"209"]
[null,null,null,null,null,"210"]
[null,null,null,null,null,"211"]
[null,null,null,null,null,"212"]
[null,null,null,null,null,"213"]